{
 "currentVersion": 10.91,
 "serviceDescription": "Coastal/Summer2024_Bathy_DEM_tif",
 "name": "Coastal/Summer2024_Bathy_DEM_tif",
 "description": "",
 "extent": {
  "xmin": 433705.1040000003,
  "ymin": 4693486.620999999,
  "xmax": 435851.1040000003,
  "ymax": 4704647.620999999,
  "spatialReference": {
   "wkid": 26916,
   "latestWkid": 26916
  }
 },
 "initialExtent": {
  "xmin": 433705.1040000003,
  "ymin": 4693486.620999999,
  "xmax": 435851.1040000003,
  "ymax": 4704647.620999999,
  "spatialReference": {
   "wkid": 26916,
   "latestWkid": 26916
  }
 },
 "fullExtent": {
  "xmin": 433705.1040000003,
  "ymin": 4693486.620999999,
  "xmax": 435851.1040000003,
  "ymax": 4704647.620999999,
  "spatialReference": {
   "wkid": 26916,
   "latestWkid": 26916
  }
 },
 "hasMultidimensions": false,
 "pixelSizeX": 1,
 "pixelSizeY": 1,
 "datasetFormat": "TIFF",
 "uncompressedSize": 95806024,
 "blockWidth": 128,
 "blockHeight": 128,
 "compressionType": "None",
 "bandNames": [
  "raster"
 ],
 "allowCopy": true,
 "allowAnalysis": true,
 "bandCount": 1,
 "noDataValue": -3.4028234663852886E38,
 "noDataValues": [
  -3.4028234663852886E38
 ],
 "pixelType": "F32",
 "minPixelSize": 0,
 "maxPixelSize": 0,
 "copyrightText": "",
 "serviceDataType": "esriImageServiceDataTypeThematic",
 "serviceSourceType": "esriImageServiceSourceTypeDataset",
 "minValues": [
  164.55804443359
 ],
 "maxValues": [
  176.49853515625
 ],
 "meanValues": [
  169.54113324421
 ],
 "stdvValues": [
  2.1414994060527
 ],
 "objectIdField": "",
 "fields": [],
 "capabilities": "Image,Metadata,Mensuration",
 "defaultMosaicMethod": "Center",
 "allowedMosaicMethods": "",
 "sortField": "",
 "sortValue": null,
 "sortAscending": true,
 "mosaicOperator": "First",
 "defaultCompressionQuality": 75,
 "defaultResamplingMethod": "Bilinear",
 "maxImageHeight": 4100,
 "maxImageWidth": 15000,
 "allowRasterFunction": true,
 "rasterFunctionInfos": [
  {
   "name": "None",
   "description": "",
   "help": ""
  }
 ],
 "rasterTypeInfos": [
  {
   "name": "Raster Dataset",
   "description": "Supports all ArcGIS Raster Datasets",
   "help": ""
  }
 ],
 "mensurationCapabilities": "Basic",
 "hasHistograms": true,
 "hasColormap": false,
 "hasRasterAttributeTable": false,
 "minScale": 0,
 "maxScale": 0,
 "exportTilesAllowed": false,
 "supportsStatistics": false,
 "supportsAdvancedQueries": false,
 "editFieldsInfo": null,
 "ownershipBasedAccessControlForRasters": null,
 "allowComputeTiePoints": false,
 "useStandardizedQueries": true,
 "advancedQueryCapabilities": {
  "useStandardizedQueries": true,
  "supportsStatistics": false,
  "supportsOrderBy": false,
  "supportsDistinct": false,
  "supportsPagination": false
 },
 "spatialReference": {
  "wkid": 26916,
  "latestWkid": 26916
 }
}
