{
 "currentVersion": 10.91,
 "serviceDescription": "Elevation/IL_Alexander_DSM_2009",
 "name": "Elevation/IL_Alexander_DSM_2009",
 "description": "",
 "extent": {
  "xmin": 2484960.38539964,
  "ymin": 111066.98372452933,
  "xmax": 2598664.2448937027,
  "ymax": 245074.4609974904,
  "spatialReference": {
   "wkid": 103038,
   "latestWkid": 6457
  }
 },
 "initialExtent": {
  "xmin": 2484960.38539964,
  "ymin": 111066.98372452933,
  "xmax": 2598664.2448937027,
  "ymax": 245074.4609974904,
  "spatialReference": {
   "wkid": 103038,
   "latestWkid": 6457
  }
 },
 "fullExtent": {
  "xmin": 2484960.38539964,
  "ymin": 111066.98372452933,
  "xmax": 2598664.2448937027,
  "ymax": 245074.4609974904,
  "spatialReference": {
   "wkid": 103038,
   "latestWkid": 6457
  }
 },
 "hasMultidimensions": false,
 "pixelSizeX": 4.499915287876468,
 "pixelSizeY": 4.499915287876463,
 "datasetFormat": "GRID",
 "uncompressedSize": 3009924160,
 "blockWidth": 256,
 "blockHeight": 16,
 "compressionType": "None",
 "bandNames": [
  "alexander_dsm"
 ],
 "allowCopy": true,
 "allowAnalysis": true,
 "bandCount": 1,
 "noDataValue": -3.4028234663852886E38,
 "noDataValues": [
  -3.4028234663852886E38
 ],
 "pixelType": "F32",
 "minPixelSize": 0,
 "maxPixelSize": 0,
 "copyrightText": "",
 "serviceDataType": "esriImageServiceDataTypeGeneric",
 "serviceSourceType": "esriImageServiceSourceTypeDataset",
 "minValues": [
  256.9760437011719
 ],
 "maxValues": [
  1059.2454833984375
 ],
 "meanValues": [
  393.91209510275405
 ],
 "stdvValues": [
  102.68397443258435
 ],
 "objectIdField": "",
 "fields": [],
 "capabilities": "Image,Metadata,Mensuration",
 "defaultMosaicMethod": "Center",
 "allowedMosaicMethods": "",
 "sortField": "",
 "sortValue": null,
 "sortAscending": true,
 "mosaicOperator": "First",
 "defaultCompressionQuality": 75,
 "defaultResamplingMethod": "Bilinear",
 "maxImageHeight": 4100,
 "maxImageWidth": 15000,
 "allowRasterFunction": true,
 "rasterFunctionInfos": [
  {
   "name": "None",
   "description": "",
   "help": ""
  }
 ],
 "rasterTypeInfos": [
  {
   "name": "Raster Dataset",
   "description": "Supports all ArcGIS Raster Datasets",
   "help": ""
  }
 ],
 "mensurationCapabilities": "Basic",
 "hasHistograms": false,
 "hasColormap": false,
 "hasRasterAttributeTable": false,
 "minScale": 0,
 "maxScale": 0,
 "exportTilesAllowed": false,
 "supportsStatistics": false,
 "supportsAdvancedQueries": false,
 "editFieldsInfo": null,
 "ownershipBasedAccessControlForRasters": null,
 "allowComputeTiePoints": false,
 "useStandardizedQueries": true,
 "advancedQueryCapabilities": {
  "useStandardizedQueries": true,
  "supportsStatistics": false,
  "supportsOrderBy": false,
  "supportsDistinct": false,
  "supportsPagination": false
 },
 "spatialReference": {
  "wkid": 103038,
  "latestWkid": 6457
 }
}
