{
 "currentVersion": 10.91,
 "serviceDescription": "Elevation/IL_Alexander_DTM_2020",
 "name": "Elevation/IL_Alexander_DTM_2020",
 "description": "",
 "extent": {
  "xmin": 2481973.3427745774,
  "ymin": 111272.50006103516,
  "xmax": 2599999.3427745774,
  "ymax": 245999.50006103516,
  "spatialReference": {
   "wkt": "PROJCS[\"NAD_1983_2011_StatePlane_Illinois_West_FIPS_1202_Ft_US\",GEOGCS[\"GCS_NAD_1983_2011\",DATUM[\"D_NAD_1983_2011\",SPHEROID[\"GRS_1980\",6378137.0,298.257222101]],PRIMEM[\"Greenwich\",0.0],UNIT[\"Degree\",0.0174532925199433]],PROJECTION[\"Transverse_Mercator\"],PARAMETER[\"False_Easting\",2296583.333333333],PARAMETER[\"False_Northing\",0.0],PARAMETER[\"Central_Meridian\",-90.16666666666667],PARAMETER[\"Scale_Factor\",0.9999411764705882],PARAMETER[\"Latitude_Of_Origin\",36.66666666666666],UNIT[\"Foot_US\",0.3048006096012192]],VERTCS[\"NAVD88_height - Geoid12B (ftUS)\",VDATUM[\"North_American_Vertical_Datum_1988\"],PARAMETER[\"Vertical_Shift\",0.0],PARAMETER[\"Direction\",1.0],UNIT[\"Foot_US\",0.3048006096012192]]"
  }
 },
 "initialExtent": {
  "xmin": 2481973.3427745774,
  "ymin": 111272.50006103516,
  "xmax": 2599999.3427745774,
  "ymax": 245999.50006103516,
  "spatialReference": {
   "wkt": "PROJCS[\"NAD_1983_2011_StatePlane_Illinois_West_FIPS_1202_Ft_US\",GEOGCS[\"GCS_NAD_1983_2011\",DATUM[\"D_NAD_1983_2011\",SPHEROID[\"GRS_1980\",6378137.0,298.257222101]],PRIMEM[\"Greenwich\",0.0],UNIT[\"Degree\",0.0174532925199433]],PROJECTION[\"Transverse_Mercator\"],PARAMETER[\"False_Easting\",2296583.333333333],PARAMETER[\"False_Northing\",0.0],PARAMETER[\"Central_Meridian\",-90.16666666666667],PARAMETER[\"Scale_Factor\",0.9999411764705882],PARAMETER[\"Latitude_Of_Origin\",36.66666666666666],UNIT[\"Foot_US\",0.3048006096012192]],VERTCS[\"NAVD88_height - Geoid12B (ftUS)\",VDATUM[\"North_American_Vertical_Datum_1988\"],PARAMETER[\"Vertical_Shift\",0.0],PARAMETER[\"Direction\",1.0],UNIT[\"Foot_US\",0.3048006096012192]]"
  }
 },
 "fullExtent": {
  "xmin": 2481973.3427745774,
  "ymin": 111272.50006103516,
  "xmax": 2599999.3427745774,
  "ymax": 245999.50006103516,
  "spatialReference": {
   "wkt": "PROJCS[\"NAD_1983_2011_StatePlane_Illinois_West_FIPS_1202_Ft_US\",GEOGCS[\"GCS_NAD_1983_2011\",DATUM[\"D_NAD_1983_2011\",SPHEROID[\"GRS_1980\",6378137.0,298.257222101]],PRIMEM[\"Greenwich\",0.0],UNIT[\"Degree\",0.0174532925199433]],PROJECTION[\"Transverse_Mercator\"],PARAMETER[\"False_Easting\",2296583.333333333],PARAMETER[\"False_Northing\",0.0],PARAMETER[\"Central_Meridian\",-90.16666666666667],PARAMETER[\"Scale_Factor\",0.9999411764705882],PARAMETER[\"Latitude_Of_Origin\",36.66666666666666],UNIT[\"Foot_US\",0.3048006096012192]],VERTCS[\"NAVD88_height - Geoid12B (ftUS)\",VDATUM[\"North_American_Vertical_Datum_1988\"],PARAMETER[\"Vertical_Shift\",0.0],PARAMETER[\"Direction\",1.0],UNIT[\"Foot_US\",0.3048006096012192]]"
  }
 },
 "heightModelInfo": {
  "heightModel": "gravity_related_height",
  "vertCRS": "NAVD88_height - Geoid12B (ftUS)",
  "heightUnit": "us-foot"
 },
 "hasMultidimensions": false,
 "pixelSizeX": 1.5,
 "pixelSizeY": 1.5,
 "datasetFormat": "GRID",
 "uncompressedSize": 28268958048,
 "blockWidth": 256,
 "blockHeight": 16,
 "compressionType": "None",
 "bandNames": [
  "Band_1"
 ],
 "allowCopy": true,
 "allowAnalysis": true,
 "bandCount": 1,
 "noDataValue": 3.3999999521443642E38,
 "noDataValues": [
  3.3999999521443642E38
 ],
 "pixelType": "F32",
 "minPixelSize": 0,
 "maxPixelSize": 0,
 "copyrightText": "",
 "serviceDataType": "esriImageServiceDataTypeGeneric",
 "serviceSourceType": "esriImageServiceSourceTypeDataset",
 "minValues": [
  291.7361145019531
 ],
 "maxValues": [
  840.7968139648438
 ],
 "meanValues": [
  379.1960949549248
 ],
 "stdvValues": [
  94.89149448503566
 ],
 "objectIdField": "",
 "fields": [],
 "capabilities": "Image,Metadata,Mensuration",
 "defaultMosaicMethod": "Center",
 "allowedMosaicMethods": "",
 "sortField": "",
 "sortValue": null,
 "sortAscending": true,
 "mosaicOperator": "First",
 "defaultCompressionQuality": 75,
 "defaultResamplingMethod": "Bilinear",
 "maxImageHeight": 4100,
 "maxImageWidth": 15000,
 "allowRasterFunction": true,
 "rasterFunctionInfos": [
  {
   "name": "None",
   "description": "Make a Raster or Raster Dataset into a Function Raster Dataset.",
   "help": ""
  },
  {
   "name": "Color Ramp",
   "description": "Outputs a rendered raster.",
   "help": ""
  },
  {
   "name": "Hillshade",
   "description": "Generates a grayscale model of a terrain with the sun's relative position taken into account for shading the terrain.",
   "help": ""
  }
 ],
 "rasterTypeInfos": [
  {
   "name": "Raster Dataset",
   "description": "Supports all ArcGIS Raster Datasets",
   "help": ""
  }
 ],
 "mensurationCapabilities": "Basic",
 "hasHistograms": true,
 "hasColormap": false,
 "hasRasterAttributeTable": false,
 "minScale": 0,
 "maxScale": 0,
 "exportTilesAllowed": false,
 "supportsStatistics": false,
 "supportsAdvancedQueries": false,
 "editFieldsInfo": null,
 "ownershipBasedAccessControlForRasters": null,
 "allowComputeTiePoints": false,
 "useStandardizedQueries": true,
 "advancedQueryCapabilities": {
  "useStandardizedQueries": true,
  "supportsStatistics": false,
  "supportsOrderBy": false,
  "supportsDistinct": false,
  "supportsPagination": false
 },
 "spatialReference": {
  "wkt": "PROJCS[\"NAD_1983_2011_StatePlane_Illinois_West_FIPS_1202_Ft_US\",GEOGCS[\"GCS_NAD_1983_2011\",DATUM[\"D_NAD_1983_2011\",SPHEROID[\"GRS_1980\",6378137.0,298.257222101]],PRIMEM[\"Greenwich\",0.0],UNIT[\"Degree\",0.0174532925199433]],PROJECTION[\"Transverse_Mercator\"],PARAMETER[\"False_Easting\",2296583.333333333],PARAMETER[\"False_Northing\",0.0],PARAMETER[\"Central_Meridian\",-90.16666666666667],PARAMETER[\"Scale_Factor\",0.9999411764705882],PARAMETER[\"Latitude_Of_Origin\",36.66666666666666],UNIT[\"Foot_US\",0.3048006096012192]],VERTCS[\"NAVD88_height - Geoid12B (ftUS)\",VDATUM[\"North_American_Vertical_Datum_1988\"],PARAMETER[\"Vertical_Shift\",0.0],PARAMETER[\"Direction\",1.0],UNIT[\"Foot_US\",0.3048006096012192]]"
 }
}
