{
 "currentVersion": 10.91,
 "serviceDescription": "Elevation/IL_Bureau_DSM_2015",
 "name": "Elevation/IL_Bureau_DSM_2015",
 "description": "",
 "extent": {
  "xmin": 2378000.010039244,
  "ymin": 1631999.9998556525,
  "xmax": 2574000.010039244,
  "ymax": 1793999.9998556525,
  "spatialReference": {
   "wkt": "PROJCS[\"GRS_1980_Transverse_Mercator\",GEOGCS[\"GCS_GRS_1980\",DATUM[\"D_GRS_1980\",SPHEROID[\"GRS_1980\",6378137.0,298.257222101]],PRIMEM[\"Greenwich\",0.0],UNIT[\"Degree\",0.0174532925199433]],PROJECTION[\"Transverse_Mercator\"],PARAMETER[\"False_Easting\",2296583.333333333],PARAMETER[\"False_Northing\",0.0],PARAMETER[\"Central_Meridian\",-90.16666666666667],PARAMETER[\"Scale_Factor\",0.9999411764705882],PARAMETER[\"Latitude_Of_Origin\",36.66666666666666],UNIT[\"Foot_US\",0.3048006096012192]]"
  }
 },
 "initialExtent": {
  "xmin": 2378000.010039244,
  "ymin": 1631999.9998556525,
  "xmax": 2574000.010039244,
  "ymax": 1793999.9998556525,
  "spatialReference": {
   "wkt": "PROJCS[\"GRS_1980_Transverse_Mercator\",GEOGCS[\"GCS_GRS_1980\",DATUM[\"D_GRS_1980\",SPHEROID[\"GRS_1980\",6378137.0,298.257222101]],PRIMEM[\"Greenwich\",0.0],UNIT[\"Degree\",0.0174532925199433]],PROJECTION[\"Transverse_Mercator\"],PARAMETER[\"False_Easting\",2296583.333333333],PARAMETER[\"False_Northing\",0.0],PARAMETER[\"Central_Meridian\",-90.16666666666667],PARAMETER[\"Scale_Factor\",0.9999411764705882],PARAMETER[\"Latitude_Of_Origin\",36.66666666666666],UNIT[\"Foot_US\",0.3048006096012192]]"
  }
 },
 "fullExtent": {
  "xmin": 2378000.010039244,
  "ymin": 1631999.9998556525,
  "xmax": 2574000.010039244,
  "ymax": 1793999.9998556525,
  "spatialReference": {
   "wkt": "PROJCS[\"GRS_1980_Transverse_Mercator\",GEOGCS[\"GCS_GRS_1980\",DATUM[\"D_GRS_1980\",SPHEROID[\"GRS_1980\",6378137.0,298.257222101]],PRIMEM[\"Greenwich\",0.0],UNIT[\"Degree\",0.0174532925199433]],PROJECTION[\"Transverse_Mercator\"],PARAMETER[\"False_Easting\",2296583.333333333],PARAMETER[\"False_Northing\",0.0],PARAMETER[\"Central_Meridian\",-90.16666666666667],PARAMETER[\"Scale_Factor\",0.9999411764705882],PARAMETER[\"Latitude_Of_Origin\",36.66666666666666],UNIT[\"Foot_US\",0.3048006096012192]]"
  }
 },
 "hasMultidimensions": false,
 "pixelSizeX": 2,
 "pixelSizeY": 2,
 "datasetFormat": "GRID",
 "uncompressedSize": 31752000000,
 "blockWidth": 256,
 "blockHeight": 16,
 "compressionType": "None",
 "bandNames": [
  "bureau_dsm"
 ],
 "allowCopy": true,
 "allowAnalysis": true,
 "bandCount": 1,
 "noDataValue": -3.4028234663852886E38,
 "noDataValues": [
  -3.4028234663852886E38
 ],
 "pixelType": "F32",
 "minPixelSize": 0,
 "maxPixelSize": 0,
 "copyrightText": "",
 "serviceDataType": "esriImageServiceDataTypeGeneric",
 "serviceSourceType": "esriImageServiceSourceTypeDataset",
 "minValues": [
  240.9617156982422
 ],
 "maxValues": [
  1197.388916015625
 ],
 "meanValues": [
  702.5041679091943
 ],
 "stdvValues": [
  87.87759500871108
 ],
 "objectIdField": "",
 "fields": [],
 "capabilities": "Image,Metadata,Mensuration",
 "defaultMosaicMethod": "Center",
 "allowedMosaicMethods": "",
 "sortField": "",
 "sortValue": null,
 "sortAscending": true,
 "mosaicOperator": "First",
 "defaultCompressionQuality": 75,
 "defaultResamplingMethod": "Bilinear",
 "maxImageHeight": 4100,
 "maxImageWidth": 15000,
 "allowRasterFunction": true,
 "rasterFunctionInfos": [
  {
   "name": "None",
   "description": "Make a Raster or Raster Dataset into a Function Raster Dataset.",
   "help": ""
  },
  {
   "name": "Color Ramp",
   "description": "Outputs a rendered raster.",
   "help": ""
  },
  {
   "name": "Hillshade",
   "description": "Generates a grayscale model of a terrain with the sun's relative position taken into account for shading the terrain.",
   "help": ""
  }
 ],
 "rasterTypeInfos": [
  {
   "name": "Raster Dataset",
   "description": "Supports all ArcGIS Raster Datasets",
   "help": ""
  }
 ],
 "mensurationCapabilities": "Basic",
 "hasHistograms": false,
 "hasColormap": false,
 "hasRasterAttributeTable": false,
 "minScale": 0,
 "maxScale": 0,
 "exportTilesAllowed": false,
 "supportsStatistics": false,
 "supportsAdvancedQueries": false,
 "editFieldsInfo": null,
 "ownershipBasedAccessControlForRasters": null,
 "allowComputeTiePoints": false,
 "useStandardizedQueries": true,
 "advancedQueryCapabilities": {
  "useStandardizedQueries": true,
  "supportsStatistics": false,
  "supportsOrderBy": false,
  "supportsDistinct": false,
  "supportsPagination": false
 },
 "spatialReference": {
  "wkt": "PROJCS[\"GRS_1980_Transverse_Mercator\",GEOGCS[\"GCS_GRS_1980\",DATUM[\"D_GRS_1980\",SPHEROID[\"GRS_1980\",6378137.0,298.257222101]],PRIMEM[\"Greenwich\",0.0],UNIT[\"Degree\",0.0174532925199433]],PROJECTION[\"Transverse_Mercator\"],PARAMETER[\"False_Easting\",2296583.333333333],PARAMETER[\"False_Northing\",0.0],PARAMETER[\"Central_Meridian\",-90.16666666666667],PARAMETER[\"Scale_Factor\",0.9999411764705882],PARAMETER[\"Latitude_Of_Origin\",36.66666666666666],UNIT[\"Foot_US\",0.3048006096012192]]"
 }
}
