{
 "currentVersion": 10.91,
 "serviceDescription": "Elevation/IL_Carroll_DSM_2020",
 "name": "Elevation/IL_Carroll_DSM_2020",
 "description": "",
 "extent": {
  "xmin": 2252004.9998906627,
  "ymin": 1914004.9988366514,
  "xmax": 2429994.9998906627,
  "ymax": 2017994.9988366514,
  "spatialReference": {
   "wkt": "PROJCS[\"NAD_1983_2011_StatePlane_Illinois_West_FIPS_1202_Ft_US\",GEOGCS[\"GCS_NAD_1983_2011\",DATUM[\"D_NAD_1983_2011\",SPHEROID[\"GRS_1980\",6378137.0,298.257222101]],PRIMEM[\"Greenwich\",0.0],UNIT[\"Degree\",0.0174532925199433]],PROJECTION[\"Transverse_Mercator\"],PARAMETER[\"False_Easting\",2296583.333333333],PARAMETER[\"False_Northing\",0.0],PARAMETER[\"Central_Meridian\",-90.16666666666667],PARAMETER[\"Scale_Factor\",0.9999411764705882],PARAMETER[\"Latitude_Of_Origin\",36.66666666666666],UNIT[\"Foot_US\",0.3048006096012192]],VERTCS[\"NAVD88_height - Geoid12B (ftUS)\",VDATUM[\"North_American_Vertical_Datum_1988\"],PARAMETER[\"Vertical_Shift\",0.0],PARAMETER[\"Direction\",1.0],UNIT[\"Foot_US\",0.3048006096012192]]"
  }
 },
 "initialExtent": {
  "xmin": 2252004.9998906627,
  "ymin": 1914004.9988366514,
  "xmax": 2429994.9998906627,
  "ymax": 2017994.9988366514,
  "spatialReference": {
   "wkt": "PROJCS[\"NAD_1983_2011_StatePlane_Illinois_West_FIPS_1202_Ft_US\",GEOGCS[\"GCS_NAD_1983_2011\",DATUM[\"D_NAD_1983_2011\",SPHEROID[\"GRS_1980\",6378137.0,298.257222101]],PRIMEM[\"Greenwich\",0.0],UNIT[\"Degree\",0.0174532925199433]],PROJECTION[\"Transverse_Mercator\"],PARAMETER[\"False_Easting\",2296583.333333333],PARAMETER[\"False_Northing\",0.0],PARAMETER[\"Central_Meridian\",-90.16666666666667],PARAMETER[\"Scale_Factor\",0.9999411764705882],PARAMETER[\"Latitude_Of_Origin\",36.66666666666666],UNIT[\"Foot_US\",0.3048006096012192]],VERTCS[\"NAVD88_height - Geoid12B (ftUS)\",VDATUM[\"North_American_Vertical_Datum_1988\"],PARAMETER[\"Vertical_Shift\",0.0],PARAMETER[\"Direction\",1.0],UNIT[\"Foot_US\",0.3048006096012192]]"
  }
 },
 "fullExtent": {
  "xmin": 2252004.9998906627,
  "ymin": 1914004.9988366514,
  "xmax": 2429994.9998906627,
  "ymax": 2017994.9988366514,
  "spatialReference": {
   "wkt": "PROJCS[\"NAD_1983_2011_StatePlane_Illinois_West_FIPS_1202_Ft_US\",GEOGCS[\"GCS_NAD_1983_2011\",DATUM[\"D_NAD_1983_2011\",SPHEROID[\"GRS_1980\",6378137.0,298.257222101]],PRIMEM[\"Greenwich\",0.0],UNIT[\"Degree\",0.0174532925199433]],PROJECTION[\"Transverse_Mercator\"],PARAMETER[\"False_Easting\",2296583.333333333],PARAMETER[\"False_Northing\",0.0],PARAMETER[\"Central_Meridian\",-90.16666666666667],PARAMETER[\"Scale_Factor\",0.9999411764705882],PARAMETER[\"Latitude_Of_Origin\",36.66666666666666],UNIT[\"Foot_US\",0.3048006096012192]],VERTCS[\"NAVD88_height - Geoid12B (ftUS)\",VDATUM[\"North_American_Vertical_Datum_1988\"],PARAMETER[\"Vertical_Shift\",0.0],PARAMETER[\"Direction\",1.0],UNIT[\"Foot_US\",0.3048006096012192]]"
  }
 },
 "heightModelInfo": {
  "heightModel": "gravity_related_height",
  "vertCRS": "NAVD88_height - Geoid12B (ftUS)",
  "heightUnit": "us-foot"
 },
 "hasMultidimensions": false,
 "pixelSizeX": 2,
 "pixelSizeY": 2,
 "datasetFormat": "GRID",
 "uncompressedSize": 18509180100,
 "blockWidth": 256,
 "blockHeight": 16,
 "compressionType": "None",
 "bandNames": [
  "Band_1"
 ],
 "allowCopy": true,
 "allowAnalysis": true,
 "bandCount": 1,
 "noDataValue": -3.4028234663852886E38,
 "noDataValues": [
  -3.4028234663852886E38
 ],
 "pixelType": "F32",
 "minPixelSize": 0,
 "maxPixelSize": 0,
 "copyrightText": "",
 "serviceDataType": "esriImageServiceDataTypeGeneric",
 "serviceSourceType": "esriImageServiceSourceTypeDataset",
 "minValues": [
  543.4052734375
 ],
 "maxValues": [
  1294.4857177734375
 ],
 "meanValues": [
  768.8321088443128
 ],
 "stdvValues": [
  102.51442495186957
 ],
 "objectIdField": "",
 "fields": [],
 "capabilities": "Image,Metadata,Mensuration",
 "defaultMosaicMethod": "Center",
 "allowedMosaicMethods": "",
 "sortField": "",
 "sortValue": null,
 "sortAscending": true,
 "mosaicOperator": "First",
 "defaultCompressionQuality": 75,
 "defaultResamplingMethod": "Bicubic",
 "maxImageHeight": 4100,
 "maxImageWidth": 15000,
 "allowRasterFunction": true,
 "rasterFunctionInfos": [
  {
   "name": "None",
   "description": "Make a Raster or Raster Dataset into a Function Raster Dataset.",
   "help": ""
  },
  {
   "name": "Color Ramp",
   "description": "Outputs a rendered raster.",
   "help": ""
  },
  {
   "name": "Hillshade",
   "description": "Generates a grayscale model of a terrain with the sun's relative position taken into account for shading the terrain.",
   "help": ""
  }
 ],
 "rasterTypeInfos": [
  {
   "name": "Raster Dataset",
   "description": "Supports all ArcGIS Raster Datasets",
   "help": ""
  }
 ],
 "mensurationCapabilities": "Basic",
 "hasHistograms": false,
 "hasColormap": false,
 "hasRasterAttributeTable": false,
 "minScale": 0,
 "maxScale": 0,
 "exportTilesAllowed": false,
 "supportsStatistics": false,
 "supportsAdvancedQueries": false,
 "editFieldsInfo": null,
 "ownershipBasedAccessControlForRasters": null,
 "allowComputeTiePoints": false,
 "useStandardizedQueries": true,
 "advancedQueryCapabilities": {
  "useStandardizedQueries": true,
  "supportsStatistics": false,
  "supportsOrderBy": false,
  "supportsDistinct": false,
  "supportsPagination": false
 },
 "spatialReference": {
  "wkt": "PROJCS[\"NAD_1983_2011_StatePlane_Illinois_West_FIPS_1202_Ft_US\",GEOGCS[\"GCS_NAD_1983_2011\",DATUM[\"D_NAD_1983_2011\",SPHEROID[\"GRS_1980\",6378137.0,298.257222101]],PRIMEM[\"Greenwich\",0.0],UNIT[\"Degree\",0.0174532925199433]],PROJECTION[\"Transverse_Mercator\"],PARAMETER[\"False_Easting\",2296583.333333333],PARAMETER[\"False_Northing\",0.0],PARAMETER[\"Central_Meridian\",-90.16666666666667],PARAMETER[\"Scale_Factor\",0.9999411764705882],PARAMETER[\"Latitude_Of_Origin\",36.66666666666666],UNIT[\"Foot_US\",0.3048006096012192]],VERTCS[\"NAVD88_height - Geoid12B (ftUS)\",VDATUM[\"North_American_Vertical_Datum_1988\"],PARAMETER[\"Vertical_Shift\",0.0],PARAMETER[\"Direction\",1.0],UNIT[\"Foot_US\",0.3048006096012192]]"
 }
}
