{
 "currentVersion": 10.91,
 "serviceDescription": "Elevation/IL_Clark_DSM_2020",
 "name": "Elevation/IL_Clark_DSM_2020",
 "description": "",
 "extent": {
  "xmin": 1073005.0001347438,
  "ymin": 897682.0202845708,
  "xmax": 1216340.5001347438,
  "ymax": 1030994.5202845708,
  "spatialReference": {
   "wkt": "PROJCS[\"NAD_1983_2011_StatePlane_Illinois_East_FIPS_1201_Ft_US\",GEOGCS[\"GCS_NAD_1983_2011\",DATUM[\"D_NAD_1983_2011\",SPHEROID[\"GRS_1980\",6378137.0,298.257222101]],PRIMEM[\"Greenwich\",0.0],UNIT[\"Degree\",0.0174532925199433]],PROJECTION[\"Transverse_Mercator\"],PARAMETER[\"False_Easting\",984250.0],PARAMETER[\"False_Northing\",0.0],PARAMETER[\"Central_Meridian\",-88.33333333333333],PARAMETER[\"Scale_Factor\",0.999975],PARAMETER[\"Latitude_Of_Origin\",36.66666666666666],UNIT[\"Foot_US\",0.3048006096012192]],VERTCS[\"NAVD88 height (ftUS) - US Geoid Model of 2012 B\",VDATUM[\"North American Vertical Datum 1988\"],PARAMETER[\"Vertical_Shift\",0.0],PARAMETER[\"Direction\",1.0],UNIT[\"US Survey Foot\",0.3048006096012192]]"
  }
 },
 "initialExtent": {
  "xmin": 1073005.0001347438,
  "ymin": 897682.0202845708,
  "xmax": 1216340.5001347438,
  "ymax": 1030994.5202845708,
  "spatialReference": {
   "wkt": "PROJCS[\"NAD_1983_2011_StatePlane_Illinois_East_FIPS_1201_Ft_US\",GEOGCS[\"GCS_NAD_1983_2011\",DATUM[\"D_NAD_1983_2011\",SPHEROID[\"GRS_1980\",6378137.0,298.257222101]],PRIMEM[\"Greenwich\",0.0],UNIT[\"Degree\",0.0174532925199433]],PROJECTION[\"Transverse_Mercator\"],PARAMETER[\"False_Easting\",984250.0],PARAMETER[\"False_Northing\",0.0],PARAMETER[\"Central_Meridian\",-88.33333333333333],PARAMETER[\"Scale_Factor\",0.999975],PARAMETER[\"Latitude_Of_Origin\",36.66666666666666],UNIT[\"Foot_US\",0.3048006096012192]],VERTCS[\"NAVD88 height (ftUS) - US Geoid Model of 2012 B\",VDATUM[\"North American Vertical Datum 1988\"],PARAMETER[\"Vertical_Shift\",0.0],PARAMETER[\"Direction\",1.0],UNIT[\"US Survey Foot\",0.3048006096012192]]"
  }
 },
 "fullExtent": {
  "xmin": 1073005.0001347438,
  "ymin": 897682.0202845708,
  "xmax": 1216340.5001347438,
  "ymax": 1030994.5202845708,
  "spatialReference": {
   "wkt": "PROJCS[\"NAD_1983_2011_StatePlane_Illinois_East_FIPS_1201_Ft_US\",GEOGCS[\"GCS_NAD_1983_2011\",DATUM[\"D_NAD_1983_2011\",SPHEROID[\"GRS_1980\",6378137.0,298.257222101]],PRIMEM[\"Greenwich\",0.0],UNIT[\"Degree\",0.0174532925199433]],PROJECTION[\"Transverse_Mercator\"],PARAMETER[\"False_Easting\",984250.0],PARAMETER[\"False_Northing\",0.0],PARAMETER[\"Central_Meridian\",-88.33333333333333],PARAMETER[\"Scale_Factor\",0.999975],PARAMETER[\"Latitude_Of_Origin\",36.66666666666666],UNIT[\"Foot_US\",0.3048006096012192]],VERTCS[\"NAVD88 height (ftUS) - US Geoid Model of 2012 B\",VDATUM[\"North American Vertical Datum 1988\"],PARAMETER[\"Vertical_Shift\",0.0],PARAMETER[\"Direction\",1.0],UNIT[\"US Survey Foot\",0.3048006096012192]]"
  }
 },
 "heightModelInfo": {
  "heightModel": "gravity_related_height",
  "vertCRS": "NAVD88 height (ftUS) - US Geoid Model of 2012 B",
  "heightUnit": "us-foot"
 },
 "hasMultidimensions": false,
 "pixelSizeX": 1.5,
 "pixelSizeY": 1.5,
 "datasetFormat": "GRID",
 "uncompressedSize": 33970513500,
 "blockWidth": 256,
 "blockHeight": 16,
 "compressionType": "None",
 "bandNames": [
  "Clark_DSM"
 ],
 "allowCopy": true,
 "allowAnalysis": true,
 "bandCount": 1,
 "noDataValue": -3.4028234663852886E38,
 "noDataValues": [
  -3.4028234663852886E38
 ],
 "pixelType": "F32",
 "minPixelSize": 0,
 "maxPixelSize": 0,
 "copyrightText": "",
 "serviceDataType": "esriImageServiceDataTypeGeneric",
 "serviceSourceType": "esriImageServiceSourceTypeDataset",
 "minValues": [
  417.98895263671875
 ],
 "maxValues": [
  894.7482299804688
 ],
 "meanValues": [
  587.3199636848747
 ],
 "stdvValues": [
  67.05989571050078
 ],
 "objectIdField": "",
 "fields": [],
 "capabilities": "Image,Metadata,Mensuration",
 "defaultMosaicMethod": "Center",
 "allowedMosaicMethods": "",
 "sortField": "",
 "sortValue": null,
 "sortAscending": true,
 "mosaicOperator": "First",
 "defaultCompressionQuality": 75,
 "defaultResamplingMethod": "Bilinear",
 "maxImageHeight": 4100,
 "maxImageWidth": 15000,
 "allowRasterFunction": true,
 "rasterFunctionInfos": [
  {
   "name": "None",
   "description": "Make a Raster or Raster Dataset into a Function Raster Dataset.",
   "help": ""
  },
  {
   "name": "Color Ramp",
   "description": "Outputs a rendered raster.",
   "help": ""
  },
  {
   "name": "Hillshade",
   "description": "Generates a grayscale model of a terrain with the sun's relative position taken into account for shading the terrain.",
   "help": ""
  }
 ],
 "rasterTypeInfos": [
  {
   "name": "Raster Dataset",
   "description": "Supports all ArcGIS Raster Datasets",
   "help": ""
  }
 ],
 "mensurationCapabilities": "Basic",
 "hasHistograms": true,
 "hasColormap": false,
 "hasRasterAttributeTable": false,
 "minScale": 0,
 "maxScale": 0,
 "exportTilesAllowed": false,
 "supportsStatistics": false,
 "supportsAdvancedQueries": false,
 "editFieldsInfo": null,
 "ownershipBasedAccessControlForRasters": null,
 "allowComputeTiePoints": false,
 "useStandardizedQueries": true,
 "advancedQueryCapabilities": {
  "useStandardizedQueries": true,
  "supportsStatistics": false,
  "supportsOrderBy": false,
  "supportsDistinct": false,
  "supportsPagination": false
 },
 "spatialReference": {
  "wkt": "PROJCS[\"NAD_1983_2011_StatePlane_Illinois_East_FIPS_1201_Ft_US\",GEOGCS[\"GCS_NAD_1983_2011\",DATUM[\"D_NAD_1983_2011\",SPHEROID[\"GRS_1980\",6378137.0,298.257222101]],PRIMEM[\"Greenwich\",0.0],UNIT[\"Degree\",0.0174532925199433]],PROJECTION[\"Transverse_Mercator\"],PARAMETER[\"False_Easting\",984250.0],PARAMETER[\"False_Northing\",0.0],PARAMETER[\"Central_Meridian\",-88.33333333333333],PARAMETER[\"Scale_Factor\",0.999975],PARAMETER[\"Latitude_Of_Origin\",36.66666666666666],UNIT[\"Foot_US\",0.3048006096012192]],VERTCS[\"NAVD88 height (ftUS) - US Geoid Model of 2012 B\",VDATUM[\"North American Vertical Datum 1988\"],PARAMETER[\"Vertical_Shift\",0.0],PARAMETER[\"Direction\",1.0],UNIT[\"US Survey Foot\",0.3048006096012192]]"
 }
}
