{
 "currentVersion": 10.91,
 "serviceDescription": " Product: These lidar data are processed Classified LAS 1.4 files, formatted to 10097 individual 2000 foot x 2000 foot tiles; used to create intensity images, 3D breaklines and hydro-flattened DEMs as necessary. Geographic Extent: Grundy, Kendall, and DeKalb County, Illinois, covering approximately 1,388 square miles. Grundy, Kendall, and DeKalb Counties are one area of interest (AOI) from a lidar survey that was collected over two (2) areas of interest in Illinois identified as LaSalle and Expansion Counties. LaSalle and Expansion Counties cover a total of approximately 2,563 square miles. Dataset Description: Grundy, Kendall, and DeKalb Counties, Illinois 2017 Lidar project called for the Planning, Acquisition, processing and derivative products of lidar data to be collected at a nominal pulse spacing (NPS) of 0.7 meter. Project specifications are based on the U.S. Geological Survey National Geospatial Program Base Lidar Specification, Version 1.2; Quality Level 2. The data was developed based on a horizontal projection/datum of NAD83 (2011), State Plane Coordinate System Illinois East (FIPS 1201), US Survey Feet and vertical datum of NAVD88 (GEOID12B), US Survey Feet. Lidar data was delivered as flightline-extent unclassified LAS swaths, as processed Classified LAS 1.4 files, formatted to 10097 individual 2000 foot x 2000 foot tiles, as tiled Intensity Imagery, and as tiled bare earth DEMs; all tiled to the same 2000 foot x 2000 foot schema. Ground Conditions: Lidar was collected in November 2017, due to an isolated anomaly found in the the lidar data in LaSalle County one re-flight was flown in April 2018, while no snow was on the ground and rivers were at or below normal levels. A Low Confidence polygon was use to circumscribe an area where lidar was reflected by particulates in smoke stack emission. Photons were unable to penetrate through the emissions for collection of ground surface within the polygon. The emission cloud obscures approximately 3.72 acres of ground surface. Tiles in which the emission cloud occurred are 99101727 and 99301727. In order to post process the lidar data to meet task order specifications and meet ASPRS vertical accuracy guidelines, GRW Aerial Surveys, Inc. established a total of 53 ground control points of which 50 were used to calibrate the lidar to known ground locations established throughout the LaSalle and Expansion Counties project areas. An additional 157 independent accuracy checkpoints, 89 in Bare Earth and Urban landcovers (89 NVA points), 68 in tall Grass/tall weeds/crops, Brush lands/short trees, Forested categories (68 VVA points), were used to assess the vertical accuracy of the data of the entire project area. These checkpoints were not used to calibrate or post process the data.<\/SPAN><\/P><\/DIV><\/DIV><\/DIV>",
 "name": "Elevation/IL_Grundy_DTM_2018",
 "description": "",
 "extent": {
  "xmin": 911842.3301833338,
  "ymin": 1617629.92856367,
  "xmax": 1009750.9336060598,
  "ymax": 1746936.0841288406,
  "spatialReference": {
   "wkid": 103037,
   "latestWkid": 6455,
   "vcsWkid": 105703,
   "latestVcsWkid": 6360
  }
 },
 "initialExtent": {
  "xmin": 911842.3301833338,
  "ymin": 1617629.92856367,
  "xmax": 1009750.9336060598,
  "ymax": 1746936.0841288406,
  "spatialReference": {
   "wkid": 103037,
   "latestWkid": 6455,
   "vcsWkid": 105703,
   "latestVcsWkid": 6360
  }
 },
 "fullExtent": {
  "xmin": 911842.3301833338,
  "ymin": 1617629.92856367,
  "xmax": 1009750.9336060598,
  "ymax": 1746936.0841288406,
  "spatialReference": {
   "wkid": 103037,
   "latestWkid": 6455,
   "vcsWkid": 105703,
   "latestVcsWkid": 6360
  }
 },
 "heightModelInfo": {
  "heightModel": "gravity_related_height",
  "vertCRS": "NAVD_1988_Foot_US",
  "heightUnit": "us-foot"
 },
 "hasMultidimensions": false,
 "pixelSizeX": 1.999971472224,
 "pixelSizeY": 1.9999714722240012,
 "datasetFormat": "GRID",
 "uncompressedSize": 12660546280,
 "blockWidth": 256,
 "blockHeight": 16,
 "compressionType": "None",
 "bandNames": [
  "grundy_dtm"
 ],
 "allowCopy": true,
 "allowAnalysis": true,
 "bandCount": 1,
 "noDataValue": -3.4028230607370965E38,
 "noDataValues": [
  -3.4028230607370965E38
 ],
 "pixelType": "F32",
 "minPixelSize": 0,
 "maxPixelSize": 0,
 "copyrightText": "NRCS agricultural conservation, FEMA, Illinois State Geological Survey",
 "serviceDataType": "esriImageServiceDataTypeGeneric",
 "serviceSourceType": "esriImageServiceSourceTypeDataset",
 "minValues": [],
 "maxValues": [],
 "meanValues": [],
 "stdvValues": [],
 "objectIdField": "",
 "fields": [],
 "capabilities": "Image,Metadata,Mensuration",
 "defaultMosaicMethod": "Center",
 "allowedMosaicMethods": "",
 "sortField": "",
 "sortValue": null,
 "sortAscending": true,
 "mosaicOperator": "First",
 "defaultCompressionQuality": 75,
 "defaultResamplingMethod": "Bilinear",
 "maxImageHeight": 4100,
 "maxImageWidth": 15000,
 "allowRasterFunction": true,
 "rasterFunctionInfos": [
  {
   "name": "None",
   "description": "Make a Raster or Raster Dataset into a Function Raster Dataset.",
   "help": ""
  },
  {
   "name": "Color Ramp",
   "description": "Outputs a rendered raster.",
   "help": ""
  },
  {
   "name": "Hillshade",
   "description": "Generates a grayscale model of a terrain with the sun's relative position taken into account for shading the terrain.",
   "help": ""
  }
 ],
 "rasterTypeInfos": [
  {
   "name": "Raster Dataset",
   "description": "Supports all ArcGIS Raster Datasets",
   "help": ""
  }
 ],
 "mensurationCapabilities": "Basic",
 "hasHistograms": false,
 "hasColormap": false,
 "hasRasterAttributeTable": false,
 "minScale": 0,
 "maxScale": 0,
 "exportTilesAllowed": false,
 "supportsStatistics": false,
 "supportsAdvancedQueries": false,
 "editFieldsInfo": null,
 "ownershipBasedAccessControlForRasters": null,
 "allowComputeTiePoints": false,
 "useStandardizedQueries": true,
 "advancedQueryCapabilities": {
  "useStandardizedQueries": true,
  "supportsStatistics": false,
  "supportsOrderBy": false,
  "supportsDistinct": false,
  "supportsPagination": false
 },
 "spatialReference": {
  "wkid": 103037,
  "latestWkid": 6455,
  "vcsWkid": 105703,
  "latestVcsWkid": 6360
 }
}
