{ "currentVersion": 10.91, "serviceDescription": "
This Digital Terrain Model (DTM) data was produced all or in part from LiDAR information as of 2017. The LiDAR derived DTM covers Hancock County, Illinois and include inland streams, rivers, lakes ponds and tidal features. These data are appropriate for use in local and regional analysis. This dataset is 2.20 ppsm LiDAR point cloud data and derivative models of Hancock County, Illinois. Hancock County is approximately 863 square miles in eastern Illinois. Data was collected at a nominal pulse spacing (NPS) of 0.67 meter. Data acquisition, processing and assessment is compliant with procedures and methods stated in U.S. Geological Survey National Geospatial Program LiDAR Base Specification Version 1.2.<\/SPAN><\/P> Digital Elevation Models (including terrain and surface models) are raster data sets created from whole LiDAR point cloud data sets (LAS files). The LAS files are the standard LiDAR file format which contains the raw point cloud data, these data are normally classified and distinguished between points on the ground, water or elevated features such as buildings, trees, towers, bridges, etc.. These LAS files are processed into elevation models to create gridded rasters. The first returns can be used to map the top reflective surface (Digital Surface Models - DSM), these normally include open terrain areas, as well as the tops of buildings, trees, towers, and other features elevated above the bare earth. The last returns are used to map the bare-earth terrain (Digital Terrain Models - DTM), these are normally produced with irregularly-spaced points rather than the uniform grid structure of a Digital Elevation Model (DEM), Digital Terrain Models will often include breaklines to help define edges of water bodies.<\/SPAN><\/SPAN><\/P> <\/P><\/DIV><\/DIV><\/DIV>",
"name": "Elevation/IL_Hancock_DTM_2017",
"description": "",
"extent": {
"xmin": 1919999.9998599961,
"ymin": 1283999.9999465146,
"xmax": 2093999.9998599961,
"ymax": 1449999.9999465146,
"spatialReference": {"wkt": "PROJCS[\"GRS_1980_Transverse_Mercator\",GEOGCS[\"GCS_GRS_1980\",DATUM[\"D_GRS_1980\",SPHEROID[\"GRS_1980\",6378137.0,298.257222101]],PRIMEM[\"Greenwich\",0.0],UNIT[\"Degree\",0.0174532925199433]],PROJECTION[\"Transverse_Mercator\"],PARAMETER[\"False_Easting\",2296583.333333333],PARAMETER[\"False_Northing\",0.0],PARAMETER[\"Central_Meridian\",-90.16666666666667],PARAMETER[\"Scale_Factor\",0.9999411764705882],PARAMETER[\"Latitude_Of_Origin\",36.66666666666666],UNIT[\"Foot_US\",0.3048006096012192]],VERTCS[\"NAVD88_height_(ftUS)\",VDATUM[\"North_American_Vertical_Datum_1988\"],PARAMETER[\"Vertical_Shift\",0.0],PARAMETER[\"Direction\",1.0],UNIT[\"Foot_US\",0.3048006096012192]]"}
},
"initialExtent": {
"xmin": 1919999.9998599961,
"ymin": 1283999.9999465146,
"xmax": 2093999.9998599961,
"ymax": 1449999.9999465146,
"spatialReference": {"wkt": "PROJCS[\"GRS_1980_Transverse_Mercator\",GEOGCS[\"GCS_GRS_1980\",DATUM[\"D_GRS_1980\",SPHEROID[\"GRS_1980\",6378137.0,298.257222101]],PRIMEM[\"Greenwich\",0.0],UNIT[\"Degree\",0.0174532925199433]],PROJECTION[\"Transverse_Mercator\"],PARAMETER[\"False_Easting\",2296583.333333333],PARAMETER[\"False_Northing\",0.0],PARAMETER[\"Central_Meridian\",-90.16666666666667],PARAMETER[\"Scale_Factor\",0.9999411764705882],PARAMETER[\"Latitude_Of_Origin\",36.66666666666666],UNIT[\"Foot_US\",0.3048006096012192]],VERTCS[\"NAVD88_height_(ftUS)\",VDATUM[\"North_American_Vertical_Datum_1988\"],PARAMETER[\"Vertical_Shift\",0.0],PARAMETER[\"Direction\",1.0],UNIT[\"Foot_US\",0.3048006096012192]]"}
},
"fullExtent": {
"xmin": 1919999.9998599961,
"ymin": 1283999.9999465146,
"xmax": 2093999.9998599961,
"ymax": 1449999.9999465146,
"spatialReference": {"wkt": "PROJCS[\"GRS_1980_Transverse_Mercator\",GEOGCS[\"GCS_GRS_1980\",DATUM[\"D_GRS_1980\",SPHEROID[\"GRS_1980\",6378137.0,298.257222101]],PRIMEM[\"Greenwich\",0.0],UNIT[\"Degree\",0.0174532925199433]],PROJECTION[\"Transverse_Mercator\"],PARAMETER[\"False_Easting\",2296583.333333333],PARAMETER[\"False_Northing\",0.0],PARAMETER[\"Central_Meridian\",-90.16666666666667],PARAMETER[\"Scale_Factor\",0.9999411764705882],PARAMETER[\"Latitude_Of_Origin\",36.66666666666666],UNIT[\"Foot_US\",0.3048006096012192]],VERTCS[\"NAVD88_height_(ftUS)\",VDATUM[\"North_American_Vertical_Datum_1988\"],PARAMETER[\"Vertical_Shift\",0.0],PARAMETER[\"Direction\",1.0],UNIT[\"Foot_US\",0.3048006096012192]]"}
},
"heightModelInfo": {
"heightModel": "gravity_related_height",
"vertCRS": "NAVD88_height_(ftUS)",
"heightUnit": "us-foot"
},
"hasMultidimensions": false,
"pixelSizeX": 2,
"pixelSizeY": 2,
"datasetFormat": "GRID",
"uncompressedSize": 28884000000,
"blockWidth": 256,
"blockHeight": 16,
"compressionType": "None",
"bandNames": [
"hanc_dtm_2017"
],
"allowCopy": true,
"allowAnalysis": true,
"bandCount": 1,
"noDataValue": -3.4028234663852886E38,
"noDataValues": [
-3.4028234663852886E38
],
"pixelType": "F32",
"minPixelSize": 0,
"maxPixelSize": 0,
"copyrightText": "Created by Surdex Corporation through Contract with the University of Illinois, Illinois State Geological Survey and the Prairie Research Institute",
"serviceDataType": "esriImageServiceDataTypeGeneric",
"serviceSourceType": "esriImageServiceSourceTypeDataset",
"minValues": [],
"maxValues": [],
"meanValues": [],
"stdvValues": [],
"objectIdField": "",
"fields": [],
"capabilities": "Image,Metadata,Mensuration",
"defaultMosaicMethod": "Center",
"allowedMosaicMethods": "",
"sortField": "",
"sortValue": null,
"sortAscending": true,
"mosaicOperator": "First",
"defaultCompressionQuality": 75,
"defaultResamplingMethod": "Bilinear",
"maxImageHeight": 4100,
"maxImageWidth": 15000,
"allowRasterFunction": true,
"rasterFunctionInfos": [
{
"name": "None",
"description": "Make a Raster or Raster Dataset into a Function Raster Dataset.",
"help": ""
},
{
"name": "Color Ramp",
"description": "Outputs a rendered raster.",
"help": ""
},
{
"name": "Hillshade",
"description": "Generates a grayscale model of a terrain with the sun's relative position taken into account for shading the terrain.",
"help": ""
}
],
"rasterTypeInfos": [
{
"name": "Raster Dataset",
"description": "Supports all ArcGIS Raster Datasets",
"help": ""
}
],
"mensurationCapabilities": "Basic",
"hasHistograms": false,
"hasColormap": false,
"hasRasterAttributeTable": false,
"minScale": 0,
"maxScale": 0,
"exportTilesAllowed": false,
"supportsStatistics": false,
"supportsAdvancedQueries": false,
"editFieldsInfo": null,
"ownershipBasedAccessControlForRasters": null,
"allowComputeTiePoints": false,
"useStandardizedQueries": true,
"advancedQueryCapabilities": {
"useStandardizedQueries": true,
"supportsStatistics": false,
"supportsOrderBy": false,
"supportsDistinct": false,
"supportsPagination": false
},
"spatialReference": {"wkt": "PROJCS[\"GRS_1980_Transverse_Mercator\",GEOGCS[\"GCS_GRS_1980\",DATUM[\"D_GRS_1980\",SPHEROID[\"GRS_1980\",6378137.0,298.257222101]],PRIMEM[\"Greenwich\",0.0],UNIT[\"Degree\",0.0174532925199433]],PROJECTION[\"Transverse_Mercator\"],PARAMETER[\"False_Easting\",2296583.333333333],PARAMETER[\"False_Northing\",0.0],PARAMETER[\"Central_Meridian\",-90.16666666666667],PARAMETER[\"Scale_Factor\",0.9999411764705882],PARAMETER[\"Latitude_Of_Origin\",36.66666666666666],UNIT[\"Foot_US\",0.3048006096012192]],VERTCS[\"NAVD88_height_(ftUS)\",VDATUM[\"North_American_Vertical_Datum_1988\"],PARAMETER[\"Vertical_Shift\",0.0],PARAMETER[\"Direction\",1.0],UNIT[\"Foot_US\",0.3048006096012192]]"}
}