{
 "currentVersion": 10.91,
 "serviceDescription": "Elevation/IL_Jersey_DTM_2021",
 "name": "Elevation/IL_Jersey_DTM_2021",
 "description": "",
 "extent": {
  "xmin": 2170000.000109136,
  "ymin": 819999.9998431578,
  "xmax": 2303999.500109136,
  "ymax": 945999.9998431578,
  "spatialReference": {
   "wkt": "PROJCS[\"GRS_1980_Transverse_Mercator\",GEOGCS[\"GCS_GRS_1980\",DATUM[\"D_GRS_1980\",SPHEROID[\"GRS_1980\",6378137.0,298.257222101]],PRIMEM[\"Greenwich\",0.0],UNIT[\"Degree\",0.0174532925199433]],PROJECTION[\"Transverse_Mercator\"],PARAMETER[\"False_Easting\",2296583.33333333],PARAMETER[\"False_Northing\",0.0],PARAMETER[\"Central_Meridian\",-90.1666666666667],PARAMETER[\"Scale_Factor\",0.999941176470588],PARAMETER[\"Latitude_Of_Origin\",36.6666666666667],UNIT[\"Foot_US\",0.3048006096012192]],VERTCS[\"Unknown_VCS\",VDATUM[\"Unknown\"],PARAMETER[\"Vertical_Shift\",0.0],PARAMETER[\"Direction\",1.0],UNIT[\"Meter\",1.0]]"
  }
 },
 "initialExtent": {
  "xmin": 2170000.000109136,
  "ymin": 819999.9998431578,
  "xmax": 2303999.500109136,
  "ymax": 945999.9998431578,
  "spatialReference": {
   "wkt": "PROJCS[\"GRS_1980_Transverse_Mercator\",GEOGCS[\"GCS_GRS_1980\",DATUM[\"D_GRS_1980\",SPHEROID[\"GRS_1980\",6378137.0,298.257222101]],PRIMEM[\"Greenwich\",0.0],UNIT[\"Degree\",0.0174532925199433]],PROJECTION[\"Transverse_Mercator\"],PARAMETER[\"False_Easting\",2296583.33333333],PARAMETER[\"False_Northing\",0.0],PARAMETER[\"Central_Meridian\",-90.1666666666667],PARAMETER[\"Scale_Factor\",0.999941176470588],PARAMETER[\"Latitude_Of_Origin\",36.6666666666667],UNIT[\"Foot_US\",0.3048006096012192]],VERTCS[\"Unknown_VCS\",VDATUM[\"Unknown\"],PARAMETER[\"Vertical_Shift\",0.0],PARAMETER[\"Direction\",1.0],UNIT[\"Meter\",1.0]]"
  }
 },
 "fullExtent": {
  "xmin": 2170000.000109136,
  "ymin": 819999.9998431578,
  "xmax": 2303999.500109136,
  "ymax": 945999.9998431578,
  "spatialReference": {
   "wkt": "PROJCS[\"GRS_1980_Transverse_Mercator\",GEOGCS[\"GCS_GRS_1980\",DATUM[\"D_GRS_1980\",SPHEROID[\"GRS_1980\",6378137.0,298.257222101]],PRIMEM[\"Greenwich\",0.0],UNIT[\"Degree\",0.0174532925199433]],PROJECTION[\"Transverse_Mercator\"],PARAMETER[\"False_Easting\",2296583.33333333],PARAMETER[\"False_Northing\",0.0],PARAMETER[\"Central_Meridian\",-90.1666666666667],PARAMETER[\"Scale_Factor\",0.999941176470588],PARAMETER[\"Latitude_Of_Origin\",36.6666666666667],UNIT[\"Foot_US\",0.3048006096012192]],VERTCS[\"Unknown_VCS\",VDATUM[\"Unknown\"],PARAMETER[\"Vertical_Shift\",0.0],PARAMETER[\"Direction\",1.0],UNIT[\"Meter\",1.0]]"
  }
 },
 "heightModelInfo": {
  "heightModel": "gravity_related_height",
  "vertCRS": "Unknown_VCS",
  "heightUnit": "meter"
 },
 "hasMultidimensions": false,
 "pixelSizeX": 1.5,
 "pixelSizeY": 1.5,
 "datasetFormat": "GRID",
 "uncompressedSize": 30015888000,
 "blockWidth": 256,
 "blockHeight": 16,
 "compressionType": "None",
 "bandNames": [
  "Band_1"
 ],
 "allowCopy": true,
 "allowAnalysis": true,
 "bandCount": 1,
 "noDataValue": 3.3999999521443642E38,
 "noDataValues": [
  3.3999999521443642E38
 ],
 "pixelType": "F32",
 "minPixelSize": 0,
 "maxPixelSize": 0,
 "copyrightText": "",
 "serviceDataType": "esriImageServiceDataTypeGeneric",
 "serviceSourceType": "esriImageServiceSourceTypeDataset",
 "minValues": [
  413.30999755859375
 ],
 "maxValues": [
  896.7509155273438
 ],
 "meanValues": [
  572.0312109784726
 ],
 "stdvValues": [
  84.29851846145395
 ],
 "objectIdField": "",
 "fields": [],
 "capabilities": "Image,Metadata,Mensuration",
 "defaultMosaicMethod": "Center",
 "allowedMosaicMethods": "",
 "sortField": "",
 "sortValue": null,
 "sortAscending": true,
 "mosaicOperator": "First",
 "defaultCompressionQuality": 75,
 "defaultResamplingMethod": "Bicubic",
 "maxImageHeight": 4100,
 "maxImageWidth": 15000,
 "allowRasterFunction": true,
 "rasterFunctionInfos": [
  {
   "name": "None",
   "description": "Make a Raster or Raster Dataset into a Function Raster Dataset.",
   "help": ""
  },
  {
   "name": "Color Ramp",
   "description": "Outputs a rendered raster.",
   "help": ""
  },
  {
   "name": "Hillshade",
   "description": "Generates a grayscale model of a terrain with the sun's relative position taken into account for shading the terrain.",
   "help": ""
  }
 ],
 "rasterTypeInfos": [
  {
   "name": "Raster Dataset",
   "description": "Supports all ArcGIS Raster Datasets",
   "help": ""
  }
 ],
 "mensurationCapabilities": "Basic",
 "hasHistograms": true,
 "hasColormap": false,
 "hasRasterAttributeTable": false,
 "minScale": 0,
 "maxScale": 0,
 "exportTilesAllowed": false,
 "supportsStatistics": false,
 "supportsAdvancedQueries": false,
 "editFieldsInfo": null,
 "ownershipBasedAccessControlForRasters": null,
 "allowComputeTiePoints": false,
 "useStandardizedQueries": true,
 "advancedQueryCapabilities": {
  "useStandardizedQueries": true,
  "supportsStatistics": false,
  "supportsOrderBy": false,
  "supportsDistinct": false,
  "supportsPagination": false
 },
 "spatialReference": {
  "wkt": "PROJCS[\"GRS_1980_Transverse_Mercator\",GEOGCS[\"GCS_GRS_1980\",DATUM[\"D_GRS_1980\",SPHEROID[\"GRS_1980\",6378137.0,298.257222101]],PRIMEM[\"Greenwich\",0.0],UNIT[\"Degree\",0.0174532925199433]],PROJECTION[\"Transverse_Mercator\"],PARAMETER[\"False_Easting\",2296583.33333333],PARAMETER[\"False_Northing\",0.0],PARAMETER[\"Central_Meridian\",-90.1666666666667],PARAMETER[\"Scale_Factor\",0.999941176470588],PARAMETER[\"Latitude_Of_Origin\",36.6666666666667],UNIT[\"Foot_US\",0.3048006096012192]],VERTCS[\"Unknown_VCS\",VDATUM[\"Unknown\"],PARAMETER[\"Vertical_Shift\",0.0],PARAMETER[\"Direction\",1.0],UNIT[\"Meter\",1.0]]"
 }
}
