{
 "currentVersion": 10.91,
 "serviceDescription": "Elevation/IL_Lake_DTM_2007",
 "name": "Elevation/IL_Lake_DTM_2007",
 "description": "",
 "extent": {
  "xmin": 1019674.7058769204,
  "ymin": 1997966.4040290117,
  "xmax": 1140427.7058769204,
  "ymax": 2123969.4040290117,
  "spatialReference": {
   "wkt": "PROJCS[\"NAD_1983_HARN_Transverse_Mercator\",GEOGCS[\"GCS_North_American_1983_HARN\",DATUM[\"D_North_American_1983_HARN\",SPHEROID[\"GRS_1980\",6378137.0,298.257222101]],PRIMEM[\"Greenwich\",0.0],UNIT[\"Degree\",0.0174532925199433]],PROJECTION[\"Transverse_Mercator\"],PARAMETER[\"False_Easting\",984250.0],PARAMETER[\"False_Northing\",0.0],PARAMETER[\"Central_Meridian\",-88.33333333333333],PARAMETER[\"Scale_Factor\",0.999975],PARAMETER[\"Latitude_Of_Origin\",36.66666666666666],UNIT[\"Foot_US\",0.3048006096012192]],VERTCS[\"NAVD_1988\",VDATUM[\"North_American_Vertical_Datum_1988\"],PARAMETER[\"Vertical_Shift\",0.0],PARAMETER[\"Direction\",1.0],UNIT[\"User_Defined_Unit\",0.3048]]"
  }
 },
 "initialExtent": {
  "xmin": 1019674.7058769204,
  "ymin": 1997966.4040290117,
  "xmax": 1140427.7058769204,
  "ymax": 2123969.4040290117,
  "spatialReference": {
   "wkt": "PROJCS[\"NAD_1983_HARN_Transverse_Mercator\",GEOGCS[\"GCS_North_American_1983_HARN\",DATUM[\"D_North_American_1983_HARN\",SPHEROID[\"GRS_1980\",6378137.0,298.257222101]],PRIMEM[\"Greenwich\",0.0],UNIT[\"Degree\",0.0174532925199433]],PROJECTION[\"Transverse_Mercator\"],PARAMETER[\"False_Easting\",984250.0],PARAMETER[\"False_Northing\",0.0],PARAMETER[\"Central_Meridian\",-88.33333333333333],PARAMETER[\"Scale_Factor\",0.999975],PARAMETER[\"Latitude_Of_Origin\",36.66666666666666],UNIT[\"Foot_US\",0.3048006096012192]],VERTCS[\"NAVD_1988\",VDATUM[\"North_American_Vertical_Datum_1988\"],PARAMETER[\"Vertical_Shift\",0.0],PARAMETER[\"Direction\",1.0],UNIT[\"User_Defined_Unit\",0.3048]]"
  }
 },
 "fullExtent": {
  "xmin": 1019674.7058769204,
  "ymin": 1997966.4040290117,
  "xmax": 1140427.7058769204,
  "ymax": 2123969.4040290117,
  "spatialReference": {
   "wkt": "PROJCS[\"NAD_1983_HARN_Transverse_Mercator\",GEOGCS[\"GCS_North_American_1983_HARN\",DATUM[\"D_North_American_1983_HARN\",SPHEROID[\"GRS_1980\",6378137.0,298.257222101]],PRIMEM[\"Greenwich\",0.0],UNIT[\"Degree\",0.0174532925199433]],PROJECTION[\"Transverse_Mercator\"],PARAMETER[\"False_Easting\",984250.0],PARAMETER[\"False_Northing\",0.0],PARAMETER[\"Central_Meridian\",-88.33333333333333],PARAMETER[\"Scale_Factor\",0.999975],PARAMETER[\"Latitude_Of_Origin\",36.66666666666666],UNIT[\"Foot_US\",0.3048006096012192]],VERTCS[\"NAVD_1988\",VDATUM[\"North_American_Vertical_Datum_1988\"],PARAMETER[\"Vertical_Shift\",0.0],PARAMETER[\"Direction\",1.0],UNIT[\"User_Defined_Unit\",0.3048]]"
  }
 },
 "heightModelInfo": {
  "heightModel": "gravity_related_height",
  "vertCRS": "NAVD_1988",
  "heightUnit": ""
 },
 "hasMultidimensions": false,
 "pixelSizeX": 3,
 "pixelSizeY": 3,
 "datasetFormat": "GRID",
 "uncompressedSize": 6762329004,
 "blockWidth": 256,
 "blockHeight": 16,
 "compressionType": "None",
 "bandNames": [
  "Band_1"
 ],
 "allowCopy": true,
 "allowAnalysis": true,
 "bandCount": 1,
 "noDataValue": -3.4028230607370965E38,
 "noDataValues": [
  -3.4028230607370965E38
 ],
 "pixelType": "F32",
 "minPixelSize": 0,
 "maxPixelSize": 0,
 "copyrightText": "",
 "serviceDataType": "esriImageServiceDataTypeGeneric",
 "serviceSourceType": "esriImageServiceSourceTypeDataset",
 "minValues": [
  572.1631469726562
 ],
 "maxValues": [
  958.3194580078125
 ],
 "meanValues": [
  737.8775461205198
 ],
 "stdvValues": [
  62.76745380061408
 ],
 "objectIdField": "",
 "fields": [],
 "capabilities": "Image,Metadata,Mensuration",
 "defaultMosaicMethod": "Center",
 "allowedMosaicMethods": "",
 "sortField": "",
 "sortValue": null,
 "sortAscending": true,
 "mosaicOperator": "First",
 "defaultCompressionQuality": 75,
 "defaultResamplingMethod": "Bicubic",
 "maxImageHeight": 4100,
 "maxImageWidth": 15000,
 "allowRasterFunction": true,
 "rasterFunctionInfos": [
  {
   "name": "None",
   "description": "Make a Raster or Raster Dataset into a Function Raster Dataset.",
   "help": ""
  },
  {
   "name": "Color Ramp",
   "description": "Outputs a rendered raster.",
   "help": ""
  },
  {
   "name": "Hillshade",
   "description": "Generates a grayscale model of a terrain with the sun's relative position taken into account for shading the terrain.",
   "help": ""
  }
 ],
 "rasterTypeInfos": [
  {
   "name": "Raster Dataset",
   "description": "Supports all ArcGIS Raster Datasets",
   "help": ""
  }
 ],
 "mensurationCapabilities": "Basic",
 "hasHistograms": false,
 "hasColormap": false,
 "hasRasterAttributeTable": false,
 "minScale": 0,
 "maxScale": 0,
 "exportTilesAllowed": false,
 "supportsStatistics": false,
 "supportsAdvancedQueries": false,
 "editFieldsInfo": null,
 "ownershipBasedAccessControlForRasters": null,
 "allowComputeTiePoints": false,
 "useStandardizedQueries": true,
 "advancedQueryCapabilities": {
  "useStandardizedQueries": true,
  "supportsStatistics": false,
  "supportsOrderBy": false,
  "supportsDistinct": false,
  "supportsPagination": false
 },
 "spatialReference": {
  "wkt": "PROJCS[\"NAD_1983_HARN_Transverse_Mercator\",GEOGCS[\"GCS_North_American_1983_HARN\",DATUM[\"D_North_American_1983_HARN\",SPHEROID[\"GRS_1980\",6378137.0,298.257222101]],PRIMEM[\"Greenwich\",0.0],UNIT[\"Degree\",0.0174532925199433]],PROJECTION[\"Transverse_Mercator\"],PARAMETER[\"False_Easting\",984250.0],PARAMETER[\"False_Northing\",0.0],PARAMETER[\"Central_Meridian\",-88.33333333333333],PARAMETER[\"Scale_Factor\",0.999975],PARAMETER[\"Latitude_Of_Origin\",36.66666666666666],UNIT[\"Foot_US\",0.3048006096012192]],VERTCS[\"NAVD_1988\",VDATUM[\"North_American_Vertical_Datum_1988\"],PARAMETER[\"Vertical_Shift\",0.0],PARAMETER[\"Direction\",1.0],UNIT[\"User_Defined_Unit\",0.3048]]"
 }
}
