{
 "currentVersion": 10.91,
 "serviceDescription": " Product: These lidar data are part of a 8 county project in the NorthWest of Illinois. This data are processed Classified LAS 1.4 files, formatted to 14482 individual 1000 meter x 1000 meter tiles; used to create intensity images, 3D breaklines and hydro-flattened DEMs as necessary. Geographic Extent: Jo Daviess, Stephenson, Carroll, Ogle, Whiteside, Lee, Rock Island, and Henry Counties Illinois, covering approximately 5318 square miles. Dataset Description: Illinois 8 county 2019 Lidar Dataset Description: Block 3_IL_8 County, Illinois 2019 Lidar project called for the planning, acquisition, processing and derivative products of lidar data to be collected at a nominal pulse spacing of 0.5 meter. Project specifications are based on the U.S. Geological Survey National Geospatial Program Base Lidar Specification, Version 1.3. The data was developed based on a horizontal projection/datum of NAD83(2011), State Plane Coordinat System Illinois East (FIPS 1201), United States Survey Feet, and a vertical datum of NAVD88 (GEOID12B), US survey feet. Lidar data was delivered as processed Classified LAS 1.4 files, formatted to 37,739 individual 2000 US survey feet x 2000 US survey feet tiles, and 37,738 tiled Intensity Imagery, and 37,739 tiled bare earth DEMs; all tiled to the same 2000 US survey feet x 2000 US survey feet schema. project called for the planning, acquisition, processing and derivative products of lidar data to be collected at a nominal pulse spacing (NPS) of 0.5 meters. Tile 2075_1735 is located within a water body with no reflectance measured within the tile boundary, so no intensity image was produced for that tile. Project specifications are based on the U.S. Geological Survey National Geospatial Program Base Lidar Specification, Version 1.3; Quality Level 2+. The data was developed based on a horizontal projection/datum of NAD83(2011), State Plane Coordinat System Illinois East (FIPS 1201), US survey feet, and a vertical datum of NAVD88 (GEOID12B), US survey feet. Lidar data was delivered as processed Classified LAS 1.4 files, formatted to 37,739 individual 2000 US survey feet x 2000 US survey feet tiles, as tiled Intensity Imagery, and as tiled bare earth DEMs; all tiled to the same 2000 x 2000 US survey feet schema -- ISGS QAQC comments: Almost all of the buildings have been classified as vegetation. These points should be classified as class 1 but was not corrected. There are Erroneous High and Low points found in a North - South swath over the Whiteside and Carroll counties and an East - West strip in Jo Daviess county. There are flight lines that are out of tolerance. -- Ground Conditions: Lidar was collected in late 2019, early 2020 and late 2020 while no snow was on the ground, and rivers levels fluctuated. In order to post process the lidar data to meet task order specifications and meet ASPRS vertical accuracy guidelines, Subcontractor, Surveying and Mapping, LLC (SAM) established a total of 76 ground control points that were used to calibrate the lidar to known ground locations established throughout the Block 3_IL_8 County project area. An additional 219 independent accuracy checkpoints, 127 in Bare Earth and Uraban landcovers (127 NVA points), 92 in tall Grass/tall weeds/crops, Brush lands/short trees, Forested categories (92 VVA points), were used to assess the vertical accuracy of the data. These checkpoints were not used to calibrate or post process the data.<\/SPAN><\/P><\/DIV><\/DIV>",
 "name": "Elevation/IL_Whiteside_DSM_2020",
 "description": "",
 "extent": {
  "xmin": 2272004.999916829,
  "ymin": 1787194.1035088226,
  "xmax": 2445994.999916829,
  "ymax": 1919994.1035088226,
  "spatialReference": {
   "wkt": "PROJCS[\"NAD_1983_2011_StatePlane_Illinois_West_FIPS_1202_Ft_US\",GEOGCS[\"GCS_NAD_1983_2011\",DATUM[\"D_NAD_1983_2011\",SPHEROID[\"GRS_1980\",6378137.0,298.257222101]],PRIMEM[\"Greenwich\",0.0],UNIT[\"Degree\",0.0174532925199433]],PROJECTION[\"Transverse_Mercator\"],PARAMETER[\"False_Easting\",2296583.333333333],PARAMETER[\"False_Northing\",0.0],PARAMETER[\"Central_Meridian\",-90.16666666666667],PARAMETER[\"Scale_Factor\",0.9999411764705882],PARAMETER[\"Latitude_Of_Origin\",36.66666666666666],UNIT[\"Foot_US\",0.3048006096012192]],VERTCS[\"NAVD88_height - Geoid12B (ftUS)\",VDATUM[\"North_American_Vertical_Datum_1988\"],PARAMETER[\"Vertical_Shift\",0.0],PARAMETER[\"Direction\",1.0],UNIT[\"Foot_US\",0.3048006096012192]]"
  }
 },
 "initialExtent": {
  "xmin": 2272004.999916829,
  "ymin": 1787194.1035088226,
  "xmax": 2445994.999916829,
  "ymax": 1919994.1035088226,
  "spatialReference": {
   "wkt": "PROJCS[\"NAD_1983_2011_StatePlane_Illinois_West_FIPS_1202_Ft_US\",GEOGCS[\"GCS_NAD_1983_2011\",DATUM[\"D_NAD_1983_2011\",SPHEROID[\"GRS_1980\",6378137.0,298.257222101]],PRIMEM[\"Greenwich\",0.0],UNIT[\"Degree\",0.0174532925199433]],PROJECTION[\"Transverse_Mercator\"],PARAMETER[\"False_Easting\",2296583.333333333],PARAMETER[\"False_Northing\",0.0],PARAMETER[\"Central_Meridian\",-90.16666666666667],PARAMETER[\"Scale_Factor\",0.9999411764705882],PARAMETER[\"Latitude_Of_Origin\",36.66666666666666],UNIT[\"Foot_US\",0.3048006096012192]],VERTCS[\"NAVD88_height - Geoid12B (ftUS)\",VDATUM[\"North_American_Vertical_Datum_1988\"],PARAMETER[\"Vertical_Shift\",0.0],PARAMETER[\"Direction\",1.0],UNIT[\"Foot_US\",0.3048006096012192]]"
  }
 },
 "fullExtent": {
  "xmin": 2272004.999916829,
  "ymin": 1787194.1035088226,
  "xmax": 2445994.999916829,
  "ymax": 1919994.1035088226,
  "spatialReference": {
   "wkt": "PROJCS[\"NAD_1983_2011_StatePlane_Illinois_West_FIPS_1202_Ft_US\",GEOGCS[\"GCS_NAD_1983_2011\",DATUM[\"D_NAD_1983_2011\",SPHEROID[\"GRS_1980\",6378137.0,298.257222101]],PRIMEM[\"Greenwich\",0.0],UNIT[\"Degree\",0.0174532925199433]],PROJECTION[\"Transverse_Mercator\"],PARAMETER[\"False_Easting\",2296583.333333333],PARAMETER[\"False_Northing\",0.0],PARAMETER[\"Central_Meridian\",-90.16666666666667],PARAMETER[\"Scale_Factor\",0.9999411764705882],PARAMETER[\"Latitude_Of_Origin\",36.66666666666666],UNIT[\"Foot_US\",0.3048006096012192]],VERTCS[\"NAVD88_height - Geoid12B (ftUS)\",VDATUM[\"North_American_Vertical_Datum_1988\"],PARAMETER[\"Vertical_Shift\",0.0],PARAMETER[\"Direction\",1.0],UNIT[\"Foot_US\",0.3048006096012192]]"
  }
 },
 "heightModelInfo": {
  "heightModel": "gravity_related_height",
  "vertCRS": "NAVD88_height - Geoid12B (ftUS)",
  "heightUnit": "us-foot"
 },
 "hasMultidimensions": false,
 "pixelSizeX": 2,
 "pixelSizeY": 2,
 "datasetFormat": "GRID",
 "uncompressedSize": 23105872000,
 "blockWidth": 256,
 "blockHeight": 16,
 "compressionType": "None",
 "bandNames": [
  "Whiteside_DSM"
 ],
 "allowCopy": true,
 "allowAnalysis": true,
 "bandCount": 1,
 "noDataValue": -3.4028234663852886E38,
 "noDataValues": [
  -3.4028234663852886E38
 ],
 "pixelType": "F32",
 "minPixelSize": 0,
 "maxPixelSize": 0,
 "copyrightText": "Recommended Publishing Citation: \nIllinois Height Modernization Program, Illinois State Geological Survey, United States Geological Survey, and Natural Resources Conservation Service, 2002\u20132022, Illinois LiDAR county database: Illinois State Geological Survey, https://clearinghouse.isgs.illinois.edu/data/elevation/illinois-height-modernization-ilhmp/ (accessed April ,2022)",
 "serviceDataType": "esriImageServiceDataTypeGeneric",
 "serviceSourceType": "esriImageServiceSourceTypeDataset",
 "minValues": [
  518.3164672851562
 ],
 "maxValues": [
  1172.06787109375
 ],
 "meanValues": [
  656.5361512160842
 ],
 "stdvValues": [
  58.015300146774244
 ],
 "objectIdField": "",
 "fields": [],
 "capabilities": "Image,Metadata,Mensuration",
 "defaultMosaicMethod": "Center",
 "allowedMosaicMethods": "",
 "sortField": "",
 "sortValue": null,
 "sortAscending": true,
 "mosaicOperator": "First",
 "defaultCompressionQuality": 75,
 "defaultResamplingMethod": "Bicubic",
 "maxImageHeight": 4100,
 "maxImageWidth": 15000,
 "allowRasterFunction": true,
 "rasterFunctionInfos": [
  {
   "name": "None",
   "description": "Make a Raster or Raster Dataset into a Function Raster Dataset.",
   "help": ""
  },
  {
   "name": "Color Ramp",
   "description": "Outputs a rendered raster.",
   "help": ""
  },
  {
   "name": "Hillshade",
   "description": "Generates a grayscale model of a terrain with the sun's relative position taken into account for shading the terrain.",
   "help": ""
  }
 ],
 "rasterTypeInfos": [
  {
   "name": "Raster Dataset",
   "description": "Supports all ArcGIS Raster Datasets",
   "help": ""
  }
 ],
 "mensurationCapabilities": "Basic",
 "hasHistograms": true,
 "hasColormap": false,
 "hasRasterAttributeTable": false,
 "minScale": 0,
 "maxScale": 0,
 "exportTilesAllowed": false,
 "supportsStatistics": false,
 "supportsAdvancedQueries": false,
 "editFieldsInfo": null,
 "ownershipBasedAccessControlForRasters": null,
 "allowComputeTiePoints": false,
 "useStandardizedQueries": true,
 "advancedQueryCapabilities": {
  "useStandardizedQueries": true,
  "supportsStatistics": false,
  "supportsOrderBy": false,
  "supportsDistinct": false,
  "supportsPagination": false
 },
 "spatialReference": {
  "wkt": "PROJCS[\"NAD_1983_2011_StatePlane_Illinois_West_FIPS_1202_Ft_US\",GEOGCS[\"GCS_NAD_1983_2011\",DATUM[\"D_NAD_1983_2011\",SPHEROID[\"GRS_1980\",6378137.0,298.257222101]],PRIMEM[\"Greenwich\",0.0],UNIT[\"Degree\",0.0174532925199433]],PROJECTION[\"Transverse_Mercator\"],PARAMETER[\"False_Easting\",2296583.333333333],PARAMETER[\"False_Northing\",0.0],PARAMETER[\"Central_Meridian\",-90.16666666666667],PARAMETER[\"Scale_Factor\",0.9999411764705882],PARAMETER[\"Latitude_Of_Origin\",36.66666666666666],UNIT[\"Foot_US\",0.3048006096012192]],VERTCS[\"NAVD88_height - Geoid12B (ftUS)\",VDATUM[\"North_American_Vertical_Datum_1988\"],PARAMETER[\"Vertical_Shift\",0.0],PARAMETER[\"Direction\",1.0],UNIT[\"Foot_US\",0.3048006096012192]]"
 }
}
