{
 "currentVersion": 10.91,
 "serviceDescription": "Elevation/IL_Will_DEM_2004",
 "name": "Elevation/IL_Will_DEM_2004",
 "description": "",
 "extent": {
  "xmin": 1003725.4431525872,
  "ymin": 1651393.9698751767,
  "xmax": 1206221.4431525872,
  "ymax": 1844215.9698751767,
  "spatialReference": {
   "wkid": 102671,
   "latestWkid": 3435,
   "vcsWkid": 5703,
   "latestVcsWkid": 5703
  }
 },
 "initialExtent": {
  "xmin": 1003725.4431525872,
  "ymin": 1651393.9698751767,
  "xmax": 1206221.4431525872,
  "ymax": 1844215.9698751767,
  "spatialReference": {
   "wkid": 102671,
   "latestWkid": 3435,
   "vcsWkid": 5703,
   "latestVcsWkid": 5703
  }
 },
 "fullExtent": {
  "xmin": 1003725.4431525872,
  "ymin": 1651393.9698751767,
  "xmax": 1206221.4431525872,
  "ymax": 1844215.9698751767,
  "spatialReference": {
   "wkid": 102671,
   "latestWkid": 3435,
   "vcsWkid": 5703,
   "latestVcsWkid": 5703
  }
 },
 "heightModelInfo": {
  "heightModel": "gravity_related_height",
  "vertCRS": "NAVD_1988",
  "heightUnit": "meter"
 },
 "hasMultidimensions": false,
 "pixelSizeX": 3.5,
 "pixelSizeY": 3.5,
 "datasetFormat": "GRID",
 "uncompressedSize": 12749611008,
 "blockWidth": 512,
 "blockHeight": 4,
 "compressionType": "RLE",
 "bandNames": [
  "Will_BE_ras35"
 ],
 "allowCopy": true,
 "allowAnalysis": true,
 "bandCount": 1,
 "noDataValue": 352.1619873046875,
 "noDataValues": [
  352.1619873046875
 ],
 "pixelType": "F32",
 "minPixelSize": 0,
 "maxPixelSize": 0,
 "copyrightText": "",
 "serviceDataType": "esriImageServiceDataTypeGeneric",
 "serviceSourceType": "esriImageServiceSourceTypeDataset",
 "minValues": [
  0
 ],
 "maxValues": [
  831.5430297851562
 ],
 "meanValues": [
  656.7717588591624
 ],
 "stdvValues": [
  88.14593996994432
 ],
 "objectIdField": "",
 "fields": [],
 "capabilities": "Image,Metadata,Mensuration",
 "defaultMosaicMethod": "Center",
 "allowedMosaicMethods": "",
 "sortField": "",
 "sortValue": null,
 "sortAscending": true,
 "mosaicOperator": "First",
 "defaultCompressionQuality": 75,
 "defaultResamplingMethod": "Bicubic",
 "maxImageHeight": 4100,
 "maxImageWidth": 15000,
 "allowRasterFunction": true,
 "rasterFunctionInfos": [
  {
   "name": "None",
   "description": "Make a Raster or Raster Dataset into a Function Raster Dataset.",
   "help": ""
  },
  {
   "name": "Color Ramp",
   "description": "Outputs a rendered raster.",
   "help": ""
  },
  {
   "name": "Hillshade",
   "description": "Generates a grayscale model of a terrain with the sun's relative position taken into account for shading the terrain.",
   "help": ""
  }
 ],
 "rasterTypeInfos": [
  {
   "name": "Raster Dataset",
   "description": "Supports all ArcGIS Raster Datasets",
   "help": ""
  }
 ],
 "mensurationCapabilities": "Basic",
 "hasHistograms": true,
 "hasColormap": false,
 "hasRasterAttributeTable": false,
 "minScale": 0,
 "maxScale": 0,
 "exportTilesAllowed": false,
 "supportsStatistics": false,
 "supportsAdvancedQueries": false,
 "editFieldsInfo": null,
 "ownershipBasedAccessControlForRasters": null,
 "allowComputeTiePoints": false,
 "useStandardizedQueries": true,
 "advancedQueryCapabilities": {
  "useStandardizedQueries": true,
  "supportsStatistics": false,
  "supportsOrderBy": false,
  "supportsDistinct": false,
  "supportsPagination": false
 },
 "spatialReference": {
  "wkid": 102671,
  "latestWkid": 3435,
  "vcsWkid": 5703,
  "latestVcsWkid": 5703
 }
}
