<?xml version="1.0" encoding="UTF-8" standalone="no"?>
<metadata xml:lang="en">
<Esri>
<MetaID>{19559218-B839-4E4A-8346-BBF3C660BA5D}</MetaID>
<CreaDate>20120702</CreaDate>
<CreaTime>14512200</CreaTime>
<SyncOnce>FALSE</SyncOnce>
<DataProperties>
<lineage>
<Process Date="20120702" Name="Mosaic" Time="145122" ToolSource="C:\Program Files\ArcGIS\ArcToolbox\Toolboxes\Data Management Tools.tbx\Mosaic">Mosaic 0BHA01185_ORTHO1.tif;0BHA01184_ORTHO1.tif;0BHA01183_ORTHO1.tif;0BHA01182_ORTHO1.tif;0BHA01181_ORTHO1.tif;0BHA01180_ORTHO1.tif;0BHA01179_ORTHO1.tif;0BHA01178_ORTHO1.tif;0BHA01177_ORTHO1.tif;fl09 D:\data\38_pulaski\38_orthos\fl10 FIRST FIRST # # NONE 0 D:\data\38_pulaski\38_orthos\fl10 NONE</Process>
<Process Date="20120702" Time="145122" ToolSource="C:\Program Files\ArcGIS\ArcToolbox\Toolboxes\Data Management Tools.tbx\MosaicToNewRaster">MosaicToNewRaster 0BHA01185_ORTHO1.tif;0BHA01184_ORTHO1.tif;0BHA01183_ORTHO1.tif;0BHA01182_ORTHO1.tif;0BHA01181_ORTHO1.tif;0BHA01180_ORTHO1.tif;0BHA01179_ORTHO1.tif;0BHA01178_ORTHO1.tif;0BHA01177_ORTHO1.tif;fl09 D:\data\38_pulaski\38_orthos fl10 # 8_BIT_UNSIGNED # 1 FIRST FIRST D:\data\38_pulaski\38_orthos\fl10</Process>
<Process Date="20120702" Time="151612" ToolSource="C:\Program Files\ArcGIS\ArcToolbox\Toolboxes\Data Management Tools.tbx\CopyRaster">CopyRaster D:\data\38_pulaski\38_orthos\fl10 D:\data\38_pulaski\38_orthos\Pulaski_38.tif # # 255 NONE NONE 8_BIT_UNSIGNED</Process>
</lineage>
<itemProps>
<itemLocation>
<linkage Sync="TRUE">file://\\ISGS-BARNSTORM\AerialImagery\HISTORICAL\ilhap\mosaics\IL_Pulaski_1938\IL_Pulaski_1938.tif</linkage>
<protocol Sync="TRUE">Local Area Network</protocol>
</itemLocation>
</itemProps>
<copyHistory>
<copy date="20150910" dest="\\ISGS-BARNSTORM\AerialImagery\HISTORICAL\ilhap\mosaics\IL_Pulaski_1938\IL_Pulaski_1938.tif" source="\\ISGS-BARNSTORM\AerialImagery\HISTORICAL\ilhap\mosaics\IL_Pulaski_1938\38_orthos\IL_Pulaski_1938.tif" time="14252100"/>
</copyHistory>
</DataProperties>
<SyncDate>20120702</SyncDate>
<SyncTime>15161200</SyncTime>
<ModDate>20120702</ModDate>
<ModTime>15161200</ModTime>
</Esri>
<idinfo>
<native Sync="TRUE">Microsoft Windows XP Version 5.1 (Build 2600) Service Pack 3; ESRI ArcCatalog 9.3.1.3000</native>
<descript>
<langdata Sync="TRUE">en</langdata>
<abstract>REQUIRED: A brief narrative summary of the data set.</abstract>
<purpose>REQUIRED: A summary of the intentions with which the data set was developed.</purpose>
</descript>
<citation>
<citeinfo>
<origin>REQUIRED: The name of an organization or individual that developed the data set.</origin>
<pubdate>REQUIRED: The date when the data set is published or otherwise made available for release.</pubdate>
<title Sync="TRUE">Pulaski_38.tif</title>
<ftname Sync="TRUE">Pulaski_38.tif</ftname>
<onlink Sync="TRUE">\\ILCARBONDAD244\D\data\38_pulaski\38_orthos\Pulaski_38.tif</onlink>
<geoform Sync="TRUE">remote-sensing image</geoform>
</citeinfo>
</citation>
<timeperd>
<current>REQUIRED: The basis on which the time period of content information is determined.</current>
<timeinfo>
<sngdate>
<caldate>REQUIRED: The year (and optionally month, or month and day) for which the data set corresponds to the ground.</caldate>
</sngdate>
</timeinfo>
</timeperd>
<status>
<progress>REQUIRED: The state of the data set.</progress>
<update>REQUIRED: The frequency with which changes and additions are made to the data set after the initial data set is completed.</update>
</status>
<spdom>
<bounding>
<westbc Sync="TRUE">REQUIRED: Western-most coordinate of the limit of coverage expressed in longitude.</westbc>
<eastbc Sync="TRUE">REQUIRED: Eastern-most coordinate of the limit of coverage expressed in longitude.</eastbc>
<northbc Sync="TRUE">REQUIRED: Northern-most coordinate of the limit of coverage expressed in latitude.</northbc>
<southbc Sync="TRUE">REQUIRED: Southern-most coordinate of the limit of coverage expressed in latitude.</southbc>
</bounding>
<lboundng>
<leftbc Sync="TRUE">296162.589985</leftbc>
<rightbc Sync="TRUE">331457.589985</rightbc>
<bottombc Sync="TRUE">4103527.250000</bottombc>
<topbc Sync="TRUE">4136176.250000</topbc>
</lboundng>
</spdom>
<keywords>
<theme>
<themekt>REQUIRED: Reference to a formally registered thesaurus or a similar authoritative source of theme keywords.</themekt>
<themekey>REQUIRED: Common-use word or phrase used to describe the subject of the data set.</themekey>
</theme>
</keywords>
<accconst>REQUIRED: Restrictions and legal prerequisites for accessing the data set.</accconst>
<useconst>REQUIRED: Restrictions and legal prerequisites for using the data set after access is granted.</useconst>
<natvform Sync="TRUE">Raster Dataset</natvform>
</idinfo>
<dataIdInfo>
<envirDesc Sync="TRUE">Microsoft Windows XP Version 5.1 (Build 2600) Service Pack 3; ESRI ArcCatalog 9.3.1.3000</envirDesc>
<dataLang>
<languageCode Sync="TRUE" value="en"/>
</dataLang>
<idCitation>
<resTitle Sync="TRUE">IL_Pulaski_1938</resTitle>
<presForm>
<PresFormCd Sync="TRUE" value="005"/>
</presForm>
</idCitation>
<spatRpType>
<SpatRepTypCd Sync="TRUE" value="002"/>
</spatRpType>
<dataExt>
<geoEle>
<GeoBndBox esriExtentType="native">
<westBL Sync="TRUE">296162.589985</westBL>
<eastBL Sync="TRUE">331457.589985</eastBL>
<northBL Sync="TRUE">4136176.25</northBL>
<southBL Sync="TRUE">4103527.25</southBL>
<exTypeCode Sync="TRUE">1</exTypeCode>
</GeoBndBox>
</geoEle>
</dataExt>
<idAbs/>
<idPurp/>
<idCredit/>
<resConst>
<Consts>
<useLimit/>
</Consts>
</resConst>
</dataIdInfo>
<metainfo>
<langmeta Sync="TRUE">en</langmeta>
<metstdn Sync="TRUE">FGDC Content Standards for Digital Geospatial Metadata</metstdn>
<metstdv Sync="TRUE">FGDC-STD-001-1998</metstdv>
<mettc Sync="TRUE">local time</mettc>
<metextns>
<onlink Sync="TRUE">http://www.esri.com/metadata/esriprof80.html</onlink>
<metprof Sync="TRUE">ESRI Metadata Profile</metprof>
</metextns>
<metc>
<cntinfo>
<cntorgp>
<cntper>REQUIRED: The person responsible for the metadata information.</cntper>
<cntorg>REQUIRED: The organization responsible for the metadata information.</cntorg>
</cntorgp>
<cntaddr>
<addrtype>REQUIRED: The mailing and/or physical address for the organization or individual.</addrtype>
<city>REQUIRED: The city of the address.</city>
<state>REQUIRED: The state or province of the address.</state>
<postal>REQUIRED: The ZIP or other postal code of the address.</postal>
</cntaddr>
<cntvoice>REQUIRED: The telephone number by which individuals can speak to the organization or individual.</cntvoice>
</cntinfo>
</metc>
<metd Sync="TRUE">20120702</metd>
</metainfo>
<mdLang>
<languageCode Sync="TRUE" value="en"/>
</mdLang>
<mdStanName Sync="TRUE">ISO 19115 Geographic Information - Metadata</mdStanName>
<mdStanVer Sync="TRUE">DIS_ESRI1.0</mdStanVer>
<mdChar>
<CharSetCd Sync="TRUE" value="004"/>
</mdChar>
<mdHrLv>
<ScopeCd Sync="TRUE" value="005"/>
</mdHrLv>
<mdHrLvName Sync="TRUE">dataset</mdHrLvName>
<distInfo>
<distributor>
<distorTran>
<onLineSrc>
<linkage Sync="TRUE">file://\\ILCARBONDAD244\D\data\38_pulaski\38_orthos\Pulaski_38.tif</linkage>
<protocol Sync="TRUE">Local Area Network</protocol>
<orDesc Sync="TRUE">002</orDesc>
</onLineSrc>
<transSize Sync="TRUE">0.000</transSize>
</distorTran>
<distorFormat>
<formatName Sync="TRUE">Raster Dataset</formatName>
</distorFormat>
</distributor>
</distInfo>
<distinfo>
<resdesc Sync="TRUE">Downloadable Data</resdesc>
<stdorder>
<digform>
<digtinfo>
<transize Sync="TRUE">0.000</transize>
<dssize Sync="TRUE">0.000</dssize>
</digtinfo>
</digform>
</stdorder>
</distinfo>
<spdoinfo>
<direct Sync="TRUE">Raster</direct>
<rastinfo>
<rasttype Sync="TRUE">Pixel</rasttype>
<rowcount Sync="TRUE">32649</rowcount>
<colcount Sync="TRUE">35295</colcount>
<rastxsz Sync="TRUE">1.000000</rastxsz>
<rastysz Sync="TRUE">1.000000</rastysz>
<rastbpp Sync="TRUE">8</rastbpp>
<vrtcount Sync="TRUE">1</vrtcount>
<rastorig Sync="TRUE">Upper Left</rastorig>
<rastcmap Sync="TRUE">TRUE</rastcmap>
<rastcomp Sync="TRUE">None</rastcomp>
<rastband Sync="TRUE">1</rastband>
<rastdtyp Sync="TRUE">pixel codes</rastdtyp>
<rastplyr Sync="TRUE">TRUE</rastplyr>
<rastifor Sync="TRUE">TIFF</rastifor>
</rastinfo>
</spdoinfo>
<spatRepInfo>
<GridSpatRep>
<numDims Sync="TRUE">2</numDims>
<axDimProps>
<Dimen>
<dimName>
<DimNameTypCd Sync="TRUE" value="002"/>
</dimName>
<dimSize Sync="TRUE">35295</dimSize>
<dimResol>
<value Sync="TRUE">1</value>
<uom>
<UomLength>
<uomName Sync="TRUE">unknown</uomName>
</UomLength>
</uom>
</dimResol>
</Dimen>
<Dimen>
<dimName>
<DimNameTypCd Sync="TRUE" value="001"/>
</dimName>
<dimSize Sync="TRUE">32649</dimSize>
<dimResol>
<value Sync="TRUE">1</value>
<uom>
<UomLength>
<uomName Sync="TRUE">unknown</uomName>
</UomLength>
</uom>
</dimResol>
</Dimen>
</axDimProps>
<cellGeo>
<CellGeoCd Sync="TRUE" value="002"/>
</cellGeo>
<tranParaAv Sync="TRUE">1</tranParaAv>
</GridSpatRep>
</spatRepInfo>
<spref>
<horizsys>
<planar>
<planci>
<plance Sync="TRUE">row and column</plance>
<coordrep>
<absres Sync="TRUE">1.000000</absres>
<ordres Sync="TRUE">1.000000</ordres>
</coordrep>
</planci>
</planar>
</horizsys>
</spref>
<eainfo>
<detailed Name="Pulaski_38.tif.vat">
<enttyp>
<enttypl Sync="TRUE">Pulaski_38.tif.vat</enttypl>
<enttypt Sync="TRUE">Table</enttypt>
<enttypc Sync="TRUE">256</enttypc>
</enttyp>
<attr>
<attrlabl Sync="TRUE">OID</attrlabl>
<attalias Sync="TRUE">OID</attalias>
<attrtype Sync="TRUE">OID</attrtype>
<attwidth Sync="TRUE">4</attwidth>
<atprecis Sync="TRUE">0</atprecis>
<attscale Sync="TRUE">0</attscale>
<attrdef Sync="TRUE">Internal feature number.</attrdef>
<attrdefs Sync="TRUE">ESRI</attrdefs>
<attrdomv>
<udom Sync="TRUE">Sequential unique whole numbers that are automatically generated.</udom>
</attrdomv>
</attr>
<attr>
<attrlabl Sync="TRUE">VALUE</attrlabl>
<attalias Sync="TRUE">VALUE</attalias>
<attrtype Sync="TRUE">Integer</attrtype>
<attwidth Sync="TRUE">9</attwidth>
<atprecis Sync="TRUE">9</atprecis>
<attscale Sync="TRUE">0</attscale>
</attr>
<attr>
<attrlabl Sync="TRUE">COUNT</attrlabl>
<attalias Sync="TRUE">COUNT</attalias>
<attrtype Sync="TRUE">Integer</attrtype>
<attwidth Sync="TRUE">9</attwidth>
<atprecis Sync="TRUE">9</atprecis>
<attscale Sync="TRUE">0</attscale>
</attr>
</detailed>
</eainfo>
<mdDateSt Sync="TRUE">20120702</mdDateSt>
</metadata>
