{
 "currentVersion": 10.91,
 "serviceDescription": "Imagery/IL_Vermilion_1940",
 "name": "Imagery/IL_Vermilion_1940",
 "description": "",
 "extent": {
  "xmin": 1081839.4416362399,
  "ymin": 1165657.700755347,
  "xmax": 1224311.373994955,
  "ymax": 1396661.1212475814,
  "spatialReference": {
   "wkid": 103037,
   "latestWkid": 6455
  }
 },
 "initialExtent": {
  "xmin": 1081839.4416362399,
  "ymin": 1165657.700755347,
  "xmax": 1224311.373994955,
  "ymax": 1396661.1212475814,
  "spatialReference": {
   "wkid": 103037,
   "latestWkid": 6455
  }
 },
 "fullExtent": {
  "xmin": 1081839.4416362399,
  "ymin": 1165657.700755347,
  "xmax": 1224311.373994955,
  "ymax": 1396661.1212475814,
  "spatialReference": {
   "wkid": 103037,
   "latestWkid": 6455
  }
 },
 "hasMultidimensions": false,
 "pixelSizeX": 2.2483616450000032,
 "pixelSizeY": 2.2483616449999944,
 "datasetFormat": "TIFF",
 "uncompressedSize": 6510515681,
 "blockWidth": 128,
 "blockHeight": 128,
 "compressionType": "LZW",
 "bandNames": [
  "Band_1"
 ],
 "allowCopy": true,
 "allowAnalysis": true,
 "bandCount": 1,
 "noDataValue": 65536,
 "noDataValues": [
  65536
 ],
 "pixelType": "U8",
 "minPixelSize": 0,
 "maxPixelSize": 0,
 "copyrightText": "",
 "serviceDataType": "esriImageServiceDataTypeGeneric",
 "serviceSourceType": "esriImageServiceSourceTypeDataset",
 "minValues": [
  0
 ],
 "maxValues": [
  255
 ],
 "meanValues": [
  140.93764918389
 ],
 "stdvValues": [
  59.217930499021
 ],
 "objectIdField": "",
 "fields": [],
 "capabilities": "Image,Metadata,Mensuration",
 "defaultMosaicMethod": "Center",
 "allowedMosaicMethods": "",
 "sortField": "",
 "sortValue": null,
 "sortAscending": true,
 "mosaicOperator": "First",
 "defaultCompressionQuality": 75,
 "defaultResamplingMethod": "Bicubic",
 "maxImageHeight": 4100,
 "maxImageWidth": 15000,
 "allowRasterFunction": true,
 "rasterFunctionInfos": [
  {
   "name": "None",
   "description": "",
   "help": ""
  }
 ],
 "rasterTypeInfos": [
  {
   "name": "Raster Dataset",
   "description": "Supports all ArcGIS Raster Datasets",
   "help": ""
  }
 ],
 "mensurationCapabilities": "Basic",
 "hasHistograms": true,
 "hasColormap": false,
 "hasRasterAttributeTable": false,
 "minScale": 0,
 "maxScale": 0,
 "exportTilesAllowed": false,
 "supportsStatistics": false,
 "supportsAdvancedQueries": false,
 "editFieldsInfo": null,
 "ownershipBasedAccessControlForRasters": null,
 "allowComputeTiePoints": false,
 "useStandardizedQueries": true,
 "advancedQueryCapabilities": {
  "useStandardizedQueries": true,
  "supportsStatistics": false,
  "supportsOrderBy": false,
  "supportsDistinct": false,
  "supportsPagination": false
 },
 "spatialReference": {
  "wkid": 103037,
  "latestWkid": 6455
 }
}
