{
 "currentVersion": 10.91,
 "serviceDescription": "elevation/IL_Adams_DEM_2009",
 "name": "elevation/IL_Adams_DEM_2009",
 "description": "",
 "extent": {
  "xmin": 1920242.83500427,
  "ymin": 1126314.6467271447,
  "xmax": 2088399.0029826001,
  "ymax": 1289644.6992199298,
  "spatialReference": {
   "wkid": 102672,
   "latestWkid": 3436,
   "vcsWkid": 5703,
   "latestVcsWkid": 5703
  }
 },
 "initialExtent": {
  "xmin": 1920242.83500427,
  "ymin": 1126314.6467271447,
  "xmax": 2088399.0029826001,
  "ymax": 1289644.6992199298,
  "spatialReference": {
   "wkid": 102672,
   "latestWkid": 3436,
   "vcsWkid": 5703,
   "latestVcsWkid": 5703
  }
 },
 "fullExtent": {
  "xmin": 1920242.83500427,
  "ymin": 1126314.6467271447,
  "xmax": 2088399.0029826001,
  "ymax": 1289644.6992199298,
  "spatialReference": {
   "wkid": 102672,
   "latestWkid": 3436,
   "vcsWkid": 5703,
   "latestVcsWkid": 5703
  }
 },
 "heightModelInfo": {
  "heightModel": "gravity_related_height",
  "vertCRS": "NAVD_1988",
  "heightUnit": "meter"
 },
 "hasMultidimensions": false,
 "pixelSizeX": 3.280839895000001,
 "pixelSizeY": 3.2808398950000006,
 "datasetFormat": "GRID",
 "uncompressedSize": 10206311528,
 "blockWidth": 256,
 "blockHeight": 16,
 "compressionType": "None",
 "bandNames": [
  "adams_be_dem"
 ],
 "allowCopy": true,
 "allowAnalysis": true,
 "bandCount": 1,
 "noDataValue": -3.4028234663852886E38,
 "noDataValues": [
  -3.4028234663852886E38
 ],
 "pixelType": "F32",
 "minPixelSize": 0,
 "maxPixelSize": 0,
 "copyrightText": "",
 "serviceDataType": "esriImageServiceDataTypeGeneric",
 "serviceSourceType": "esriImageServiceSourceTypeDataset",
 "minValues": [
  450.89324951171875
 ],
 "maxValues": [
  860.2337646484375
 ],
 "meanValues": [
  654.4238274354028
 ],
 "stdvValues": [
  87.42096816269515
 ],
 "objectIdField": "",
 "fields": [],
 "capabilities": "Image,Metadata,Mensuration",
 "defaultMosaicMethod": "Center",
 "allowedMosaicMethods": "",
 "sortField": "",
 "sortValue": null,
 "sortAscending": true,
 "mosaicOperator": "First",
 "defaultCompressionQuality": 75,
 "defaultResamplingMethod": "Bilinear",
 "maxImageHeight": 4100,
 "maxImageWidth": 15000,
 "allowRasterFunction": true,
 "rasterFunctionInfos": [
  {
   "name": "None",
   "description": "Make a Raster or Raster Dataset into a Function Raster Dataset.",
   "help": ""
  },
  {
   "name": "Hillshade",
   "description": "Generates a grayscale model of a terrain with the sun's relative position taken into account for shading the terrain.",
   "help": ""
  },
  {
   "name": "Color Ramp",
   "description": "Outputs a rendered raster.",
   "help": ""
  }
 ],
 "rasterTypeInfos": [
  {
   "name": "Raster Dataset",
   "description": "Supports all ArcGIS Raster Datasets",
   "help": ""
  }
 ],
 "mensurationCapabilities": "Basic",
 "hasHistograms": true,
 "hasColormap": false,
 "hasRasterAttributeTable": false,
 "minScale": 0,
 "maxScale": 0,
 "exportTilesAllowed": false,
 "supportsStatistics": false,
 "supportsAdvancedQueries": false,
 "editFieldsInfo": null,
 "ownershipBasedAccessControlForRasters": null,
 "allowComputeTiePoints": false,
 "useStandardizedQueries": true,
 "advancedQueryCapabilities": {
  "useStandardizedQueries": true,
  "supportsStatistics": false,
  "supportsOrderBy": false,
  "supportsDistinct": false,
  "supportsPagination": false
 },
 "spatialReference": {
  "wkid": 102672,
  "latestWkid": 3436,
  "vcsWkid": 5703,
  "latestVcsWkid": 5703
 }
}
