{
 "currentVersion": 10.91,
 "serviceDescription": "elevation/IL_Adams_DSM_2009",
 "name": "elevation/IL_Adams_DSM_2009",
 "description": "",
 "extent": {
  "xmin": 1919999.9900175035,
  "ymin": 1124000.00010968,
  "xmax": 2089999.9900168236,
  "ymax": 1290000.656276995,
  "spatialReference": {
   "wkid": 102672,
   "latestWkid": 3436,
   "vcsWkid": 5703,
   "latestVcsWkid": 5703
  }
 },
 "initialExtent": {
  "xmin": 1919999.9900175035,
  "ymin": 1124000.00010968,
  "xmax": 2089999.9900168236,
  "ymax": 1290000.656276995,
  "spatialReference": {
   "wkid": 102672,
   "latestWkid": 3436,
   "vcsWkid": 5703,
   "latestVcsWkid": 5703
  }
 },
 "fullExtent": {
  "xmin": 1919999.9900175035,
  "ymin": 1124000.00010968,
  "xmax": 2089999.9900168236,
  "ymax": 1290000.656276995,
  "spatialReference": {
   "wkid": 102672,
   "latestWkid": 3436,
   "vcsWkid": 5703,
   "latestVcsWkid": 5703
  }
 },
 "heightModelInfo": {
  "heightModel": "gravity_related_height",
  "vertCRS": "NAVD_1988",
  "heightUnit": "meter"
 },
 "hasMultidimensions": false,
 "pixelSizeX": 3.2808398950000024,
 "pixelSizeY": 3.2808398950000015,
 "datasetFormat": "GRID",
 "uncompressedSize": 10486936608,
 "blockWidth": 256,
 "blockHeight": 16,
 "compressionType": "None",
 "bandNames": [
  "Adams_c12_DSM"
 ],
 "allowCopy": true,
 "allowAnalysis": true,
 "bandCount": 1,
 "noDataValue": -3.4028234663852886E38,
 "noDataValues": [
  -3.4028234663852886E38
 ],
 "pixelType": "F32",
 "minPixelSize": 0,
 "maxPixelSize": 0,
 "copyrightText": "",
 "serviceDataType": "esriImageServiceDataTypeGeneric",
 "serviceSourceType": "esriImageServiceSourceTypeDataset",
 "minValues": [
  450.8491516113281
 ],
 "maxValues": [
  2569.232421875
 ],
 "meanValues": [
  654.5429684204174
 ],
 "stdvValues": [
  89.06639480995143
 ],
 "objectIdField": "",
 "fields": [],
 "capabilities": "Image,Metadata,Mensuration",
 "defaultMosaicMethod": "Center",
 "allowedMosaicMethods": "",
 "sortField": "",
 "sortValue": null,
 "sortAscending": true,
 "mosaicOperator": "First",
 "defaultCompressionQuality": 75,
 "defaultResamplingMethod": "Bilinear",
 "maxImageHeight": 4100,
 "maxImageWidth": 15000,
 "allowRasterFunction": true,
 "rasterFunctionInfos": [
  {
   "name": "None",
   "description": "",
   "help": ""
  }
 ],
 "rasterTypeInfos": [
  {
   "name": "Raster Dataset",
   "description": "Supports all ArcGIS Raster Datasets",
   "help": ""
  }
 ],
 "mensurationCapabilities": "Basic",
 "hasHistograms": true,
 "hasColormap": false,
 "hasRasterAttributeTable": false,
 "minScale": 0,
 "maxScale": 0,
 "exportTilesAllowed": false,
 "supportsStatistics": false,
 "supportsAdvancedQueries": false,
 "editFieldsInfo": null,
 "ownershipBasedAccessControlForRasters": null,
 "allowComputeTiePoints": false,
 "useStandardizedQueries": true,
 "advancedQueryCapabilities": {
  "useStandardizedQueries": true,
  "supportsStatistics": false,
  "supportsOrderBy": false,
  "supportsDistinct": false,
  "supportsPagination": false
 },
 "spatialReference": {
  "wkid": 102672,
  "latestWkid": 3436,
  "vcsWkid": 5703,
  "latestVcsWkid": 5703
 }
}
