{
 "currentVersion": 10.91,
 "serviceDescription": "elevation/IL_Brown_DTM_2017",
 "name": "elevation/IL_Brown_DTM_2017",
 "description": "",
 "extent": {
  "xmin": 2085704.1074275374,
  "ymin": 1155231.6056253314,
  "xmax": 2200818.1074275374,
  "ymax": 1255949.6056253314,
  "spatialReference": {
   "wkid": 103038,
   "latestWkid": 6457,
   "vcsWkid": 105703,
   "latestVcsWkid": 6360
  }
 },
 "initialExtent": {
  "xmin": 2085704.1074275374,
  "ymin": 1155231.6056253314,
  "xmax": 2200818.1074275374,
  "ymax": 1255949.6056253314,
  "spatialReference": {
   "wkid": 103038,
   "latestWkid": 6457,
   "vcsWkid": 105703,
   "latestVcsWkid": 6360
  }
 },
 "fullExtent": {
  "xmin": 2085704.1074275374,
  "ymin": 1155231.6056253314,
  "xmax": 2200818.1074275374,
  "ymax": 1255949.6056253314,
  "spatialReference": {
   "wkid": 103038,
   "latestWkid": 6457,
   "vcsWkid": 105703,
   "latestVcsWkid": 6360
  }
 },
 "heightModelInfo": {
  "heightModel": "gravity_related_height",
  "vertCRS": "NAVD_1988_Foot_US",
  "heightUnit": "us-foot"
 },
 "hasMultidimensions": false,
 "pixelSizeX": 2,
 "pixelSizeY": 2,
 "datasetFormat": "GRID",
 "uncompressedSize": 11594051852,
 "blockWidth": 256,
 "blockHeight": 16,
 "compressionType": "None",
 "bandNames": [
  "Band_1"
 ],
 "allowCopy": true,
 "allowAnalysis": true,
 "bandCount": 1,
 "noDataValue": -3.4028234663852886E38,
 "noDataValues": [
  -3.4028234663852886E38
 ],
 "pixelType": "F32",
 "minPixelSize": 0,
 "maxPixelSize": 0,
 "copyrightText": "",
 "serviceDataType": "esriImageServiceDataTypeGeneric",
 "serviceSourceType": "esriImageServiceSourceTypeDataset",
 "minValues": [
  416.3154296875
 ],
 "maxValues": [
  811.5076904296875
 ],
 "meanValues": [
  620.0276047090964
 ],
 "stdvValues": [
  88.33214121011021
 ],
 "objectIdField": "",
 "fields": [],
 "capabilities": "Image,Metadata,Mensuration",
 "defaultMosaicMethod": "Center",
 "allowedMosaicMethods": "",
 "sortField": "",
 "sortValue": null,
 "sortAscending": true,
 "mosaicOperator": "First",
 "defaultCompressionQuality": 75,
 "defaultResamplingMethod": "Bilinear",
 "maxImageHeight": 4100,
 "maxImageWidth": 15000,
 "allowRasterFunction": true,
 "rasterFunctionInfos": [
  {
   "name": "None",
   "description": "Make a Raster or Raster Dataset into a Function Raster Dataset.",
   "help": ""
  },
  {
   "name": "Color Ramp",
   "description": "Outputs a rendered raster.",
   "help": ""
  },
  {
   "name": "Hillshade",
   "description": "Generates a grayscale model of a terrain with the sun's relative position taken into account for shading the terrain.",
   "help": ""
  }
 ],
 "rasterTypeInfos": [
  {
   "name": "Raster Dataset",
   "description": "Supports all ArcGIS Raster Datasets",
   "help": ""
  }
 ],
 "mensurationCapabilities": "Basic",
 "hasHistograms": false,
 "hasColormap": false,
 "hasRasterAttributeTable": false,
 "minScale": 0,
 "maxScale": 0,
 "exportTilesAllowed": false,
 "supportsStatistics": false,
 "supportsAdvancedQueries": false,
 "editFieldsInfo": null,
 "ownershipBasedAccessControlForRasters": null,
 "allowComputeTiePoints": false,
 "useStandardizedQueries": true,
 "advancedQueryCapabilities": {
  "useStandardizedQueries": true,
  "supportsStatistics": false,
  "supportsOrderBy": false,
  "supportsDistinct": false,
  "supportsPagination": false
 },
 "spatialReference": {
  "wkid": 103038,
  "latestWkid": 6457,
  "vcsWkid": 105703,
  "latestVcsWkid": 6360
 }
}
