{
 "currentVersion": 10.91,
 "serviceDescription": "elevation/IL_Cass_DSM_2011",
 "name": "elevation/IL_Cass_DSM_2011",
 "description": "",
 "extent": {
  "xmin": 705013.3889999999,
  "ymin": 4414568.1,
  "xmax": 758024.3889999999,
  "ymax": 4447875.5,
  "spatialReference": {
   "wkid": 26915,
   "latestWkid": 26915,
   "vcsWkid": 5703,
   "latestVcsWkid": 5703
  }
 },
 "initialExtent": {
  "xmin": 705013.3889999999,
  "ymin": 4414568.1,
  "xmax": 758024.3889999999,
  "ymax": 4447875.5,
  "spatialReference": {
   "wkid": 26915,
   "latestWkid": 26915,
   "vcsWkid": 5703,
   "latestVcsWkid": 5703
  }
 },
 "fullExtent": {
  "xmin": 705013.3889999999,
  "ymin": 4414568.1,
  "xmax": 758024.3889999999,
  "ymax": 4447875.5,
  "spatialReference": {
   "wkid": 26915,
   "latestWkid": 26915,
   "vcsWkid": 5703,
   "latestVcsWkid": 5703
  }
 },
 "heightModelInfo": {
  "heightModel": "gravity_related_height",
  "vertCRS": "NAVD_1988",
  "heightUnit": "meter"
 },
 "hasMultidimensions": false,
 "pixelSizeX": 1.4,
 "pixelSizeY": 1.4000000000000157,
 "datasetFormat": "GRID",
 "uncompressedSize": 3603384860,
 "blockWidth": 256,
 "blockHeight": 16,
 "compressionType": "RLE",
 "bandNames": [
  "cass_dsm_ft"
 ],
 "allowCopy": true,
 "allowAnalysis": true,
 "bandCount": 1,
 "noDataValue": -3.4028234663852886E38,
 "noDataValues": [
  -3.4028234663852886E38
 ],
 "pixelType": "F32",
 "minPixelSize": 0,
 "maxPixelSize": 0,
 "copyrightText": "",
 "serviceDataType": "esriImageServiceDataTypeGeneric",
 "serviceSourceType": "esriImageServiceSourceTypeDataset",
 "minValues": [
  256.6726379394531
 ],
 "maxValues": [
  781.4276123046875
 ],
 "meanValues": [
  448.394929019238
 ],
 "stdvValues": [
  18.287463335568646
 ],
 "objectIdField": "",
 "fields": [],
 "capabilities": "Image,Metadata,Mensuration",
 "defaultMosaicMethod": "Center",
 "allowedMosaicMethods": "",
 "sortField": "",
 "sortValue": null,
 "sortAscending": true,
 "mosaicOperator": "First",
 "defaultCompressionQuality": 75,
 "defaultResamplingMethod": "Bicubic",
 "maxImageHeight": 4100,
 "maxImageWidth": 15000,
 "allowRasterFunction": true,
 "rasterFunctionInfos": [
  {
   "name": "None",
   "description": "Make a Raster or Raster Dataset into a Function Raster Dataset.",
   "help": ""
  },
  {
   "name": "Color Ramp",
   "description": "Outputs a rendered raster.",
   "help": ""
  },
  {
   "name": "Hillshade",
   "description": "Generates a grayscale model of a terrain with the sun's relative position taken into account for shading the terrain.",
   "help": ""
  }
 ],
 "rasterTypeInfos": [
  {
   "name": "Raster Dataset",
   "description": "Supports all ArcGIS Raster Datasets",
   "help": ""
  }
 ],
 "mensurationCapabilities": "Basic",
 "hasHistograms": true,
 "hasColormap": false,
 "hasRasterAttributeTable": false,
 "minScale": 0,
 "maxScale": 0,
 "exportTilesAllowed": false,
 "supportsStatistics": false,
 "supportsAdvancedQueries": false,
 "editFieldsInfo": null,
 "ownershipBasedAccessControlForRasters": null,
 "allowComputeTiePoints": false,
 "useStandardizedQueries": true,
 "advancedQueryCapabilities": {
  "useStandardizedQueries": true,
  "supportsStatistics": false,
  "supportsOrderBy": false,
  "supportsDistinct": false,
  "supportsPagination": false
 },
 "spatialReference": {
  "wkid": 26915,
  "latestWkid": 26915,
  "vcsWkid": 5703,
  "latestVcsWkid": 5703
 }
}
