<?xml version="1.0" encoding="UTF-8" standalone="no"?>
<metadata>
<idinfo>
<citation>
<citeinfo>
<origin>Illinois State Geological Survey (ISGS), a division of the Prairie Research Institute of the University of Illinois</origin>
<pubdate>Unpublished Material</pubdate>
<title>Digital Elevation Model (DEM) for Jefferson County, Illinois. 2012</title>
<geoform>raster digital data</geoform>
<onlink>http://www.isgs.illinois.edu</onlink>
<othercit>Recommended Publishing Citation:Illinois Height Modernization Program, Illinois State Geological Survey, and Jefferson County, 2002–2014, Illinois LiDAR county database: Illinois State Geological Survey http://crystal.isgs.uiuc.edu/nsdihome/webdocs/ilhmp/ (accessed September 18, 2014)</othercit>
</citeinfo>
</citation>
<descript>
<abstract>This Hybrid Digital Elevation Model (DEM) data was produced all or in part from LiDAR information as of 2012. There are mis-classified points from the LiDAR data that miscategorize some points that should be water as the bare earth class - thus this should be considered a hybrid, a DEM plus water. Areas over true ground do appear fine, only areas that over water bodies do not appear flat as they would normally in a true DEM. The LiDAR derived DEM covers Jefferson County, Illinois. These data are appropriate for use in local and regional analysis. This data set has a point spacing of 1.19 meters. Digital Elevation Models (including terrain and surface models) are raster data sets created from whole LiDAR point cloud data sets (LAS files). The LAS files are the standard LiDAR file format which contains the raw point cloud data, these data are normally classified and distinguished between points on the ground, water or elevated features such as buildings, trees, towers, bridges, etc.. These LAS files are processed into elevation models to create gridded rasters. The first returns can be used to map the top reflective surface (Digital Surface Models - DSM), these normally include open terrain areas, as well as the tops of buildings, trees, towers, and other features elevated above the bare earth. The last returns are used to map the bare-earth terrain (Digital Terrain Models - DTM), these are normally produced with irregularly-spaced points rather than the uniform grid structure of a Digital Elevation Model (DEM), Digital Terrain Models will often include breaklines to help define edges of water bodies.</abstract>
<purpose>These acquisitions of the LiDAR data and its derivatives were made possible by a grant from the Jefferson County Supervisor of Assesments Office and were acquired to create the derivative product of contours from. The data do not replace the need for detailed site-specific studies. The information is not appropriate for, and is not to be used as, a geodetic, legal, or engineering base. The information has no legal basis in the definition of boundaries or property lines and is not intended as a substitute for surveyed locations such as can be determined by a registered Public Land Surveyor.</purpose>
<supplinf>none</supplinf>
</descript>
<timeperd>
<timeinfo>
<rngdates>
<begdate>20120309</begdate>
<begtime>unknown</begtime>
<enddate>20120310</enddate>
</rngdates>
</timeinfo>
<current>
ground condition
</current>
</timeperd>
<status>
<progress>Complete</progress>
<update>Unknown</update>
</status>
<spdom>
<bounding>
<westbc>-91.349</westbc>
<eastbc>-91.342</eastbc>
<northbc>39.758</northbc>
<southbc>39.752</southbc>
</bounding>
</spdom>
<keywords>
<theme>
<themekt>
None
</themekt>
<themekey>
Light Detection and Ranging
</themekey>
<themekey>
LiDAR
</themekey>
<themekey>
Bare Earth
</themekey>
<themekey>
Point Cloud
</themekey>
<themekey>Digital Elevation Model</themekey>
<themekey>DEM</themekey>
<themekey>Elevation</themekey>
<themekey>Surface Model</themekey>
<themekey>Digital Surface Model</themekey>
<themekey>DSM</themekey>
<themekey>Hillshade</themekey>
</theme>
<place>
<placekt>
None
</placekt>
<placekey>
US
</placekey>
<placekey>
Illinois
</placekey>
<placekey>Jefferson County</placekey>
</place>
<temporal>
<tempkt>None</tempkt>
<tempkey>2012</tempkey>
</temporal>
</keywords>
<accconst>ISGS information can only be obtained either directly from the ISGS or from the Jefferson County Supervisor of Assessments. Be aware that this dataset obtained from an unauthorized third party may have been altered subsequent to original distribution, or may no longer be current. Any access to these data via the ISGS or university of Illinois web sites, computer systems, electronic services, and electronic networks is governed by University and campus policies, in particular, but not limited to, the Policy on Appropriate Use of Computers and Network Systems at the University of Illinois at Urbana-Champaign, the ISGS Terms of Use document available at the ISGS Web site, and the University of Illinois Web Privacy Notice. Links to these are provided in the Cross References section.</accconst>
<useconst>Individuals or entities may make fair use of copyrighted ISGS material, such as reproducing a single figure or table, or using a brief text quotation, without obtaining formal permission, but in all cases the Jefferson County, Illinois, Supervisor of Assessments must be credited as the source of the material. To reproduce this information beyond the fair use standard, permission must be obtained from the Jefferson County, Illinois, Supervisor of Assessments.
Map information is to be used at a scientifically and cartographically appropriate scale, that is, at a scale no greater than indicated on the map or as described in the documentation of the map or map data. Map information is not appropriate for, and is not to be used as, a geodetic, legal, or engineering base. Map information has no legal basis in the definition of boundaries or property lines and is not intended as a substitute for surveyed locations such as can be determined by a registered Public Land Surveyor. The data do not replace the need for detailed site-specific studies.</useconst>
<datacred>The Sidwell Company, Jefferson County Illinois Supervisor of Assessments</datacred>
<ptcontac>
<cntinfo>
<cntorgp>
<cntorg>Illinois State Geological Survey (ISGS), a division of the Prairie Research Institute of the University of Illinois</cntorg>
</cntorgp>
<cntaddr>
<addrtype>mailing and physical address</addrtype>
<address>615 E. Peabody</address>
<city>Champaign</city>
<state>IL</state>
<postal>61820</postal>
<country>USA</country>
</cntaddr>
<cntvoice>217-333-4747</cntvoice>
<cntemail>info@isgs.illinois.edu</cntemail>
<hours>Monday thru Friday, 8am - 5pm</hours>
<cnttdd>217-785-0211</cnttdd>
</cntinfo>
</ptcontac>
<crossref>
<citeinfo>
<title>Policy on Appropriate Use of Computers and Network Systems at the University of Illinois at Urbana-Champaign</title>
<onlink>http://www.cam.illinois.edu/viii/VIII-1.1.htm</onlink>
</citeinfo>
</crossref>
<crossref>
<citeinfo>
<title>ISGS Terms of Use </title>
<onlink>http://www.isgs.illinois.edu </onlink>
</citeinfo>
</crossref>
<crossref>
<citeinfo>
<title>University of Illinois Web Privacy Notice </title>
<onlink>http://www.vpaa.uillinois.edu/policies/web_privacy.cfm </onlink>
</citeinfo>
</crossref>
<crossref>
<citeinfo>
<title>University Copyright Policy (stated in the General Rules Concerning University Organization and Procedure, Article III, Section 4) </title>
<onlink>http://www.uillinois.edu/trustees/rules.cfm#sec34 </onlink>
</citeinfo>
</crossref>
</idinfo>
<dataqual>
<attracc>
<attraccr>Provided by Sidwell: The LiDAR data was post-processed and a QA/QC performed to be consistent with the project requirements in terms of post spacing and the absence of artifacts. The point cloud underwent classification to determine bare-earth points and non-ground data.</attraccr>
</attracc>
<logic>All data have had QAQC visual and statistical testing using observations performed to compare the derivative product, DEM. as well as aerial photography to check for the logical consistency of the data. There is a known checkerboard pattern on tile #wt0055 and #wt0017. Some above ground points were mis-classified as ground points (tile #wt0243 for example).
</logic>
<complete>
Complete
</complete>
<posacc>
<horizpa>
<qhorizpa/>
<horizpar>Provided by Sidwell: 30 GPS measured ground control points were targeted along the perimeter and within the project area to control the LiDAR dataset. The project coordinates are in Illinois State Plane, East Zone, North American Datum (NAD) 1983</horizpar>
</horizpa>
<vertacc>
<qvertpa/>
<vertaccr>Provided by Sidwell: 30 GPS measured ground control points were targeted along the perimeter and within the project area to control the LiDAR dataset. The vertical datum used for the project was referenced to NAVD 1988 in US Survey feet.</vertaccr>
</vertacc>
</posacc>
<lineage>
<procstep>
<procdesc>Sidwell: Adquisition: LiDAR data was acquired on March 09, &amp; March 10, 2012 with a Leica ALS-50-II LiDAR Sensor along with an IMU and AbGPS receiver at an average post spacing of 1.4 meter. The LiDAR data was collected to be capable of supporting 1” = 100’ scale 2-foot and 5-foot contour generation. LiDAR data acquisition occurred in leaf-off conditions when the sky was sufficiently clear of clouds, smoke, and atmospheric haze. The LiDAR data was processed immediately after the acquisition to verify the coverage had no voids.
ISGS Secondary Processing:
1. Thorough QAQC check was completed to ensure and evaluate the quality of the data delivered and that all the specifications have been met in accordance to the contract and national specifications set for LiDAR data.
2. Through ArcGIS 10.1 the following steps were completed to created Terrain and hillshade products:
a. LAS to Mulitpoint conversion using 3D analyst tools.ASPRS Classifications were used below:
2-Ground
b. Terrains are then created and pyramids are calculated.
c. Terrain to Raster tool was used in 3D Analyst. The parameters of data type float, natural neighbors method, sampling distance is cell size and the point spaceing value from the LiDAR data.
d. Hillshades are created from the above rasters with a Z value of 2.
3. These derivatives were checked again visually for errors. If any errors were perceived corrections were coordinated with vendor and products were updated with corrections.
4. When product was finalized then metadata was completed before making data available.</procdesc>
<procdate>20131007</procdate>
</procstep>
</lineage>
<cloud>Unknown</cloud>
</dataqual>
<spdoinfo>
<direct>Raster</direct>
</spdoinfo>
<spref>
<horizsys>
<planar>
<planci>
<plance>coordinate pair</plance>
<coordrep>
<absres>0.001</absres>
<ordres>0.001</ordres>
</coordrep>
<plandu>survey feet</plandu>
</planci>
</planar>
<geodetic>
<horizdn>North American Datum of 1983</horizdn>
<ellips>Geodetic Reference System 80</ellips>
<semiaxis>6378137.000000</semiaxis>
<denflat>298.25722210088</denflat>
</geodetic>
<cordsysn>
<geogcsn>Transverse Mercator</geogcsn>
</cordsysn>
</horizsys>
<vertdef>
<altsys>
</altsys>
</vertdef>
</spref>
<metainfo>
<metd>20140924</metd>
<metc>
<cntinfo>
<cntorgp>
<cntorg>Illinois State Geological Survey (ISGS), a division of the Prairie Research Institute of the University of Illinois</cntorg>
</cntorgp>
<cntaddr>
<addrtype>mailing and physical address</addrtype>
<address>615 East Peabody Drive</address>
<city>Champaign</city>
<state>IL</state>
<postal>61820</postal>
<country>US</country>
</cntaddr>
<cntvoice>217-333-4747</cntvoice>
<cntemail>isgs@isgs.illinois.edu</cntemail>
<hours>Monday through Friday 8:00 AM to 5:00 PM (Central Time)</hours>
</cntinfo>
</metc>
<metstdn>
FGDC Content Standard for Digital Geospatial Metadata
</metstdn>
<metstdv>
FGDC-STD-001-1998
</metstdv>
<metac>The access constraints as stated for the data apply also to the metadata. Refer to the Access Constraints section of the Identification Information section.</metac>
<metuc>The use constraints as stated for the data apply also to the metadata. Refer to the Use Constraints section of the Identification Information section.</metuc>
</metainfo>
<Esri>
<CreaDate>20130301</CreaDate>
<CreaTime>12273000</CreaTime>
<ArcGISstyle>FGDC CSDGM Metadata</ArcGISstyle>
<SyncOnce>FALSE</SyncOnce>
<DataProperties>
<itemProps>
<itemLocation>
<linkage Sync="TRUE">file://X:\counties\jefferson\jefferson_dem</linkage>
<protocol Sync="TRUE">Local Area Network</protocol>
</itemLocation>
<itemName Sync="TRUE">jefferson_dem</itemName>
<imsContentType Sync="TRUE">002</imsContentType>
<nativeExtBox>
<westBL Sync="TRUE">745970.318904</westBL>
<eastBL Sync="TRUE">881745.318904</eastBL>
<southBL Sync="TRUE">529208.358283</southBL>
<northBL Sync="TRUE">661193.358283</northBL>
<exTypeCode Sync="TRUE">1</exTypeCode>
</nativeExtBox>
</itemProps>
<copyHistory>
<copy date="20130301" dest="\\ISGS-HEIGHTMOD3\C$\Lidar\SupportingFiles\FINAL_Alton_Project" source="\\TERRAIN\incoming2\alton_connector_IDOT_4th_delivery\Metadata\FINAL_Alton_Project" time="12273100"/>
</copyHistory>
<coordRef>
<type Sync="TRUE">Projected</type>
<geogcsn Sync="TRUE">GCS_North_American_1983</geogcsn>
<csUnits Sync="TRUE">Linear Unit: Foot_US (0.304801)</csUnits>
<projcsn Sync="TRUE">NAD_1983_StatePlane_Illinois_East_FIPS_1201_Feet</projcsn>
<peXml Sync="TRUE">&lt;ProjectedCoordinateSystem xsi:type='typens:ProjectedCoordinateSystem' xmlns:xsi='http://www.w3.org/2001/XMLSchema-instance' xmlns:xs='http://www.w3.org/2001/XMLSchema' xmlns:typens='http://www.esri.com/schemas/ArcGIS/10.3'&gt;&lt;WKT&gt;PROJCS[&amp;quot;NAD_1983_StatePlane_Illinois_East_FIPS_1201_Feet&amp;quot;,GEOGCS[&amp;quot;GCS_North_American_1983&amp;quot;,DATUM[&amp;quot;D_North_American_1983&amp;quot;,SPHEROID[&amp;quot;GRS_1980&amp;quot;,6378137.0,298.257222101]],PRIMEM[&amp;quot;Greenwich&amp;quot;,0.0],UNIT[&amp;quot;Degree&amp;quot;,0.0174532925199433]],PROJECTION[&amp;quot;Transverse_Mercator&amp;quot;],PARAMETER[&amp;quot;False_Easting&amp;quot;,984250.0],PARAMETER[&amp;quot;False_Northing&amp;quot;,0.0],PARAMETER[&amp;quot;Central_Meridian&amp;quot;,-88.33333333333333],PARAMETER[&amp;quot;Scale_Factor&amp;quot;,0.999975],PARAMETER[&amp;quot;Latitude_Of_Origin&amp;quot;,36.66666666666666],UNIT[&amp;quot;Foot_US&amp;quot;,0.3048006096012192],AUTHORITY[&amp;quot;EPSG&amp;quot;,3435]],VERTCS[&amp;quot;NAVD_1988&amp;quot;,VDATUM[&amp;quot;North_American_Vertical_Datum_1988&amp;quot;],PARAMETER[&amp;quot;Vertical_Shift&amp;quot;,0.0],PARAMETER[&amp;quot;Direction&amp;quot;,1.0],UNIT[&amp;quot;Foot_US&amp;quot;,0.3048006096012192]]&lt;/WKT&gt;&lt;XOrigin&gt;-17463800&lt;/XOrigin&gt;&lt;YOrigin&gt;-46132600&lt;/YOrigin&gt;&lt;XYScale&gt;137244822.07846552&lt;/XYScale&gt;&lt;ZOrigin&gt;-100000&lt;/ZOrigin&gt;&lt;ZScale&gt;3048.0060960121923&lt;/ZScale&gt;&lt;MOrigin&gt;-100000&lt;/MOrigin&gt;&lt;MScale&gt;10000&lt;/MScale&gt;&lt;XYTolerance&gt;0.0032808333333333331&lt;/XYTolerance&gt;&lt;ZTolerance&gt;0.0032808333333333331&lt;/ZTolerance&gt;&lt;MTolerance&gt;0.001&lt;/MTolerance&gt;&lt;HighPrecision&gt;true&lt;/HighPrecision&gt;&lt;WKID&gt;102671&lt;/WKID&gt;&lt;LatestWKID&gt;3435&lt;/LatestWKID&gt;&lt;/ProjectedCoordinateSystem&gt;</peXml>
</coordRef>
<RasterProperties>
<General>
<PixelDepth Sync="TRUE">32</PixelDepth>
<HasColormap Sync="TRUE">FALSE</HasColormap>
<CompressionType Sync="TRUE">None</CompressionType>
<NumBands Sync="TRUE">1</NumBands>
<Format Sync="TRUE">GRID</Format>
<HasPyramids Sync="TRUE">TRUE</HasPyramids>
<SourceType Sync="TRUE">continuous</SourceType>
<PixelType Sync="TRUE">floating point</PixelType>
<NoDataValue Sync="TRUE">-3.4028235e+038</NoDataValue>
</General>
</RasterProperties>
</DataProperties>
<SyncDate>20150917</SyncDate>
<SyncTime>11243600</SyncTime>
<ModDate>20150917</ModDate>
<ModTime>11243600</ModTime>
</Esri>
<distinfo>
<distrib>
<cntinfo>
<cntorgp>
<cntorg>Illinois State Geological Survey (ISGS), a division of the Prairie Research Institute of the University of Illinois</cntorg>
</cntorgp>
<cntaddr>
<addrtype>mailing and physical address</addrtype>
<address>615 East Peabody Drive</address>
<city>Champaign</city>
<state>IL</state>
<postal>61820</postal>
<country>USA</country>
</cntaddr>
<cntvoice>217-244-2414</cntvoice>
<cntemail>isgs@isgs.illinois.edu</cntemail>
</cntinfo>
</distrib>
<distliab>Jefferson County Supervisor of Assesments reserves the right to distribute this derivative product through their facilities as well as allowing the ISGS to distribute this data through mail or online delivery.
Refer to the Legal Notices of Terms and Conditions of the University of Illinois Web Privacy Policy (there is a link in the Cross References section) for policy statements regarding the following:
Disclaimer of Liability
Disclaimer of Warranties and Accuracy of Data
Disclaimer of Endorsement
Disclaimer for External Links
Disclaimer of Duty to Continue Provision of Data
Security
Choice of Law
By obtaining these data you agree to the provisions of the University of Illinois Web Privacy Policy, regardless of the manner in which the information was obtained.</distliab>
<stdorder>
<digform>
<digtinfo>
<formname>other</formname>
<filedec>no compression applied</filedec>
</digtinfo>
<digtopt>
<onlinopt>
<accinstr>http://www.isgs.uiuc.edu/nsdihome/webdocs/ilhmp/</accinstr>
<computer>
<networka>
<networkr>http://www.isgs.uiuc.edu/nsdihome/webdocs/ilhmp/</networkr>
</networka>
</computer>
<oncomp>Windows 7</oncomp>
</onlinopt>
<offoptn>
<offmedia>CD-ROM</offmedia>
<recfmt>none</recfmt>
</offoptn>
</digtopt>
</digform>
<fees>no fees</fees>
</stdorder>
<techpreq>The data are intended for use with GIS software. The ISGS uses ESRI ArcGIS software, however, ESRI formats can be imported into many different GIS software packages. It is expected that customers who obtain these data have the technical expertise to use GIS software. The ISGS does not provide software support of any kind.</techpreq>
</distinfo>
<eainfo>
<detailed>
<enttyp>
<enttypl>GRID</enttypl>
<enttypd>Raster</enttypd>
<enttypds>ISGS</enttypds>
</enttyp>
</detailed>
<overview>
<dsoverv>Raster Grid Values</dsoverv>
<eaover>Raster Grid Values</eaover>
<eadetcit>ISGS</eadetcit>
</overview>
</eainfo>
<dataIdInfo>
<envirDesc Sync="TRUE">Microsoft Windows 7 Version 6.1 (Build 7601) Service Pack 1; Esri ArcGIS 10.3.0.4322</envirDesc>
<dataLang>
<languageCode Sync="TRUE" value="eng"/>
<countryCode Sync="TRUE" value="USA"/>
</dataLang>
<idCitation>
<resTitle Sync="TRUE">IL_Jefferson_DEM_2012</resTitle>
<presForm>
<PresFormCd Sync="TRUE" value="005"/>
</presForm>
</idCitation>
<spatRpType>
<SpatRepTypCd Sync="TRUE" value="002"/>
</spatRpType>
<dataExt>
<geoEle>
<GeoBndBox esriExtentType="search">
<exTypeCode Sync="TRUE">1</exTypeCode>
<westBL Sync="TRUE">-89.165687</westBL>
<eastBL Sync="TRUE">-88.689638</eastBL>
<northBL Sync="TRUE">38.481958</northBL>
<southBL Sync="TRUE">38.117160</southBL>
</GeoBndBox>
</geoEle>
</dataExt>
<idAbs/>
<idPurp/>
<idCredit/>
<resConst>
<Consts>
<useLimit/>
</Consts>
</resConst>
</dataIdInfo>
<mdLang>
<languageCode Sync="TRUE" value="eng"/>
<countryCode Sync="TRUE" value="USA"/>
</mdLang>
<mdChar>
<CharSetCd Sync="TRUE" value="004"/>
</mdChar>
<distInfo>
<distFormat>
<formatName Sync="TRUE">Raster Dataset</formatName>
</distFormat>
</distInfo>
<mdHrLv>
<ScopeCd Sync="TRUE" value="005"/>
</mdHrLv>
<mdHrLvName Sync="TRUE">dataset</mdHrLvName>
<refSysInfo>
<RefSystem>
<refSysID>
<identCode Sync="TRUE" code="3435"/>
<idCodeSpace Sync="TRUE">EPSG</idCodeSpace>
<idVersion Sync="TRUE">8.2.6</idVersion>
</refSysID>
</RefSystem>
</refSysInfo>
<spatRepInfo>
<Georect>
<cellGeo>
<CellGeoCd Sync="TRUE" value="002"/>
</cellGeo>
<numDims Sync="TRUE">2</numDims>
<tranParaAv Sync="TRUE">1</tranParaAv>
<chkPtAv Sync="TRUE">0</chkPtAv>
<cornerPts>
<pos Sync="TRUE">745970.318904 529208.358283</pos>
</cornerPts>
<cornerPts>
<pos Sync="TRUE">745970.318904 661193.358283</pos>
</cornerPts>
<cornerPts>
<pos Sync="TRUE">881745.318904 661193.358283</pos>
</cornerPts>
<cornerPts>
<pos Sync="TRUE">881745.318904 529208.358283</pos>
</cornerPts>
<centerPt>
<pos Sync="TRUE">813857.818904 595200.858283</pos>
</centerPt>
<axisDimension type="002">
<dimSize Sync="TRUE">27155</dimSize>
<dimResol>
<value Sync="TRUE" uom="ftUS">5.000000</value>
</dimResol>
</axisDimension>
<axisDimension type="001">
<dimSize Sync="TRUE">26397</dimSize>
<dimResol>
<value Sync="TRUE" uom="ftUS">5.000000</value>
</dimResol>
</axisDimension>
<ptInPixel>
<PixOrientCd Sync="TRUE" value="001"/>
</ptInPixel>
</Georect>
</spatRepInfo>
<contInfo>
<ImgDesc>
<contentTyp>
<ContentTypCd Sync="TRUE" value="003"/>
</contentTyp>
<covDim>
<Band>
<dimDescrp Sync="TRUE">jefferson_dem</dimDescrp>
<maxVal Sync="TRUE">642.601685</maxVal>
<minVal Sync="TRUE">405.912201</minVal>
<bitsPerVal Sync="TRUE">32</bitsPerVal>
<valUnit>
<UOM type="length"/>
</valUnit>
</Band>
</covDim>
</ImgDesc>
</contInfo>
<mdDateSt Sync="TRUE">20150917</mdDateSt>
</metadata>
