{
 "currentVersion": 10.91,
 "serviceDescription": "elevation/IL_Lawrence_DTM_2011",
 "name": "elevation/IL_Lawrence_DTM_2011",
 "description": "",
 "extent": {
  "xmin": 1101999.9998874217,
  "ymin": 691999.9998909235,
  "xmax": 1226001.4998874217,
  "ymax": 798000.9998909235,
  "spatialReference": {
   "wkid": 3443,
   "latestWkid": 3443,
   "vcsWkid": 5703,
   "latestVcsWkid": 5703
  }
 },
 "initialExtent": {
  "xmin": 1101999.9998874217,
  "ymin": 691999.9998909235,
  "xmax": 1226001.4998874217,
  "ymax": 798000.9998909235,
  "spatialReference": {
   "wkid": 3443,
   "latestWkid": 3443,
   "vcsWkid": 5703,
   "latestVcsWkid": 5703
  }
 },
 "fullExtent": {
  "xmin": 1101999.9998874217,
  "ymin": 691999.9998909235,
  "xmax": 1226001.4998874217,
  "ymax": 798000.9998909235,
  "spatialReference": {
   "wkid": 3443,
   "latestWkid": 3443,
   "vcsWkid": 5703,
   "latestVcsWkid": 5703
  }
 },
 "heightModelInfo": {
  "heightModel": "gravity_related_height",
  "vertCRS": "NAVD_1988",
  "heightUnit": "meter"
 },
 "hasMultidimensions": false,
 "pixelSizeX": 3.5,
 "pixelSizeY": 3.5,
 "datasetFormat": "GRID",
 "uncompressedSize": 4292010776,
 "blockWidth": 256,
 "blockHeight": 16,
 "compressionType": "None",
 "bandNames": [
  "lawr_dtm_2011"
 ],
 "allowCopy": true,
 "allowAnalysis": true,
 "bandCount": 1,
 "noDataValue": -3.4028234663852886E38,
 "noDataValues": [
  -3.4028234663852886E38
 ],
 "pixelType": "F32",
 "minPixelSize": 0,
 "maxPixelSize": 0,
 "copyrightText": "",
 "serviceDataType": "esriImageServiceDataTypeGeneric",
 "serviceSourceType": "esriImageServiceSourceTypeDataset",
 "minValues": [
  389.3044738769531
 ],
 "maxValues": [
  630.57275390625
 ],
 "meanValues": [
  451.66654395138795
 ],
 "stdvValues": [
  37.3856142711434
 ],
 "objectIdField": "",
 "fields": [],
 "capabilities": "Image,Metadata,Mensuration",
 "defaultMosaicMethod": "Center",
 "allowedMosaicMethods": "",
 "sortField": "",
 "sortValue": null,
 "sortAscending": true,
 "mosaicOperator": "First",
 "defaultCompressionQuality": 75,
 "defaultResamplingMethod": "Bicubic",
 "maxImageHeight": 4100,
 "maxImageWidth": 15000,
 "allowRasterFunction": true,
 "rasterFunctionInfos": [
  {
   "name": "None",
   "description": "Make a Raster or Raster Dataset into a Function Raster Dataset.",
   "help": ""
  },
  {
   "name": "Color Ramp",
   "description": "Outputs a rendered raster.",
   "help": ""
  },
  {
   "name": "Hillshade",
   "description": "Generates a grayscale model of a terrain with the sun's relative position taken into account for shading the terrain.",
   "help": ""
  }
 ],
 "rasterTypeInfos": [
  {
   "name": "Raster Dataset",
   "description": "Supports all ArcGIS Raster Datasets",
   "help": ""
  }
 ],
 "mensurationCapabilities": "Basic",
 "hasHistograms": false,
 "hasColormap": false,
 "hasRasterAttributeTable": false,
 "minScale": 0,
 "maxScale": 0,
 "exportTilesAllowed": false,
 "supportsStatistics": false,
 "supportsAdvancedQueries": false,
 "editFieldsInfo": null,
 "ownershipBasedAccessControlForRasters": null,
 "allowComputeTiePoints": false,
 "useStandardizedQueries": true,
 "advancedQueryCapabilities": {
  "useStandardizedQueries": true,
  "supportsStatistics": false,
  "supportsOrderBy": false,
  "supportsDistinct": false,
  "supportsPagination": false
 },
 "spatialReference": {
  "wkid": 3443,
  "latestWkid": 3443,
  "vcsWkid": 5703,
  "latestVcsWkid": 5703
 }
}
