{
 "currentVersion": 10.91,
 "serviceDescription": "elevation/IL_Morgan_DSM_2017",
 "name": "elevation/IL_Morgan_DSM_2017",
 "description": "",
 "extent": {
  "xmin": 2174867.69517608,
  "ymin": 1038376.8662381545,
  "xmax": 2367949.69517608,
  "ymax": 1171950.8662381545,
  "spatialReference": {
   "wkid": 3444,
   "latestWkid": 3444
  }
 },
 "initialExtent": {
  "xmin": 2174867.69517608,
  "ymin": 1038376.8662381545,
  "xmax": 2367949.69517608,
  "ymax": 1171950.8662381545,
  "spatialReference": {
   "wkid": 3444,
   "latestWkid": 3444
  }
 },
 "fullExtent": {
  "xmin": 2174867.69517608,
  "ymin": 1038376.8662381545,
  "xmax": 2367949.69517608,
  "ymax": 1171950.8662381545,
  "spatialReference": {
   "wkid": 3444,
   "latestWkid": 3444
  }
 },
 "hasMultidimensions": false,
 "pixelSizeX": 2,
 "pixelSizeY": 2,
 "datasetFormat": "GRID",
 "uncompressedSize": 25790735068,
 "blockWidth": 256,
 "blockHeight": 16,
 "compressionType": "None",
 "bandNames": [
  "morg_dsm_2017"
 ],
 "allowCopy": true,
 "allowAnalysis": true,
 "bandCount": 1,
 "noDataValue": -3.4028234663852886E38,
 "noDataValues": [
  -3.4028234663852886E38
 ],
 "pixelType": "F32",
 "minPixelSize": 0,
 "maxPixelSize": 0,
 "copyrightText": "",
 "serviceDataType": "esriImageServiceDataTypeGeneric",
 "serviceSourceType": "esriImageServiceSourceTypeDataset",
 "minValues": [
  397.8367004394531
 ],
 "maxValues": [
  1633.7572021484375
 ],
 "meanValues": [
  619.535885599853
 ],
 "stdvValues": [
  58.196197358793796
 ],
 "objectIdField": "",
 "fields": [],
 "capabilities": "Image,Metadata,Mensuration",
 "defaultMosaicMethod": "Center",
 "allowedMosaicMethods": "",
 "sortField": "",
 "sortValue": null,
 "sortAscending": true,
 "mosaicOperator": "First",
 "defaultCompressionQuality": 75,
 "defaultResamplingMethod": "Bilinear",
 "maxImageHeight": 4100,
 "maxImageWidth": 15000,
 "allowRasterFunction": true,
 "rasterFunctionInfos": [
  {
   "name": "None",
   "description": "Make a Raster or Raster Dataset into a Function Raster Dataset.",
   "help": ""
  },
  {
   "name": "Color Ramp",
   "description": "Outputs a rendered raster.",
   "help": ""
  },
  {
   "name": "Hillshade",
   "description": "Generates a grayscale model of a terrain with the sun's relative position taken into account for shading the terrain.",
   "help": ""
  }
 ],
 "rasterTypeInfos": [
  {
   "name": "Raster Dataset",
   "description": "Supports all ArcGIS Raster Datasets",
   "help": ""
  }
 ],
 "mensurationCapabilities": "Basic",
 "hasHistograms": false,
 "hasColormap": false,
 "hasRasterAttributeTable": false,
 "minScale": 0,
 "maxScale": 0,
 "exportTilesAllowed": false,
 "supportsStatistics": false,
 "supportsAdvancedQueries": false,
 "editFieldsInfo": null,
 "ownershipBasedAccessControlForRasters": null,
 "allowComputeTiePoints": false,
 "useStandardizedQueries": true,
 "advancedQueryCapabilities": {
  "useStandardizedQueries": true,
  "supportsStatistics": false,
  "supportsOrderBy": false,
  "supportsDistinct": false,
  "supportsPagination": false
 },
 "spatialReference": {
  "wkid": 3444,
  "latestWkid": 3444
 }
}
