{
 "currentVersion": 10.91,
 "serviceDescription": "elevation/IL_Union_DSM_2011",
 "name": "elevation/IL_Union_DSM_2011",
 "description": "",
 "extent": {
  "xmin": 2483353.987570916,
  "ymin": 241978.96657424787,
  "xmax": 2623753.3505697586,
  "ymax": 341915.8100357169,
  "spatialReference": {
   "wkid": 103038,
   "latestWkid": 6457,
   "vcsWkid": 5703,
   "latestVcsWkid": 5703
  }
 },
 "initialExtent": {
  "xmin": 2483353.987570916,
  "ymin": 241978.96657424787,
  "xmax": 2623753.3505697586,
  "ymax": 341915.8100357169,
  "spatialReference": {
   "wkid": 103038,
   "latestWkid": 6457,
   "vcsWkid": 5703,
   "latestVcsWkid": 5703
  }
 },
 "fullExtent": {
  "xmin": 2483353.987570916,
  "ymin": 241978.96657424787,
  "xmax": 2623753.3505697586,
  "ymax": 341915.8100357169,
  "spatialReference": {
   "wkid": 103038,
   "latestWkid": 6457,
   "vcsWkid": 5703,
   "latestVcsWkid": 5703
  }
 },
 "heightModelInfo": {
  "heightModel": "gravity_related_height",
  "vertCRS": "NAVD_1988",
  "heightUnit": "meter"
 },
 "hasMultidimensions": false,
 "pixelSizeX": 4.499835357804004,
 "pixelSizeY": 4.499835357804001,
 "datasetFormat": "GRID",
 "uncompressedSize": 2771683200,
 "blockWidth": 256,
 "blockHeight": 16,
 "compressionType": "None",
 "bandNames": [
  "unio_dsm_2011"
 ],
 "allowCopy": true,
 "allowAnalysis": true,
 "bandCount": 1,
 "noDataValue": -3.4028234663852886E38,
 "noDataValues": [
  -3.4028234663852886E38
 ],
 "pixelType": "F32",
 "minPixelSize": 0,
 "maxPixelSize": 0,
 "copyrightText": "",
 "serviceDataType": "esriImageServiceDataTypeGeneric",
 "serviceSourceType": "esriImageServiceSourceTypeDataset",
 "minValues": [
  251.85958862304688
 ],
 "maxValues": [
  1194.8043212890625
 ],
 "meanValues": [
  503.42088168433736
 ],
 "stdvValues": [
  120.44540254010327
 ],
 "objectIdField": "",
 "fields": [],
 "capabilities": "Image,Metadata,Mensuration",
 "defaultMosaicMethod": "Center",
 "allowedMosaicMethods": "",
 "sortField": "",
 "sortValue": null,
 "sortAscending": true,
 "mosaicOperator": "First",
 "defaultCompressionQuality": 75,
 "defaultResamplingMethod": "Bilinear",
 "maxImageHeight": 4100,
 "maxImageWidth": 15000,
 "allowRasterFunction": true,
 "rasterFunctionInfos": [
  {
   "name": "None",
   "description": "Make a Raster or Raster Dataset into a Function Raster Dataset.",
   "help": ""
  },
  {
   "name": "Color Ramp",
   "description": "Outputs a rendered raster.",
   "help": ""
  },
  {
   "name": "Hillshade",
   "description": "Generates a grayscale model of a terrain with the sun's relative position taken into account for shading the terrain.",
   "help": ""
  }
 ],
 "rasterTypeInfos": [
  {
   "name": "Raster Dataset",
   "description": "Supports all ArcGIS Raster Datasets",
   "help": ""
  }
 ],
 "mensurationCapabilities": "Basic",
 "hasHistograms": false,
 "hasColormap": false,
 "hasRasterAttributeTable": false,
 "minScale": 0,
 "maxScale": 0,
 "exportTilesAllowed": false,
 "supportsStatistics": false,
 "supportsAdvancedQueries": false,
 "editFieldsInfo": null,
 "ownershipBasedAccessControlForRasters": null,
 "allowComputeTiePoints": false,
 "useStandardizedQueries": true,
 "advancedQueryCapabilities": {
  "useStandardizedQueries": true,
  "supportsStatistics": false,
  "supportsOrderBy": false,
  "supportsDistinct": false,
  "supportsPagination": false
 },
 "spatialReference": {
  "wkid": 103038,
  "latestWkid": 6457,
  "vcsWkid": 5703,
  "latestVcsWkid": 5703
 }
}
