<?xml version="1.0" encoding="UTF-8" standalone="no"?>
<metadata xml:lang="en">
<Esri>
<CreaDate>20220113</CreaDate>
<CreaTime>09501100</CreaTime>
<ArcGISFormat>1.0</ArcGISFormat>
<SyncOnce>FALSE</SyncOnce>
<DataProperties>
<lineage>
<Process Date="20220113" Name="" Time="095011" ToolSource="c:\program files (x86)\arcgis\desktop10.8\ArcToolbox\Toolboxes\Data Management Tools.tbx\Mosaic" export="">Mosaic E:\Whiteside\fix_rasters\clip4_2 E:\Whiteside\rasters\whiteside_dtm LAST FIRST # # NONE 0 NONE</Process>
</lineage>
<itemProps>
<itemName Sync="TRUE">whit_dtm_2020</itemName>
<itemLocation>
<linkage Sync="TRUE">file://C:\whiteside\whit_dtm_2020</linkage>
<protocol Sync="TRUE">Local Area Network</protocol>
</itemLocation>
<imsContentType Sync="TRUE">002</imsContentType>
<nativeExtBox>
<westBL Sync="TRUE">2272004.999917</westBL>
<eastBL Sync="TRUE">2445994.999917</eastBL>
<southBL Sync="TRUE">1787193.998834</southBL>
<northBL Sync="TRUE">1919995.998834</northBL>
<exTypeCode Sync="TRUE">1</exTypeCode>
</nativeExtBox>
</itemProps>
<coordRef>
<type Sync="TRUE">Projected</type>
<geogcsn Sync="TRUE">GCS_NAD_1983_2011</geogcsn>
<csUnits Sync="TRUE">Linear Unit: Foot_US (0.304801)</csUnits>
<projcsn Sync="TRUE">NAD_1983_2011_StatePlane_Illinois_West_FIPS_1202_Ft_US</projcsn>
<peXml Sync="TRUE">&lt;ProjectedCoordinateSystem xsi:type='typens:ProjectedCoordinateSystem' xmlns:xsi='http://www.w3.org/2001/XMLSchema-instance' xmlns:xs='http://www.w3.org/2001/XMLSchema' xmlns:typens='http://www.esri.com/schemas/ArcGIS/10.8'&gt;&lt;WKT&gt;PROJCS[&amp;quot;NAD_1983_2011_StatePlane_Illinois_West_FIPS_1202_Ft_US&amp;quot;,GEOGCS[&amp;quot;GCS_NAD_1983_2011&amp;quot;,DATUM[&amp;quot;D_NAD_1983_2011&amp;quot;,SPHEROID[&amp;quot;GRS_1980&amp;quot;,6378137.0,298.257222101]],PRIMEM[&amp;quot;Greenwich&amp;quot;,0.0],UNIT[&amp;quot;Degree&amp;quot;,0.0174532925199433]],PROJECTION[&amp;quot;Transverse_Mercator&amp;quot;],PARAMETER[&amp;quot;False_Easting&amp;quot;,2296583.333333333],PARAMETER[&amp;quot;False_Northing&amp;quot;,0.0],PARAMETER[&amp;quot;Central_Meridian&amp;quot;,-90.16666666666667],PARAMETER[&amp;quot;Scale_Factor&amp;quot;,0.9999411764705882],PARAMETER[&amp;quot;Latitude_Of_Origin&amp;quot;,36.66666666666666],UNIT[&amp;quot;Foot_US&amp;quot;,0.3048006096012192]],VERTCS[&amp;quot;NAVD88_height - Geoid12B (ftUS)&amp;quot;,VDATUM[&amp;quot;North_American_Vertical_Datum_1988&amp;quot;],PARAMETER[&amp;quot;Vertical_Shift&amp;quot;,0.0],PARAMETER[&amp;quot;Direction&amp;quot;,1.0],UNIT[&amp;quot;Foot_US&amp;quot;,0.3048006096012192]]&lt;/WKT&gt;&lt;XOrigin&gt;-16150900&lt;/XOrigin&gt;&lt;YOrigin&gt;-46131100&lt;/YOrigin&gt;&lt;XYScale&gt;137249422.94257641&lt;/XYScale&gt;&lt;ZOrigin&gt;-100000&lt;/ZOrigin&gt;&lt;ZScale&gt;3048.0060960121923&lt;/ZScale&gt;&lt;MOrigin&gt;-100000&lt;/MOrigin&gt;&lt;MScale&gt;10000&lt;/MScale&gt;&lt;XYTolerance&gt;0.0032808333333333331&lt;/XYTolerance&gt;&lt;ZTolerance&gt;0.0032808333333333331&lt;/ZTolerance&gt;&lt;MTolerance&gt;0.001&lt;/MTolerance&gt;&lt;HighPrecision&gt;true&lt;/HighPrecision&gt;&lt;WKID&gt;103038&lt;/WKID&gt;&lt;LatestWKID&gt;6457&lt;/LatestWKID&gt;&lt;/ProjectedCoordinateSystem&gt;</peXml>
</coordRef>
<RasterProperties>
<General>
<PixelDepth Sync="TRUE">32</PixelDepth>
<HasColormap Sync="TRUE">FALSE</HasColormap>
<CompressionType Sync="TRUE">None</CompressionType>
<NumBands Sync="TRUE">1</NumBands>
<Format Sync="TRUE">GRID</Format>
<HasPyramids Sync="TRUE">TRUE</HasPyramids>
<SourceType Sync="TRUE">continuous</SourceType>
<PixelType Sync="TRUE">floating point</PixelType>
<NoDataValue Sync="TRUE">-3.4028235e+38</NoDataValue>
</General>
</RasterProperties>
</DataProperties>
<SyncDate>20220405</SyncDate>
<SyncTime>08112500</SyncTime>
<ModDate>20220405</ModDate>
<ModTime>8115600</ModTime>
<scaleRange>
<minScale>150000000</minScale>
<maxScale>5000</maxScale>
</scaleRange>
<ArcGISProfile>FGDC</ArcGISProfile>
</Esri>
<mdLang>
<languageCode value="eng"/>
<countryCode Sync="TRUE" value="USA"/>
</mdLang>
<mdChar>
<CharSetCd value="004"/>
</mdChar>
<mdHrLv>
<ScopeCd value="005"/>
</mdHrLv>
<mdContact>
<rpOrgName>Aerial Services, Inc.</rpOrgName>
<rpCntInfo>
<cntPhone>
<voiceNum>(319)277-0436</voiceNum>
</cntPhone>
<cntAddress addressType="both">
<delPoint>6315 Chancellor Dr.</delPoint>
<city>Cedar Falls</city>
<adminArea>IA</adminArea>
<postCode>50613</postCode>
<country>US</country>
</cntAddress>
</rpCntInfo>
<role>
<RoleCd value="007"/>
</role>
</mdContact>
<mdDateSt>20210722</mdDateSt>
<mdStanName>ArcGIS Metadata</mdStanName>
<mdStanVer>1.0</mdStanVer>
<dataIdInfo>
<idCitation>
<resTitle>IL_Whiteside_DTM_2020</resTitle>
<date>
<pubDate>2021-07-22</pubDate>
</date>
<citRespParty>
<rpOrgName>Aerial Services, Inc.</rpOrgName>
<role>
<RoleCd value="006"/>
</role>
</citRespParty>
<presForm>
<fgdcGeoform>raster</fgdcGeoform>
<PresFormCd Sync="TRUE" value="005"/>
</presForm>
</idCitation>
<idAbs>&lt;DIV STYLE="text-align:Left;"&gt;&lt;DIV&gt;&lt;P&gt;&lt;SPAN&gt;Product: These lidar data are part of a 8 county project in the NorthWest of Illinois. This data are processed Classified LAS 1.4 files, formatted to 14482 individual 1000 meter x 1000 meter tiles; used to create intensity images, 3D breaklines and hydro-flattened DEMs as necessary. Geographic Extent: Jo Daviess, Stephenson, Carroll, Ogle, Whiteside, Lee, Rock Island, and Henry Counties Illinois, covering approximately 5318 square miles. Dataset Description: Illinois 8 county 2019 Lidar Dataset Description: Block 3_IL_8 County, Illinois 2019 Lidar project called for the planning, acquisition, processing and derivative products of lidar data to be collected at a nominal pulse spacing of 0.5 meter. Project specifications are based on the U.S. Geological Survey National Geospatial Program Base Lidar Specification, Version 1.3. The data was developed based on a horizontal projection/datum of NAD83(2011), State Plane Coordinat System Illinois East (FIPS 1201), United States Survey Feet, and a vertical datum of NAVD88 (GEOID12B), US survey feet. Lidar data was delivered as processed Classified LAS 1.4 files, formatted to 37,739 individual 2000 US survey feet x 2000 US survey feet tiles, and 37,738 tiled Intensity Imagery, and 37,739 tiled bare earth DEMs; all tiled to the same 2000 US survey feet x 2000 US survey feet schema. project called for the planning, acquisition, processing and derivative products of lidar data to be collected at a nominal pulse spacing (NPS) of 0.5 meters. Tile 2075_1735 is located within a water body with no reflectance measured within the tile boundary, so no intensity image was produced for that tile. Project specifications are based on the U.S. Geological Survey National Geospatial Program Base Lidar Specification, Version 1.3; Quality Level 2+. The data was developed based on a horizontal projection/datum of NAD83(2011), State Plane Coordinat System Illinois East (FIPS 1201), US survey feet, and a vertical datum of NAVD88 (GEOID12B), US survey feet. Lidar data was delivered as processed Classified LAS 1.4 files, formatted to 37,739 individual 2000 US survey feet x 2000 US survey feet tiles, as tiled Intensity Imagery, and as tiled bare earth DEMs; all tiled to the same 2000 x 2000 US survey feet schema -- ISGS QAQC comments: Almost all of the buildings have been classified as vegetation. These points should be classified as class 1 but was not corrected. There are Erroneous High and Low points found in a North - South swath over the Whiteside and Carroll counties and an East - West strip in Jo Daviess county. There are flight lines that are out of tolerance. -- Ground Conditions: Lidar was collected in late 2019, early 2020 and late 2020 while no snow was on the ground, and rivers levels fluctuated. In order to post process the lidar data to meet task order specifications and meet ASPRS vertical accuracy guidelines, Subcontractor, Surveying and Mapping, LLC (SAM) established a total of 76 ground control points that were used to calibrate the lidar to known ground locations established throughout the Block 3_IL_8 County project area. An additional 219 independent accuracy checkpoints, 127 in Bare Earth and Uraban landcovers (127 NVA points), 92 in tall Grass/tall weeds/crops, Brush lands/short trees, Forested categories (92 VVA points), were used to assess the vertical accuracy of the data. These checkpoints were not used to calibrate or post process the data.&lt;/SPAN&gt;&lt;/P&gt;&lt;/DIV&gt;&lt;/DIV&gt;</idAbs>
<idPurp>To acquire QL2+ lidar detailing surface elevation data, and vegetation for use in conservation planning design, research, floodplain mapping, dam safety assessment and elevation modeling, ect. Classified LAS files are used to show the manually reviewed bare earth surface. This allows the user to create Intensity Images, Breaklines and Raster DEMs. The purpose of this lidar data was to produce high accuracy 3D hydro-flattened Digital Elevation Model (DEM) with a 2 US survey feet cell size. These lidar point cloud data were used to create intensity images, 3D breaklines, and hydro-flattened DEMs as necessary.</idPurp>
<idStatus>
<ProgCd value="001"/>
</idStatus>
<resMaint>
<maintFreq>
<MaintFreqCd value="011"/>
</maintFreq>
</resMaint>
<placeKeys>
<keyword>Carroll County</keyword>
<keyword>Illinois</keyword>
<keyword>Henry County</keyword>
<keyword>Lee County</keyword>
<keyword>Rock Island County</keyword>
<keyword>Whiteside County</keyword>
<keyword>Stephenson County</keyword>
<keyword>Ogle County</keyword>
<keyword>Jo Daviess Country</keyword>
</placeKeys>
<themeKeys>
<keyword>LAS Point Cloud</keyword>
<keyword>Elevation Data</keyword>
<keyword>Lidar</keyword>
<keyword>Model</keyword>
<keyword>Remote Sensing</keyword>
</themeKeys>
<searchKeys>
<keyword>Carroll County</keyword>
<keyword>Illinois</keyword>
<keyword>LAS Point Cloud</keyword>
<keyword>Elevation Data</keyword>
<keyword>Henry County</keyword>
<keyword>Lidar</keyword>
<keyword>Model</keyword>
<keyword>Lee County</keyword>
<keyword>Rock Island County</keyword>
<keyword>Whiteside County</keyword>
<keyword>Stephenson County</keyword>
<keyword>Ogle County</keyword>
<keyword>Remote Sensing</keyword>
<keyword>Jo Daviess Country</keyword>
</searchKeys>
<resConst>
<LegConsts>
<othConsts>No restrictions apply to these data.</othConsts>
</LegConsts>
</resConst>
<resConst>
<Consts>
<useLimit>&lt;DIV STYLE="text-align:Left;"&gt;&lt;DIV&gt;&lt;P&gt;&lt;SPAN&gt;None. However, users should be aware that temporal changes may have occurred since this dataset was collected and that some parts of these data may no longer represent actual surface conditions. Users should not use these data for critical applications without a full awareness of its limitations. Acknowledgement of the U.S. Geological Survey would be appreciated for products derived from these data.&lt;/SPAN&gt;&lt;/P&gt;&lt;/DIV&gt;&lt;/DIV&gt;</useLimit>
</Consts>
</resConst>
<spatRpType>
<SpatRepTypCd value="001"/>
</spatRpType>
<dataLang>
<languageCode value="eng"/>
<countryCode Sync="TRUE" value="USA"/>
</dataLang>
<envirDesc>Waypoint's Inertial Explorer version 8.60; Leica's CloudPro version 1.2.4; Applanix PosPac 8.2; RiProcess; RiAnalyze; Optech’s LMS; BayesMap-StripAlign; MicroSatation Connect version 10.14.02.01; TerraSolid TerraMatch version019.002,TerraModel version 019.008, TerraScan version 019.008; Windows 10 Operating \\server\directory path\*.las 3.36TB</envirDesc>
<dataExt>
<exDesc>ground condition</exDesc>
<tempEle>
<TempExtent>
<exTemp>
<TM_Period>
<tmBegin>2019-11-23</tmBegin>
<tmEnd>2020-11-12</tmEnd>
</TM_Period>
</exTemp>
</TempExtent>
</tempEle>
</dataExt>
<dataExt>
<geoEle>
<GeoBndBox>
<westBL>-91.09201</westBL>
<eastBL>-88.90847</eastBL>
<southBL>41.13218</southBL>
<northBL>42.51892</northBL>
</GeoBndBox>
</geoEle>
</dataExt>
<suppInfo>USGS Contract No. G17PC00007 CONTRACTOR: Aerial Services, Inc. Lidar data were acquired and calibrated by the prime contractor. PRIME: Aerial Services, Inc. All follow-on processing was completed by the prime contractor. Subcontractor: SurvTech was responsible for LiDAR acquisition and calibration, LAS classification and hydro collection for 1264 sq. mile area of the southwest section of the project area. SurvTech manually preformed bare earth cleanup, and collected hydro for 759 of sq. miles of the project. Subcontractor: Tetra Tech manually preformed bare earth cleanup, and collected hyrdro for 1732 of sq. miles of hte project.</suppInfo>
<dataExt>
<geoEle>
<GeoBndBox esriExtentType="search">
<exTypeCode Sync="TRUE">1</exTypeCode>
<westBL Sync="TRUE">-90.257006</westBL>
<eastBL Sync="TRUE">-89.617505</eastBL>
<northBL Sync="TRUE">41.938175</northBL>
<southBL Sync="TRUE">41.572414</southBL>
</GeoBndBox>
</geoEle>
</dataExt>
<idCredit>Recommended Publishing Citation: Illinois Height Modernization Program, Illinois State Geological Survey, United States Geological Survey, and Natural Resources Conservation Service, 2002–2022, Illinois LiDAR county database: Illinois State Geological Survey, https://clearinghouse.isgs.illinois.edu/data/elevation/illinois-height-modernization-ilhmp/ (accessed April ,2022)</idCredit>
<tpCat>
<TopicCatCd value="006"/>
</tpCat>
</dataIdInfo>
<mdConst>
<SecConsts>
<classSys>None.</classSys>
<handDesc>None.</handDesc>
</SecConsts>
</mdConst>
<dqInfo>
<dqScope>
<scpLvl>
<ScopeCd value="005"/>
</scpLvl>
</dqScope>
<report type="DQConcConsis">
<measDesc>Data covers the entire area specified for this project.</measDesc>
</report>
<report type="DQCompOm">
<measDesc>These LAS data files include all data points collected. No points have been removed or excluded. A visual qualitative assessment was performed to ensure data completeness. No void areas or missing data exist. The raw point cloud is of good quality and data passes Non-Vegetated Vertical Accuracy specifications.</measDesc>
</report>
<report dimension="vertical" type="DQAbsExtPosAcc">
<measDesc>This data set was produced to meet ASPRS Positional Accuracy Standard for Digital Geospatial Data (2014) for a 10-cm RMSEz Vertical Accuracy Class.</measDesc>
</report>
<dataLineage>
<prcStep>
<stepDesc>The boresight for each lift was done individually as the solution may change slightly from lift to lift. The following steps describe the Raw Data Processing and Boresight process: 1) Technicians processed the raw data to LAS format flight lines using the final GPS/IMU solution. This LAS data set was used as source data for boresight. 2) Technicians first used Aerial Services Inc. proprietary and commercial software to calculate initial boresight adjustment angles based on sample areas selected in the lift. These areas cover calibration flight lines collected in the lift, cross tie and production flight lines. These areas are well distributed in the lift coverage and cover multiple terrain types that are necessary for boresight angle calculation. The technician then analyzed the results and made any necessary additional adjustment until it is acceptable for the selected areas. 3) Once the boresight angle calculation was completed for the selected areas, the adjusted settings were applied to all of the flight lines of the lift and checked for consistency. The technicians utilized commercial and proprietary software packages to analyze how well flight line overlaps match for the entire lift and adjusted as necessary until the resultsmet the project specifications. 4) Once all lifts were completed with individual boresight adjustment, the technicians checked and corrected the vertical mis alignment of all flight lines and also the matching between data and ground truth. The relative accuracy was less than or equal to 6 cm RMSEz within individual swaths and less than or equal to 8 cm RMSEz or within swath overlap (between adjacent swaths). 5) The technicians ran a final vertical accuracy check of the boresighted flight lines against the surveyed check points after the z correction to ensure the requirement of NVA = 19.6 cm 95% Confidence Level (Required Accuracy) was met. Point classification was performed according to USGS Lidar Base Specification 1.4, and breaklines were collected for water features. Bare earth DEMs were exported from the classified point cloud using collected breaklines for hydroflattening.</stepDesc>
<stepDateTm>2021-02-12</stepDateTm>
<stepSrc type="used">
<srcCitatn>
<resAltTitle>IL_8cty_lidar_gnd_ctrl</resAltTitle>
</srcCitatn>
</stepSrc>
</prcStep>
<prcStep>
<stepDesc>Data was tested at 0.5 meter nominal pulse spacing and a 4 pulses per meter. The nominal pulse spacing was tested on classified tiled LAS using geometrically reliable first-return points. NPS was tested using Delaunay Triangulation that produced average point spacing between all nearest neighbors.</stepDesc>
<stepDateTm>2021-02-16</stepDateTm>
</prcStep>
<prcStep>
<stepDesc>LAS Point Classification QL2+: The point classification was performed as described below. Classification Filters were applied to aid in the definition of; terrain characteristics, vegetation attribution of low, medium or high and building roof tops. Filtering processes address aspects of the data such as: ground points, noise points, air points, low points, Low vegetation 0.5-5’, medium vegetation 5-20’, high vegetation &gt;20’, manmade features, buildings, and overlap points. The Classified point cloud data was manually reviewed to ensure correct classification of; ground (ASPRS class 2). After the bare earth surface was finalized, it was then used to generate all hydro-breaklines through heads-up digitization. All ground (ASPRS class 2) lidar data inside of the Inland Ponds and Lakes, and Inland Streams and Rivers are classified to water (ASPRS class 9). A buffer of 2.5 feet was used around each hydro-flattened feature to classify ground (ASPRS class 2) to ignored ground (ASPRS class 20). Island features were checked to ensure that Ground point (ASPRS class 2) remained classified as Ground. Ground points (ASPRS class 2) within 2.5 feet of bridge breaklines, used to reduce triangulation between bridge decks were also classified to Ignored ground (ASPRS class 20). All bridge decks were classified to Bridge deck (ASPRS class 17). All remaining points were filtered, or manually classified to their respective point classification; processed (ASPRS class 1), low vegetation (ASPRS class 3), medium vegetation (ASPRS class 4), high vegetation (ASPRS class 5), low noise (ASPRS class 7), high noise (ASPRS class 18). TerraScan v019.008 was used to identify the overlap flag and bit set flags to LAS v1.4 specifications. LP360 64bit was used to deduce the Well Known Text (WKT) and an ASI proprietary software was used to format the LAS to the final LAS v1.4 Format 6 version. LAStools by rapidlasso GmbH, open source, lasvalidate (open source LGPL) and an ASI proprietary software was used to perform final analysis to checks on LAS header information, LAS point classes, and LAS timestamps.</stepDesc>
<stepDateTm>2021-07-21</stepDateTm>
</prcStep>
</dataLineage>
</dqInfo>
<spatRepInfo>
<VectSpatRep>
<geometObjs>
<geoObjTyp>
<GeoObjTypCd value="004"/>
</geoObjTyp>
<geoObjCnt>0</geoObjCnt>
</geometObjs>
</VectSpatRep>
<Georect>
<cellGeo>
<CellGeoCd Sync="TRUE" value="002"/>
</cellGeo>
<numDims Sync="TRUE">2</numDims>
<tranParaAv Sync="TRUE">1</tranParaAv>
<chkPtAv Sync="TRUE">0</chkPtAv>
<cornerPts>
<pos Sync="TRUE">2272004.999917 1787193.998834</pos>
</cornerPts>
<cornerPts>
<pos Sync="TRUE">2272004.999917 1919995.998834</pos>
</cornerPts>
<cornerPts>
<pos Sync="TRUE">2445994.999917 1919995.998834</pos>
</cornerPts>
<cornerPts>
<pos Sync="TRUE">2445994.999917 1787193.998834</pos>
</cornerPts>
<centerPt>
<pos Sync="TRUE">2358999.999917 1853594.998834</pos>
</centerPt>
<axisDimension type="002">
<dimSize Sync="TRUE">86995</dimSize>
<dimResol>
<value Sync="TRUE" uom="ftUS">2.000000</value>
</dimResol>
</axisDimension>
<axisDimension type="001">
<dimSize Sync="TRUE">66401</dimSize>
<dimResol>
<value Sync="TRUE" uom="ftUS">2.000000</value>
</dimResol>
</axisDimension>
<ptInPixel>
<PixOrientCd Sync="TRUE" value="001"/>
</ptInPixel>
</Georect>
</spatRepInfo>
<distInfo>
<distFormat>
<formatName Sync="TRUE">Raster Dataset</formatName>
</distFormat>
</distInfo>
<mdHrLvName Sync="TRUE">dataset</mdHrLvName>
<refSysInfo>
<RefSystem>
<refSysID>
<identCode Sync="TRUE" code="6457"/>
<idCodeSpace Sync="TRUE">EPSG</idCodeSpace>
<idVersion Sync="TRUE">8.9.3(10.3.1)</idVersion>
</refSysID>
</RefSystem>
</refSysInfo>
<contInfo>
<ImgDesc>
<contentTyp>
<ContentTypCd Sync="TRUE" value="003"/>
</contentTyp>
<covDim>
<Band>
<dimDescrp Sync="TRUE">Band_1</dimDescrp>
<maxVal Sync="TRUE">878.030640</maxVal>
<minVal Sync="TRUE">530.420166</minVal>
<bitsPerVal Sync="TRUE">32</bitsPerVal>
<valUnit>
<UOM type="length"/>
</valUnit>
</Band>
</covDim>
</ImgDesc>
</contInfo>
</metadata>
