View In:
ArcGIS JavaScript
ArcGIS Online Map Viewer
ArcGIS Earth
ArcMap
View Footprint In:
ArcGIS Online Map Viewer
Service Description: Coastal/20241111_Bathy_DEM_tif
Name: Coastal/20241111_Bathy_DEM_tif
Description:
Single Fused Map Cache: false
Extent:
XMin: 433798.73000000045
YMin: 4695448.172
XMax: 434084.73000000045
YMax: 4696938.172
Spatial Reference: 26916
(26916)
Initial Extent:
XMin: 433798.73000000045
YMin: 4695448.172
XMax: 434084.73000000045
YMax: 4696938.172
Spatial Reference: 26916
(26916)
Full Extent:
XMin: 433798.73000000045
YMin: 4695448.172
XMax: 434084.73000000045
YMax: 4696938.172
Spatial Reference: 26916
(26916)
Pixel Size X: 1.0
Pixel Size Y: 1.0
Band Count: 1
Pixel Type: F32
RasterFunction Infos: {"rasterFunctionInfos": [{
"name": "None",
"description": "",
"help": ""
}]}
Mensuration Capabilities: Basic
Has Histograms: true
Has Colormap: false
Has Multi Dimensions : false
Rendering Rule:
Min Scale: 0
Max Scale: 0
Copyright Text:
Service Data Type: esriImageServiceDataTypeThematic
Min Values: 172.87405395508
Max Values: 175.80426025391
Mean Values: 174.63802821039
Standard Deviation Values: 0.67480359312126
Object ID Field:
Fields:
None
Default Mosaic Method: Center
Allowed Mosaic Methods:
SortField:
SortValue: null
Mosaic Operator: First
Default Compression Quality: 75
Default Resampling Method: Bilinear
Max Record Count: null
Max Image Height: 4100
Max Image Width: 15000
Max Download Image Count: null
Max Mosaic Image Count: null
Allow Raster Function: true
Allow Copy: true
Allow Analysis: true
Allow Compute TiePoints: false
Supports Statistics: false
Supports Advanced Queries: false
Use StandardizedQueries: true
Raster Type Infos:
Name: Raster Dataset
Description: Supports all ArcGIS Raster Datasets
Help:
Has Raster Attribute Table: false
Edit Fields Info: null
Ownership Based AccessControl For Rasters: null
Child Resources:
Info
Histograms
Statistics
Key Properties
Legend
Raster Function Infos
Supported Operations:
Export Image
Identify
Measure
Compute Histograms
Compute Statistics Histograms
Get Samples
Compute Class Statistics
Query Boundary
Compute Pixel Location
Compute Angles
Validate
Project