View In:
ArcGIS JavaScript
ArcGIS Online Map Viewer
ArcGIS Earth
ArcMap
View Footprint In:
ArcGIS Online Map Viewer
Service Description: Coastal/20241115_TB_tif
Name: Coastal/20241115_TB_tif
Description:
Single Fused Map Cache: false
Extent:
XMin: 433750.79564354196
YMin: 4695377.57004826
XMax: 434088.29564354196
YMax: 4697049.57004826
Spatial Reference: 26916
(26916)
Initial Extent:
XMin: 433750.79564354196
YMin: 4695377.57004826
XMax: 434088.29564354196
YMax: 4697049.57004826
Spatial Reference: 26916
(26916)
Full Extent:
XMin: 433750.79564354196
YMin: 4695377.57004826
XMax: 434088.29564354196
YMax: 4697049.57004826
Spatial Reference: 26916
(26916)
Pixel Size X: 0.5
Pixel Size Y: 0.5
Band Count: 1
Pixel Type: F32
RasterFunction Infos: {"rasterFunctionInfos": [
{
"name": "None",
"description": "Make a Raster or Raster Dataset into a Function Raster Dataset.",
"help": ""
},
{
"name": "Hillshade_VE2",
"description": "A raster function template for hillshade with vertical exageration of 2.",
"help": ""
}
]}
Mensuration Capabilities: Basic
Has Histograms: true
Has Colormap: false
Has Multi Dimensions : false
Rendering Rule:
Min Scale: 0
Max Scale: 0
Copyright Text:
Service Data Type: esriImageServiceDataTypeGeneric
Min Values: 172.87364196777
Max Values: 179.9460144043
Mean Values: 175.79287589016
Standard Deviation Values: 1.7458706281068
Object ID Field:
Fields:
None
Default Mosaic Method: Center
Allowed Mosaic Methods:
SortField:
SortValue: null
Mosaic Operator: First
Default Compression Quality: 75
Default Resampling Method: Bilinear
Max Record Count: null
Max Image Height: 4100
Max Image Width: 15000
Max Download Image Count: null
Max Mosaic Image Count: null
Allow Raster Function: true
Allow Copy: true
Allow Analysis: true
Allow Compute TiePoints: false
Supports Statistics: false
Supports Advanced Queries: false
Use StandardizedQueries: true
Raster Type Infos:
Name: Raster Dataset
Description: Supports all ArcGIS Raster Datasets
Help:
Has Raster Attribute Table: false
Edit Fields Info: null
Ownership Based AccessControl For Rasters: null
Child Resources:
Info
Histograms
Statistics
Key Properties
Legend
Raster Function Infos
Supported Operations:
Export Image
Identify
Measure
Compute Histograms
Compute Statistics Histograms
Get Samples
Compute Class Statistics
Query Boundary
Compute Pixel Location
Compute Angles
Validate
Project