View In:
ArcGIS JavaScript
ArcGIS Online Map Viewer
ArcGIS Earth
ArcMap
View Footprint In:
ArcGIS Online Map Viewer
Service Description: Elevation/IL_Adams_DEM_2009
Name: Elevation/IL_Adams_DEM_2009
Description:
Single Fused Map Cache: false
Extent:
XMin: 1920242.83500427
YMin: 1126314.6467271447
XMax: 2088399.0029826001
YMax: 1289644.6992199298
Spatial Reference: 102672
(3436)
VCSWkid(5703)
LatestVCSWkid(5703)
Initial Extent:
XMin: 1920242.83500427
YMin: 1126314.6467271447
XMax: 2088399.0029826001
YMax: 1289644.6992199298
Spatial Reference: 102672
(3436)
VCSWkid(5703)
LatestVCSWkid(5703)
Full Extent:
XMin: 1920242.83500427
YMin: 1126314.6467271447
XMax: 2088399.0029826001
YMax: 1289644.6992199298
Spatial Reference: 102672
(3436)
VCSWkid(5703)
LatestVCSWkid(5703)
Pixel Size X: 3.280839895000001
Pixel Size Y: 3.2808398950000006
Band Count: 1
Pixel Type: F32
RasterFunction Infos: {"rasterFunctionInfos": [
{
"name": "None",
"description": "Make a Raster or Raster Dataset into a Function Raster Dataset.",
"help": ""
},
{
"name": "Hillshade",
"description": "Generates a grayscale model of a terrain with the sun's relative position taken into account for shading the terrain.",
"help": ""
},
{
"name": "Color Ramp",
"description": "Outputs a rendered raster.",
"help": ""
}
]}
Mensuration Capabilities: Basic
Has Histograms: true
Has Colormap: false
Has Multi Dimensions : false
Rendering Rule:
Min Scale: 0
Max Scale: 0
Copyright Text:
Service Data Type: esriImageServiceDataTypeGeneric
Min Values: 450.89324951171875
Max Values: 860.2337646484375
Mean Values: 654.4238274354028
Standard Deviation Values: 87.42096816269515
Object ID Field:
Fields:
None
Default Mosaic Method: Center
Allowed Mosaic Methods:
SortField:
SortValue: null
Mosaic Operator: First
Default Compression Quality: 75
Default Resampling Method: Bilinear
Max Record Count: null
Max Image Height: 4100
Max Image Width: 15000
Max Download Image Count: null
Max Mosaic Image Count: null
Allow Raster Function: true
Allow Copy: true
Allow Analysis: true
Allow Compute TiePoints: false
Supports Statistics: false
Supports Advanced Queries: false
Use StandardizedQueries: true
Raster Type Infos:
Name: Raster Dataset
Description: Supports all ArcGIS Raster Datasets
Help:
Has Raster Attribute Table: false
Edit Fields Info: null
Ownership Based AccessControl For Rasters: null
Child Resources:
Info
Histograms
Statistics
Key Properties
Legend
Raster Function Infos
Supported Operations:
Export Image
Identify
Measure
Compute Histograms
Compute Statistics Histograms
Get Samples
Compute Class Statistics
Query Boundary
Compute Pixel Location
Compute Angles
Validate
Project