View In:
  ArcGIS JavaScript
  ArcGIS Online Map Viewer
  ArcGIS Earth
  ArcMap
View Footprint In:
  ArcGIS Online Map Viewer
Service Description:  Elevation/IL_Adams_DSM_2009
Name:  Elevation/IL_Adams_DSM_2009
Description:  
Single Fused Map Cache:  false
Extent: 
XMin: 1919999.9900175035
YMin: 1124000.00010968
XMax: 2089999.9900168236
YMax: 1290000.656276995
Spatial Reference: 102672
 (3436)
 VCSWkid(5703)
 LatestVCSWkid(5703)
Initial Extent:
XMin: 1919999.9900175035
YMin: 1124000.00010968
XMax: 2089999.9900168236
YMax: 1290000.656276995
Spatial Reference: 102672
 (3436)
 VCSWkid(5703)
 LatestVCSWkid(5703)
Full Extent:
XMin: 1919999.9900175035
YMin: 1124000.00010968
XMax: 2089999.9900168236
YMax: 1290000.656276995
Spatial Reference: 102672
 (3436)
 VCSWkid(5703)
 LatestVCSWkid(5703)
Pixel Size X: 3.2808398950000024
Pixel Size Y:  3.2808398950000015
Band Count: 1
Pixel Type: F32
RasterFunction Infos:  {"rasterFunctionInfos": [{
 "name": "None",
 "description": "",
 "help": ""
}]}
Mensuration Capabilities: Basic
Has Histograms:  true
Has Colormap:  false
Has Multi Dimensions :  false
Rendering Rule: 
Min Scale:  0
Max Scale:  0
Copyright Text:  
Service Data Type:  esriImageServiceDataTypeGeneric
Min Values:  450.8491516113281
Max Values:  2569.232421875
Mean Values:  654.5429684204174
Standard Deviation Values:  89.06639480995143
Object ID Field:  
Fields: 
None
Default Mosaic Method:  Center
Allowed Mosaic Methods:  
SortField:  
SortValue:  null
Mosaic Operator:  First
Default Compression Quality:  75
Default Resampling Method:  Bilinear
Max Record Count:  null
Max Image Height:  4100
Max Image Width:  15000
Max Download Image Count:  null
Max Mosaic Image Count:  null
Allow Raster Function:  true
Allow Copy:  true
Allow Analysis:  true
Allow Compute TiePoints:  false
Supports Statistics:  false
Supports Advanced Queries:  false
Use StandardizedQueries:  true
Raster Type Infos: 
Name: Raster Dataset
Description: Supports all ArcGIS Raster Datasets
Help: 
Has Raster Attribute Table: false
Edit Fields Info:  null
Ownership Based AccessControl For Rasters:  null
Child Resources:
  
Info
  Histograms
  Statistics
  Key Properties
  Legend
  Raster Function Infos
Supported Operations:
  
Export Image
  Identify
  Measure
  Compute Histograms
  Compute Statistics Histograms
  Get Samples
  Compute Class Statistics
  Query Boundary
  Compute Pixel Location
  Compute Angles
  Validate
  Project