View In:
  ArcGIS JavaScript
  ArcGIS Online Map Viewer
  ArcGIS Earth
  ArcMap
View Footprint In:
  ArcGIS Online Map Viewer
Service Description:  Elevation/IL_Adams_DSM_2019
Name:  Elevation/IL_Adams_DSM_2019
Description:  
Single Fused Map Cache:  false
Extent: 
XMin: 1916069.667497579
YMin: 1117514.3185272366
XMax: 2091806.667497579
YMax: 1298136.8185272366
Spatial Reference: 103038
 (6457)
Initial Extent:
XMin: 1916069.667497579
YMin: 1117514.3185272366
XMax: 2091806.667497579
YMax: 1298136.8185272366
Spatial Reference: 103038
 (6457)
Full Extent:
XMin: 1916069.667497579
YMin: 1117514.3185272366
XMax: 2091806.667497579
YMax: 1298136.8185272366
Spatial Reference: 103038
 (6457)
Pixel Size X: 1.5
Pixel Size Y:  1.5
Band Count: 1
Pixel Type: F32
RasterFunction Infos:  {"rasterFunctionInfos": [
 {
  "name": "None",
  "description": "Make a Raster or Raster Dataset into a Function Raster Dataset.",
  "help": ""
 },
 {
  "name": "Color Ramp",
  "description": "Outputs a rendered raster.",
  "help": ""
 },
 {
  "name": "Hillshade",
  "description": "Generates a grayscale model of a terrain with the sun's relative position taken into account for shading the terrain.",
  "help": ""
 }
]}
Mensuration Capabilities: Basic
Has Histograms:  false
Has Colormap:  false
Has Multi Dimensions :  false
Rendering Rule: 
Min Scale:  0
Max Scale:  0
Copyright Text:  
Service Data Type:  esriImageServiceDataTypeGeneric
Min Values:  419.9787292480469
Max Values:  1277.6358642578125
Mean Values:  653.0683761389441
Standard Deviation Values:  91.38746340155205
Object ID Field:  
Fields: 
None
Default Mosaic Method:  Center
Allowed Mosaic Methods:  
SortField:  
SortValue:  null
Mosaic Operator:  First
Default Compression Quality:  75
Default Resampling Method:  Bicubic
Max Record Count:  null
Max Image Height:  4100
Max Image Width:  15000
Max Download Image Count:  null
Max Mosaic Image Count:  null
Allow Raster Function:  true
Allow Copy:  true
Allow Analysis:  true
Allow Compute TiePoints:  false
Supports Statistics:  false
Supports Advanced Queries:  false
Use StandardizedQueries:  true
Raster Type Infos: 
Name: Raster Dataset
Description: Supports all ArcGIS Raster Datasets
Help: 
Has Raster Attribute Table: false
Edit Fields Info:  null
Ownership Based AccessControl For Rasters:  null
Child Resources:
  
Info
  Statistics
  Key Properties
  Legend
  Raster Function Infos
Supported Operations:
  
Export Image
  Identify
  Measure
  Compute Histograms
  Compute Statistics Histograms
  Get Samples
  Compute Class Statistics
  Query Boundary
  Compute Pixel Location
  Compute Angles
  Validate
  Project