View In:
ArcGIS JavaScript
ArcGIS Online Map Viewer
ArcGIS Earth
ArcMap
View Footprint In:
ArcGIS Online Map Viewer
Service Description: Elevation/IL_Alexander_DSM_2009
Name: Elevation/IL_Alexander_DSM_2009
Description:
Single Fused Map Cache: false
Extent:
XMin: 2484960.38539964
YMin: 111066.98372452933
XMax: 2598664.2448937027
YMax: 245074.4609974904
Spatial Reference: 103038
(6457)
Initial Extent:
XMin: 2484960.38539964
YMin: 111066.98372452933
XMax: 2598664.2448937027
YMax: 245074.4609974904
Spatial Reference: 103038
(6457)
Full Extent:
XMin: 2484960.38539964
YMin: 111066.98372452933
XMax: 2598664.2448937027
YMax: 245074.4609974904
Spatial Reference: 103038
(6457)
Pixel Size X: 4.499915287876468
Pixel Size Y: 4.499915287876463
Band Count: 1
Pixel Type: F32
RasterFunction Infos: {"rasterFunctionInfos": [{
"name": "None",
"description": "",
"help": ""
}]}
Mensuration Capabilities: Basic
Has Histograms: false
Has Colormap: false
Has Multi Dimensions : false
Rendering Rule:
Min Scale: 0
Max Scale: 0
Copyright Text:
Service Data Type: esriImageServiceDataTypeGeneric
Min Values: 256.9760437011719
Max Values: 1059.2454833984375
Mean Values: 393.91209510275405
Standard Deviation Values: 102.68397443258435
Object ID Field:
Fields:
None
Default Mosaic Method: Center
Allowed Mosaic Methods:
SortField:
SortValue: null
Mosaic Operator: First
Default Compression Quality: 75
Default Resampling Method: Bilinear
Max Record Count: null
Max Image Height: 4100
Max Image Width: 15000
Max Download Image Count: null
Max Mosaic Image Count: null
Allow Raster Function: true
Allow Copy: true
Allow Analysis: true
Allow Compute TiePoints: false
Supports Statistics: false
Supports Advanced Queries: false
Use StandardizedQueries: true
Raster Type Infos:
Name: Raster Dataset
Description: Supports all ArcGIS Raster Datasets
Help:
Has Raster Attribute Table: false
Edit Fields Info: null
Ownership Based AccessControl For Rasters: null
Child Resources:
Info
Statistics
Key Properties
Legend
Raster Function Infos
Supported Operations:
Export Image
Identify
Measure
Compute Histograms
Compute Statistics Histograms
Get Samples
Compute Class Statistics
Query Boundary
Compute Pixel Location
Compute Angles
Validate
Project