View In:
ArcGIS JavaScript
ArcGIS Online Map Viewer
ArcGIS Earth
ArcMap
View Footprint In:
ArcGIS Online Map Viewer
Service Description: Elevation/IL_Bond_DSM_2021
Name: Elevation/IL_Bond_DSM_2021
Description:
Single Fused Map Cache: false
Extent:
XMin: 2446000.0364404954
YMin: 751999.9996885732
XMax: 2560400.5364404954
YMax: 864993.4996885732
Spatial Reference: PROJCS["NAD_1983_2011_Illinois_West_ftUS",GEOGCS["GCS_NAD83_2011",DATUM["D_NAD_1983_2011",SPHEROID["GRS_1980",6378137.0,298.257222101]],PRIMEM["Greenwich",0.0],UNIT["Degree",0.0174532925199433]],PROJECTION["Transverse_Mercator"],PARAMETER["false_easting",2296583.33333333],PARAMETER["false_northing",0.0],PARAMETER["central_meridian",-90.1666666666667],PARAMETER["scale_factor",0.999941176470588],PARAMETER["latitude_of_origin",36.6666666666667],UNIT["Foot_US",0.3048006096012192]],VERTCS["NAVD88 height (ftUS)",VDATUM["North American Vertical Datum 1988"],PARAMETER["Vertical_Shift",0.0],PARAMETER["Direction",1.0],UNIT["US survey foot",0.3048006096012192]]
Initial Extent:
XMin: 2446000.0364404954
YMin: 751999.9996885732
XMax: 2560400.5364404954
YMax: 864993.4996885732
Spatial Reference: PROJCS["NAD_1983_2011_Illinois_West_ftUS",GEOGCS["GCS_NAD83_2011",DATUM["D_NAD_1983_2011",SPHEROID["GRS_1980",6378137.0,298.257222101]],PRIMEM["Greenwich",0.0],UNIT["Degree",0.0174532925199433]],PROJECTION["Transverse_Mercator"],PARAMETER["false_easting",2296583.33333333],PARAMETER["false_northing",0.0],PARAMETER["central_meridian",-90.1666666666667],PARAMETER["scale_factor",0.999941176470588],PARAMETER["latitude_of_origin",36.6666666666667],UNIT["Foot_US",0.3048006096012192]],VERTCS["NAVD88 height (ftUS)",VDATUM["North American Vertical Datum 1988"],PARAMETER["Vertical_Shift",0.0],PARAMETER["Direction",1.0],UNIT["US survey foot",0.3048006096012192]]
Full Extent:
XMin: 2446000.0364404954
YMin: 751999.9996885732
XMax: 2560400.5364404954
YMax: 864993.4996885732
Spatial Reference: PROJCS["NAD_1983_2011_Illinois_West_ftUS",GEOGCS["GCS_NAD83_2011",DATUM["D_NAD_1983_2011",SPHEROID["GRS_1980",6378137.0,298.257222101]],PRIMEM["Greenwich",0.0],UNIT["Degree",0.0174532925199433]],PROJECTION["Transverse_Mercator"],PARAMETER["false_easting",2296583.33333333],PARAMETER["false_northing",0.0],PARAMETER["central_meridian",-90.1666666666667],PARAMETER["scale_factor",0.999941176470588],PARAMETER["latitude_of_origin",36.6666666666667],UNIT["Foot_US",0.3048006096012192]],VERTCS["NAVD88 height (ftUS)",VDATUM["North American Vertical Datum 1988"],PARAMETER["Vertical_Shift",0.0],PARAMETER["Direction",1.0],UNIT["US survey foot",0.3048006096012192]]
Pixel Size X: 1.5
Pixel Size Y: 1.5
Band Count: 1
Pixel Type: F32
RasterFunction Infos: {"rasterFunctionInfos": [{
"name": "None",
"description": "",
"help": ""
}]}
Mensuration Capabilities: Basic
Has Histograms: true
Has Colormap: false
Has Multi Dimensions : false
Rendering Rule:
Min Scale: 0
Max Scale: 0
Copyright Text:
Service Data Type: esriImageServiceDataTypeGeneric
Min Values: 412.0819396972656
Max Values: 810.1975708007812
Mean Values: 538.5625820105761
Standard Deviation Values: 42.88438408441403
Object ID Field:
Fields:
None
Default Mosaic Method: Center
Allowed Mosaic Methods:
SortField:
SortValue: null
Mosaic Operator: First
Default Compression Quality: 75
Default Resampling Method: Bicubic
Max Record Count: null
Max Image Height: 4100
Max Image Width: 15000
Max Download Image Count: null
Max Mosaic Image Count: null
Allow Raster Function: true
Allow Copy: true
Allow Analysis: true
Allow Compute TiePoints: false
Supports Statistics: false
Supports Advanced Queries: false
Use StandardizedQueries: true
Raster Type Infos:
Name: Raster Dataset
Description: Supports all ArcGIS Raster Datasets
Help:
Has Raster Attribute Table: false
Edit Fields Info: null
Ownership Based AccessControl For Rasters: null
Child Resources:
Info
Histograms
Statistics
Key Properties
Legend
Raster Function Infos
Supported Operations:
Export Image
Identify
Measure
Compute Histograms
Compute Statistics Histograms
Get Samples
Compute Class Statistics
Query Boundary
Compute Pixel Location
Compute Angles
Validate
Project