View In:
ArcGIS JavaScript
ArcGIS Online Map Viewer
ArcGIS Earth
ArcMap
View Footprint In:
ArcGIS Online Map Viewer
Service Description: Elevation/IL_Brown_DTM_2017
Name: Elevation/IL_Brown_DTM_2017
Description:
Single Fused Map Cache: false
Extent:
XMin: 2085704.1074275374
YMin: 1155231.6056253314
XMax: 2200818.1074275374
YMax: 1255949.6056253314
Spatial Reference: 103038
(6457)
VCSWkid(105703)
LatestVCSWkid(6360)
Initial Extent:
XMin: 2085704.1074275374
YMin: 1155231.6056253314
XMax: 2200818.1074275374
YMax: 1255949.6056253314
Spatial Reference: 103038
(6457)
VCSWkid(105703)
LatestVCSWkid(6360)
Full Extent:
XMin: 2085704.1074275374
YMin: 1155231.6056253314
XMax: 2200818.1074275374
YMax: 1255949.6056253314
Spatial Reference: 103038
(6457)
VCSWkid(105703)
LatestVCSWkid(6360)
Pixel Size X: 2.0
Pixel Size Y: 2.0
Band Count: 1
Pixel Type: F32
RasterFunction Infos: {"rasterFunctionInfos": [
{
"name": "None",
"description": "Make a Raster or Raster Dataset into a Function Raster Dataset.",
"help": ""
},
{
"name": "Color Ramp",
"description": "Outputs a rendered raster.",
"help": ""
},
{
"name": "Hillshade",
"description": "Generates a grayscale model of a terrain with the sun's relative position taken into account for shading the terrain.",
"help": ""
}
]}
Mensuration Capabilities: Basic
Has Histograms: false
Has Colormap: false
Has Multi Dimensions : false
Rendering Rule:
Min Scale: 0
Max Scale: 0
Copyright Text:
Service Data Type: esriImageServiceDataTypeGeneric
Min Values: 416.3154296875
Max Values: 811.5076904296875
Mean Values: 620.0276047090964
Standard Deviation Values: 88.33214121011021
Object ID Field:
Fields:
None
Default Mosaic Method: Center
Allowed Mosaic Methods:
SortField:
SortValue: null
Mosaic Operator: First
Default Compression Quality: 75
Default Resampling Method: Bilinear
Max Record Count: null
Max Image Height: 4100
Max Image Width: 15000
Max Download Image Count: null
Max Mosaic Image Count: null
Allow Raster Function: true
Allow Copy: true
Allow Analysis: true
Allow Compute TiePoints: false
Supports Statistics: false
Supports Advanced Queries: false
Use StandardizedQueries: true
Raster Type Infos:
Name: Raster Dataset
Description: Supports all ArcGIS Raster Datasets
Help:
Has Raster Attribute Table: false
Edit Fields Info: null
Ownership Based AccessControl For Rasters: null
Child Resources:
Info
Statistics
Key Properties
Legend
Raster Function Infos
Supported Operations:
Export Image
Identify
Measure
Compute Histograms
Compute Statistics Histograms
Get Samples
Compute Class Statistics
Query Boundary
Compute Pixel Location
Compute Angles
Validate
Project