View In:
ArcGIS JavaScript
ArcGIS Online Map Viewer
ArcGIS Earth
ArcMap
View Footprint In:
ArcGIS Online Map Viewer
Service Description: Elevation/IL_Calhoun_DTM_2021
Name: Elevation/IL_Calhoun_DTM_2021
Description:
Single Fused Map Cache: false
Extent:
XMin: 2077999.9998042472
YMin: 800000.0004731566
XMax: 2217999.499804247
YMax: 998000.0004731566
Spatial Reference: PROJCS["NAD_1983_2011_StatePlane_Illinois_West_FIPS_1202_Ft_US",GEOGCS["GCS_NAD_1983_2011",DATUM["D_NAD_1983_2011",SPHEROID["GRS_1980",6378137.0,298.257222101]],PRIMEM["Greenwich",0.0],UNIT["Degree",0.0174532925199433]],PROJECTION["Transverse_Mercator"],PARAMETER["False_Easting",2296583.333333333],PARAMETER["False_Northing",0.0],PARAMETER["Central_Meridian",-90.16666666666667],PARAMETER["Scale_Factor",0.9999411764705882],PARAMETER["Latitude_Of_Origin",36.66666666666666],UNIT["Foot_US",0.3048006096012192]],VERTCS["NAVD88_height - Geoid18 (ftUS)",DATUM["D_Cadastre_1997",SPHEROID["International_1924",6378388.0,297.0]],PARAMETER["Vertical_Shift",0.0],PARAMETER["Direction",1.0],UNIT["Foot_US",0.3048006096012192]]
Initial Extent:
XMin: 2077999.9998042472
YMin: 800000.0004731566
XMax: 2217999.499804247
YMax: 998000.0004731566
Spatial Reference: PROJCS["NAD_1983_2011_StatePlane_Illinois_West_FIPS_1202_Ft_US",GEOGCS["GCS_NAD_1983_2011",DATUM["D_NAD_1983_2011",SPHEROID["GRS_1980",6378137.0,298.257222101]],PRIMEM["Greenwich",0.0],UNIT["Degree",0.0174532925199433]],PROJECTION["Transverse_Mercator"],PARAMETER["False_Easting",2296583.333333333],PARAMETER["False_Northing",0.0],PARAMETER["Central_Meridian",-90.16666666666667],PARAMETER["Scale_Factor",0.9999411764705882],PARAMETER["Latitude_Of_Origin",36.66666666666666],UNIT["Foot_US",0.3048006096012192]],VERTCS["NAVD88_height - Geoid18 (ftUS)",DATUM["D_Cadastre_1997",SPHEROID["International_1924",6378388.0,297.0]],PARAMETER["Vertical_Shift",0.0],PARAMETER["Direction",1.0],UNIT["Foot_US",0.3048006096012192]]
Full Extent:
XMin: 2077999.9998042472
YMin: 800000.0004731566
XMax: 2217999.499804247
YMax: 998000.0004731566
Spatial Reference: PROJCS["NAD_1983_2011_StatePlane_Illinois_West_FIPS_1202_Ft_US",GEOGCS["GCS_NAD_1983_2011",DATUM["D_NAD_1983_2011",SPHEROID["GRS_1980",6378137.0,298.257222101]],PRIMEM["Greenwich",0.0],UNIT["Degree",0.0174532925199433]],PROJECTION["Transverse_Mercator"],PARAMETER["False_Easting",2296583.333333333],PARAMETER["False_Northing",0.0],PARAMETER["Central_Meridian",-90.16666666666667],PARAMETER["Scale_Factor",0.9999411764705882],PARAMETER["Latitude_Of_Origin",36.66666666666666],UNIT["Foot_US",0.3048006096012192]],VERTCS["NAVD88_height - Geoid18 (ftUS)",DATUM["D_Cadastre_1997",SPHEROID["International_1924",6378388.0,297.0]],PARAMETER["Vertical_Shift",0.0],PARAMETER["Direction",1.0],UNIT["Foot_US",0.3048006096012192]]
Pixel Size X: 1.5
Pixel Size Y: 1.5
Band Count: 1
Pixel Type: F32
RasterFunction Infos: {"rasterFunctionInfos": [
{
"name": "None",
"description": "Make a Raster or Raster Dataset into a Function Raster Dataset.",
"help": ""
},
{
"name": "Color Ramp",
"description": "Outputs a rendered raster.",
"help": ""
},
{
"name": "Hillshade",
"description": "Generates a grayscale model of a terrain with the sun's relative position taken into account for shading the terrain.",
"help": ""
}
]}
Mensuration Capabilities: Basic
Has Histograms: false
Has Colormap: false
Has Multi Dimensions : false
Rendering Rule:
Min Scale: 0
Max Scale: 0
Copyright Text:
Service Data Type: esriImageServiceDataTypeGeneric
Min Values: 413.5301513671875
Max Values: 815.2360229492188
Mean Values: 541.5344694980093
Standard Deviation Values: 112.18771985745843
Object ID Field:
Fields:
None
Default Mosaic Method: Center
Allowed Mosaic Methods:
SortField:
SortValue: null
Mosaic Operator: First
Default Compression Quality: 75
Default Resampling Method: Bicubic
Max Record Count: null
Max Image Height: 4100
Max Image Width: 15000
Max Download Image Count: null
Max Mosaic Image Count: null
Allow Raster Function: true
Allow Copy: true
Allow Analysis: true
Allow Compute TiePoints: false
Supports Statistics: false
Supports Advanced Queries: false
Use StandardizedQueries: true
Raster Type Infos:
Name: Raster Dataset
Description: Supports all ArcGIS Raster Datasets
Help:
Has Raster Attribute Table: false
Edit Fields Info: null
Ownership Based AccessControl For Rasters: null
Child Resources:
Info
Statistics
Key Properties
Legend
Raster Function Infos
Supported Operations:
Export Image
Identify
Measure
Compute Histograms
Compute Statistics Histograms
Get Samples
Compute Class Statistics
Query Boundary
Compute Pixel Location
Compute Angles
Validate
Project