View In:
ArcGIS JavaScript
ArcGIS Online Map Viewer
ArcGIS Earth
ArcMap
View Footprint In:
ArcGIS Online Map Viewer
Service Description: Elevation/IL_Gallatin_DTM_2020
Name: Elevation/IL_Gallatin_DTM_2020
Description:
Single Fused Map Cache: false
Extent:
XMin: 969000.0001399145
YMin: 327000.1133539058
XMax: 1075000.0000817783
YMax: 457000.0000755936
Spatial Reference: 103037
(6455)
VCSWkid(105703)
LatestVCSWkid(6360)
Initial Extent:
XMin: 969000.0001399145
YMin: 327000.1133539058
XMax: 1075000.0000817783
YMax: 457000.0000755936
Spatial Reference: 103037
(6455)
VCSWkid(105703)
LatestVCSWkid(6360)
Full Extent:
XMin: 969000.0001399145
YMin: 327000.1133539058
XMax: 1075000.0000817783
YMax: 457000.0000755936
Spatial Reference: 103037
(6455)
VCSWkid(105703)
LatestVCSWkid(6360)
Pixel Size X: 1.4999929237389986
Pixel Size Y: 1.4999929237389986
Band Count: 1
Pixel Type: F32
RasterFunction Infos: {"rasterFunctionInfos": [
{
"name": "None",
"description": "Make a Raster or Raster Dataset into a Function Raster Dataset.",
"help": ""
},
{
"name": "Color Ramp",
"description": "Outputs a rendered raster.",
"help": ""
},
{
"name": "Hillshade",
"description": "Generates a grayscale model of a terrain with the sun's relative position taken into account for shading the terrain.",
"help": ""
}
]}
Mensuration Capabilities: Basic
Has Histograms: true
Has Colormap: false
Has Multi Dimensions : false
Rendering Rule:
Min Scale: 0
Max Scale: 0
Copyright Text:
Service Data Type: esriImageServiceDataTypeGeneric
Min Values: 326.4601135253906
Max Values: 927.4533081054688
Mean Values: 387.6069730158291
Standard Deviation Values: 66.76923868331791
Object ID Field:
Fields:
None
Default Mosaic Method: Center
Allowed Mosaic Methods:
SortField:
SortValue: null
Mosaic Operator: First
Default Compression Quality: 75
Default Resampling Method: Bicubic
Max Record Count: null
Max Image Height: 4100
Max Image Width: 15000
Max Download Image Count: null
Max Mosaic Image Count: null
Allow Raster Function: true
Allow Copy: true
Allow Analysis: true
Allow Compute TiePoints: false
Supports Statistics: false
Supports Advanced Queries: false
Use StandardizedQueries: true
Raster Type Infos:
Name: Raster Dataset
Description: Supports all ArcGIS Raster Datasets
Help:
Has Raster Attribute Table: false
Edit Fields Info: null
Ownership Based AccessControl For Rasters: null
Child Resources:
Info
Histograms
Statistics
Key Properties
Legend
Raster Function Infos
Supported Operations:
Export Image
Identify
Measure
Compute Histograms
Compute Statistics Histograms
Get Samples
Compute Class Statistics
Query Boundary
Compute Pixel Location
Compute Angles
Validate
Project