View In:
ArcGIS JavaScript
ArcGIS Online Map Viewer
ArcGIS Earth
ArcMap
View Footprint In:
ArcGIS Online Map Viewer
Service Description: Elevation/IL_Knox_DSM_2022
Name: Elevation/IL_Knox_DSM_2022
Description:
Single Fused Map Cache: false
Extent:
XMin: 2215999.999722328
YMin: 1470000.000037402
XMax: 2349999.499722328
YMax: 1636000.500037402
Spatial Reference: 103038
(6457)
VCSWkid(105703)
LatestVCSWkid(6360)
Initial Extent:
XMin: 2215999.999722328
YMin: 1470000.000037402
XMax: 2349999.499722328
YMax: 1636000.500037402
Spatial Reference: 103038
(6457)
VCSWkid(105703)
LatestVCSWkid(6360)
Full Extent:
XMin: 2215999.999722328
YMin: 1470000.000037402
XMax: 2349999.499722328
YMax: 1636000.500037402
Spatial Reference: 103038
(6457)
VCSWkid(105703)
LatestVCSWkid(6360)
Pixel Size X: 1.5
Pixel Size Y: 1.5
Band Count: 1
Pixel Type: F32
RasterFunction Infos: {"rasterFunctionInfos": [
{
"name": "None",
"description": "Make a Raster or Raster Dataset into a Function Raster Dataset.",
"help": ""
},
{
"name": "Color Ramp",
"description": "Outputs a rendered raster.",
"help": ""
},
{
"name": "Hillshade",
"description": "Generates a grayscale model of a terrain with the sun's relative position taken into account for shading the terrain.",
"help": ""
}
]}
Mensuration Capabilities: Basic
Has Histograms: false
Has Colormap: false
Has Multi Dimensions : false
Rendering Rule:
Min Scale: 0
Max Scale: 0
Copyright Text:
Service Data Type: esriImageServiceDataTypeGeneric
Min Values: 512.9564208984375
Max Values: 971.22265625
Mean Values: 718.9480796052515
Standard Deviation Values: 69.91488003969691
Object ID Field:
Fields:
None
Default Mosaic Method: Center
Allowed Mosaic Methods:
SortField:
SortValue: null
Mosaic Operator: First
Default Compression Quality: 75
Default Resampling Method: Bilinear
Max Record Count: null
Max Image Height: 4100
Max Image Width: 15000
Max Download Image Count: null
Max Mosaic Image Count: null
Allow Raster Function: true
Allow Copy: true
Allow Analysis: true
Allow Compute TiePoints: false
Supports Statistics: false
Supports Advanced Queries: false
Use StandardizedQueries: true
Raster Type Infos:
Name: Raster Dataset
Description: Supports all ArcGIS Raster Datasets
Help:
Has Raster Attribute Table: false
Edit Fields Info: null
Ownership Based AccessControl For Rasters: null
Child Resources:
Info
Statistics
Key Properties
Legend
Raster Function Infos
Supported Operations:
Export Image
Identify
Measure
Compute Histograms
Compute Statistics Histograms
Get Samples
Compute Class Statistics
Query Boundary
Compute Pixel Location
Compute Angles
Validate
Project