View In:
ArcGIS JavaScript
ArcGIS Online Map Viewer
ArcGIS Earth
ArcMap
View Footprint In:
ArcGIS Online Map Viewer
Service Description: Elevation/IL_Lawrence_DSM_2011
Name: Elevation/IL_Lawrence_DSM_2011
Description:
Single Fused Map Cache: false
Extent:
XMin: 1101999.9998874217
YMin: 691999.9998909235
XMax: 1226001.4998874217
YMax: 798000.9998909235
Spatial Reference: 3443
(3443)
VCSWkid(5703)
LatestVCSWkid(5703)
Initial Extent:
XMin: 1101999.9998874217
YMin: 691999.9998909235
XMax: 1226001.4998874217
YMax: 798000.9998909235
Spatial Reference: 3443
(3443)
VCSWkid(5703)
LatestVCSWkid(5703)
Full Extent:
XMin: 1101999.9998874217
YMin: 691999.9998909235
XMax: 1226001.4998874217
YMax: 798000.9998909235
Spatial Reference: 3443
(3443)
VCSWkid(5703)
LatestVCSWkid(5703)
Pixel Size X: 3.5
Pixel Size Y: 3.5
Band Count: 1
Pixel Type: F32
RasterFunction Infos: {"rasterFunctionInfos": [
{
"name": "None",
"description": "Make a Raster or Raster Dataset into a Function Raster Dataset.",
"help": ""
},
{
"name": "Color Ramp",
"description": "Outputs a rendered raster.",
"help": ""
},
{
"name": "Hillshade",
"description": "Generates a grayscale model of a terrain with the sun's relative position taken into account for shading the terrain.",
"help": ""
}
]}
Mensuration Capabilities: Basic
Has Histograms: false
Has Colormap: false
Has Multi Dimensions : false
Rendering Rule:
Min Scale: 0
Max Scale: 0
Copyright Text:
Service Data Type: esriImageServiceDataTypeGeneric
Min Values: 365.6463623046875
Max Values: 707.9192504882812
Mean Values: 456.23506261173117
Standard Deviation Values: 39.630570182559175
Object ID Field:
Fields:
None
Default Mosaic Method: Center
Allowed Mosaic Methods:
SortField:
SortValue: null
Mosaic Operator: First
Default Compression Quality: 75
Default Resampling Method: Bicubic
Max Record Count: null
Max Image Height: 4100
Max Image Width: 15000
Max Download Image Count: null
Max Mosaic Image Count: null
Allow Raster Function: true
Allow Copy: true
Allow Analysis: true
Allow Compute TiePoints: false
Supports Statistics: false
Supports Advanced Queries: false
Use StandardizedQueries: true
Raster Type Infos:
Name: Raster Dataset
Description: Supports all ArcGIS Raster Datasets
Help:
Has Raster Attribute Table: false
Edit Fields Info: null
Ownership Based AccessControl For Rasters: null
Child Resources:
Info
Statistics
Key Properties
Legend
Raster Function Infos
Supported Operations:
Export Image
Identify
Measure
Compute Histograms
Compute Statistics Histograms
Get Samples
Compute Class Statistics
Query Boundary
Compute Pixel Location
Compute Angles
Validate
Project