View In:
ArcGIS JavaScript
ArcGIS Online Map Viewer
ArcGIS Earth
ArcMap
View Footprint In:
ArcGIS Online Map Viewer
Service Description: Elevation/IL_Marshall_DTM_2022
Name: Elevation/IL_Marshall_DTM_2022
Description:
Single Fused Map Cache: false
Extent:
XMin: 2437999.9999471605
YMin: 1547999.9998746775
XMax: 2607999.4999471605
YMax: 1636000.4998746775
Spatial Reference: 103038
(6457)
VCSWkid(105703)
LatestVCSWkid(6360)
Initial Extent:
XMin: 2437999.9999471605
YMin: 1547999.9998746775
XMax: 2607999.4999471605
YMax: 1636000.4998746775
Spatial Reference: 103038
(6457)
VCSWkid(105703)
LatestVCSWkid(6360)
Full Extent:
XMin: 2437999.9999471605
YMin: 1547999.9998746775
XMax: 2607999.4999471605
YMax: 1636000.4998746775
Spatial Reference: 103038
(6457)
VCSWkid(105703)
LatestVCSWkid(6360)
Pixel Size X: 1.5
Pixel Size Y: 1.5
Band Count: 1
Pixel Type: F32
RasterFunction Infos: {"rasterFunctionInfos": [
{
"name": "None",
"description": "Make a Raster or Raster Dataset into a Function Raster Dataset.",
"help": ""
},
{
"name": "Color Ramp",
"description": "Outputs a rendered raster.",
"help": ""
},
{
"name": "Hillshade",
"description": "Generates a grayscale model of a terrain with the sun's relative position taken into account for shading the terrain.",
"help": ""
}
]}
Mensuration Capabilities: Basic
Has Histograms: true
Has Colormap: false
Has Multi Dimensions : false
Rendering Rule:
Min Scale: 0
Max Scale: 0
Copyright Text:
Service Data Type: esriImageServiceDataTypeGeneric
Min Values: 443.98541259765625
Max Values: 902.4811401367188
Mean Values: 660.6096749676243
Standard Deviation Values: 93.06322575303284
Object ID Field:
Fields:
None
Default Mosaic Method: Center
Allowed Mosaic Methods:
SortField:
SortValue: null
Mosaic Operator: First
Default Compression Quality: 75
Default Resampling Method: Bilinear
Max Record Count: null
Max Image Height: 4100
Max Image Width: 15000
Max Download Image Count: null
Max Mosaic Image Count: null
Allow Raster Function: true
Allow Copy: true
Allow Analysis: true
Allow Compute TiePoints: false
Supports Statistics: false
Supports Advanced Queries: false
Use StandardizedQueries: true
Raster Type Infos:
Name: Raster Dataset
Description: Supports all ArcGIS Raster Datasets
Help:
Has Raster Attribute Table: false
Edit Fields Info: null
Ownership Based AccessControl For Rasters: null
Child Resources:
Info
Histograms
Statistics
Key Properties
Legend
Raster Function Infos
Supported Operations:
Export Image
Identify
Measure
Compute Histograms
Compute Statistics Histograms
Get Samples
Compute Class Statistics
Query Boundary
Compute Pixel Location
Compute Angles
Validate
Project