View In:
ArcGIS JavaScript
ArcGIS Online Map Viewer
ArcGIS Earth
ArcMap
View Footprint In:
ArcGIS Online Map Viewer
Service Description: Elevation/IL_Pike_DTM_2015
Name: Elevation/IL_Pike_DTM_2015
Description:
Single Fused Map Cache: false
Extent:
XMin: 1956523.825839432
YMin: 994005.8559793631
XMax: 2184555.1946611586
YMax: 1159588.1715183086
Spatial Reference: PROJCS["GRS_1980_Transverse_Mercator",GEOGCS["GCS_GRS_1980",DATUM["D_GRS_1980",SPHEROID["GRS_1980",6378137.0,298.257222101]],PRIMEM["Greenwich",0.0],UNIT["Degree",0.0174532925199433]],PROJECTION["Transverse_Mercator"],PARAMETER["False_Easting",2296583.33333333],PARAMETER["False_Northing",0.0],PARAMETER["Central_Meridian",-90.1666666666667],PARAMETER["Scale_Factor",0.999941176470588],PARAMETER["Latitude_Of_Origin",36.6666666666667],UNIT["Foot_US",0.3048006096012192]]
Initial Extent:
XMin: 1956523.825839432
YMin: 994005.8559793631
XMax: 2184555.1946611586
YMax: 1159588.1715183086
Spatial Reference: PROJCS["GRS_1980_Transverse_Mercator",GEOGCS["GCS_GRS_1980",DATUM["D_GRS_1980",SPHEROID["GRS_1980",6378137.0,298.257222101]],PRIMEM["Greenwich",0.0],UNIT["Degree",0.0174532925199433]],PROJECTION["Transverse_Mercator"],PARAMETER["False_Easting",2296583.33333333],PARAMETER["False_Northing",0.0],PARAMETER["Central_Meridian",-90.1666666666667],PARAMETER["Scale_Factor",0.999941176470588],PARAMETER["Latitude_Of_Origin",36.6666666666667],UNIT["Foot_US",0.3048006096012192]]
Full Extent:
XMin: 1956523.825839432
YMin: 994005.8559793631
XMax: 2184555.1946611586
YMax: 1159588.1715183086
Spatial Reference: PROJCS["GRS_1980_Transverse_Mercator",GEOGCS["GCS_GRS_1980",DATUM["D_GRS_1980",SPHEROID["GRS_1980",6378137.0,298.257222101]],PRIMEM["Greenwich",0.0],UNIT["Degree",0.0174532925199433]],PROJECTION["Transverse_Mercator"],PARAMETER["False_Easting",2296583.33333333],PARAMETER["False_Northing",0.0],PARAMETER["Central_Meridian",-90.1666666666667],PARAMETER["Scale_Factor",0.999941176470588],PARAMETER["Latitude_Of_Origin",36.6666666666667],UNIT["Foot_US",0.3048006096012192]]
Pixel Size X: 1.4999892701170006
Pixel Size Y: 1.499989270117
Band Count: 1
Pixel Type: F32
RasterFunction Infos: {"rasterFunctionInfos": [
{
"name": "None",
"description": "Make a Raster or Raster Dataset into a Function Raster Dataset.",
"help": ""
},
{
"name": "Color Ramp",
"description": "Outputs a rendered raster.",
"help": ""
},
{
"name": "Hillshade",
"description": "Generates a grayscale model of a terrain with the sun's relative position taken into account for shading the terrain.",
"help": ""
}
]}
Mensuration Capabilities: Basic
Has Histograms: true
Has Colormap: false
Has Multi Dimensions : false
Rendering Rule:
Min Scale: 0
Max Scale: 0
Copyright Text:
Service Data Type: esriImageServiceDataTypeGeneric
Min Values: 272.68389892578125
Max Values: 883.5243530273438
Mean Values: 601.356589346593
Standard Deviation Values: 112.9060918728778
Object ID Field:
Fields:
None
Default Mosaic Method: Center
Allowed Mosaic Methods:
SortField:
SortValue: null
Mosaic Operator: First
Default Compression Quality: 75
Default Resampling Method: Bilinear
Max Record Count: null
Max Image Height: 4100
Max Image Width: 15000
Max Download Image Count: null
Max Mosaic Image Count: null
Allow Raster Function: true
Allow Copy: true
Allow Analysis: true
Allow Compute TiePoints: false
Supports Statistics: false
Supports Advanced Queries: false
Use StandardizedQueries: true
Raster Type Infos:
Name: Raster Dataset
Description: Supports all ArcGIS Raster Datasets
Help:
Has Raster Attribute Table: false
Edit Fields Info: null
Ownership Based AccessControl For Rasters: null
Child Resources:
Info
Histograms
Statistics
Key Properties
Legend
Raster Function Infos
Supported Operations:
Export Image
Identify
Measure
Compute Histograms
Compute Statistics Histograms
Get Samples
Compute Class Statistics
Query Boundary
Compute Pixel Location
Compute Angles
Validate
Project