View In:
ArcGIS JavaScript
ArcGIS Online map viewer
Google Earth
ArcMap
View Footprint In:
ArcGIS Online map viewer
Service Description: Images were captured between March 16th and May 30th, 2011, using a Z/I Imaging Digital Mapping Camera (DMC). The DMC system collects imagery in four spectral bands, and therefore users can select between either a natural color rendition (RGB = 1,2,3) or near-infrared rendition (RGB = 4,1,2) for a particular application:
Band 1 = Red (598-675 nm)
Band 2 = Green (500-650 nm)
Band 3 = Blue (400-580 nm)
Band 4 = Near-IR (675-850 nm)
Name: Imagery/IDOT_2011
Description: Images were captured between March 16th and May 30th, 2011, using a Z/I Imaging Digital Mapping Camera (DMC). The DMC system collects imagery in four spectral bands, and therefore users can select between either a natural color rendition (RGB = 1,2,3) or near-infrared rendition (RGB = 4,1,2) for a particular application:
Band 1 = Red (598-675 nm)
Band 2 = Green (500-650 nm)
Band 3 = Blue (400-580 nm)
Band 4 = Near-IR (675-850 nm)
Single Fused Map Cache: false
Extent:
XMin: -1.01885074478E7
YMin: 4433775.097309554
XMax: -9738811.486408077
YMax: 5238570.322100003
Spatial Reference: 102100
(3857)
Initial Extent:
XMin: -1.01885074478E7
YMin: 4433775.097309554
XMax: -9738811.486408077
YMax: 5238570.322100003
Spatial Reference: 102100
(3857)
Full Extent:
XMin: -1.01885074478E7
YMin: 4433775.097309554
XMax: -9738811.486408077
YMax: 5238570.322100003
Spatial Reference: 102100
(3857)
Pixel Size X: 0.15240030480060937
Pixel Size Y: 0.15240030480060954
Band Count: 4
Pixel Type: U8
RasterFunction Infos: {"name":"None","description":"A No-Op Function.","help":""}
Mensuration Capabilities: None
Has Histograms: true
Has Colormap: false
Has Multi Dimensions : false
Rendering Rule:
Min Scale: 0
Max Scale: 0
Copyright Text: Provided by Illinois State Geological Survey
Service Data Type: esriImageServiceDataTypeGeneric
Min Values: 0, 0, 0, 0
Max Values: 198, 195, 180, 206
Mean Values: 1.0449197860962567, 1.0631550802139038, 0.952807486631016, 1.1314171122994652
Standard Deviation Values: 11.375799840929538, 11.43287961634518, 10.224635040981825, 13.120186129354526
Object ID Field: OBJECTID
Fields:
-
OBJECTID
(
type: esriFieldTypeOID
, alias: OBJECTID
)
-
Shape
(
type: esriFieldTypeGeometry
, alias: Shape
)
-
Name
(
type: esriFieldTypeString
, alias: Name
, length: 50
)
-
MinPS
(
type: esriFieldTypeDouble
, alias: MinPS
)
-
MaxPS
(
type: esriFieldTypeDouble
, alias: MaxPS
)
-
LowPS
(
type: esriFieldTypeDouble
, alias: LowPS
)
-
HighPS
(
type: esriFieldTypeDouble
, alias: HighPS
)
-
Category
(
type: esriFieldTypeInteger
, alias: Category
, Coded Values:
[0: Unknown]
, [1: Primary]
, [2: Overview]
, ...5 more...
)
-
Tag
(
type: esriFieldTypeString
, alias: Tag
, length: 20
)
-
GroupName
(
type: esriFieldTypeString
, alias: GroupName
, length: 50
)
-
ProductName
(
type: esriFieldTypeString
, alias: ProductName
, length: 50
)
-
CenterX
(
type: esriFieldTypeDouble
, alias: CenterX
)
-
CenterY
(
type: esriFieldTypeDouble
, alias: CenterY
)
-
ZOrder
(
type: esriFieldTypeInteger
, alias: ZOrder
)
-
Shape_Length
(
type: esriFieldTypeDouble
, alias: Shape_Length
)
-
Shape_Area
(
type: esriFieldTypeDouble
, alias: Shape_Area
)
Default Mosaic Method: Northwest
Allowed Mosaic Methods: NorthWest,Center,LockRaster,ByAttribute,Nadir,Viewpoint,Seamline,None
SortField:
SortValue: null
Mosaic Operator: First
Default Compression Quality: 75
Default Resampling Method: Bilinear
Max Record Count: 1000
Max Image Height: 4100
Max Image Width: 15000
Max Download Image Count: 20
Max Mosaic Image Count: 20
Allow Raster Function: true
Allow Compute TiePoints: false
Supports Statistics: true
Supports Advanced Queries: true
Use StandardizedQueries: true
Raster Type Infos:
Name: Raster Dataset
Description: Supports all ArcGIS Raster Datasets
Help:
Has Raster Attribute Table: false
Edit Fields Info: null
Ownership Based AccessControl For Rasters: null
Child Resources:
Info
Histograms
Key Properties
Legend
MultiDimensionalInfo
rasterFunctionInfos
Supported Operations:
Export Image
Query
Identify
Download Rasters
Compute Histograms
Compute Statistics Histograms
Get Samples
Compute Class Statistics