View In:
ArcGIS JavaScript
ArcGIS Online Map Viewer
ArcGIS Earth
ArcMap
View Footprint In:
ArcGIS Online Map Viewer
Service Description: Imagery/IL_Moultrie_1940
Name: Imagery/IL_Moultrie_1940
Description:
Single Fused Map Cache: false
Extent:
XMin: 844371.3979687808
YMin: 995896.8989413651
XMax: 949080.5984667807
YMax: 1153665.427978365
Spatial Reference: 102671
(3435)
Initial Extent:
XMin: 844371.3979687808
YMin: 995896.8989413651
XMax: 949080.5984667807
YMax: 1153665.427978365
Spatial Reference: 102671
(3435)
Full Extent:
XMin: 844371.3979687808
YMin: 995896.8989413651
XMax: 949080.5984667807
YMax: 1153665.427978365
Spatial Reference: 102671
(3435)
Pixel Size X: 3.355848999999997
Pixel Size Y: 3.3558489999999983
Band Count: 1
Pixel Type: U8
RasterFunction Infos: {"rasterFunctionInfos": [{
"name": "None",
"description": "",
"help": ""
}]}
Mensuration Capabilities: Basic
Has Histograms: true
Has Colormap: false
Has Multi Dimensions : false
Rendering Rule:
Min Scale: 0
Max Scale: 0
Copyright Text:
Service Data Type: esriImageServiceDataTypeGeneric
Min Values: 0
Max Values: 255
Mean Values: 129.12579781924
Standard Deviation Values: 69.270700827371
Object ID Field:
Fields:
None
Default Mosaic Method: Center
Allowed Mosaic Methods:
SortField:
SortValue: null
Mosaic Operator: First
Default Compression Quality: 75
Default Resampling Method: Bicubic
Max Record Count: null
Max Image Height: 4100
Max Image Width: 15000
Max Download Image Count: null
Max Mosaic Image Count: null
Allow Raster Function: true
Allow Copy: true
Allow Analysis: true
Allow Compute TiePoints: false
Supports Statistics: false
Supports Advanced Queries: false
Use StandardizedQueries: true
Raster Type Infos:
Name: Raster Dataset
Description: Supports all ArcGIS Raster Datasets
Help:
Has Raster Attribute Table: false
Edit Fields Info: null
Ownership Based AccessControl For Rasters: null
Child Resources:
Info
Histograms
Statistics
Key Properties
Legend
Raster Function Infos
Supported Operations:
Export Image
Identify
Measure
Compute Histograms
Compute Statistics Histograms
Get Samples
Compute Class Statistics
Query Boundary
Compute Pixel Location
Compute Angles
Validate
Project