View In:
ArcGIS JavaScript
ArcGIS Online Map Viewer
ArcGIS Earth
ArcMap
View Footprint In:
ArcGIS Online Map Viewer
Service Description: elevation/IL_Cass_DEM_2011
Name: elevation/IL_Cass_DEM_2011
Description:
Single Fused Map Cache: false
Extent:
XMin: 705013.6420000003
YMin: 4414568.1
XMax: 758023.2420000003
YMax: 4447875.5
Spatial Reference: 26915
(26915)
VCSWkid(5703)
LatestVCSWkid(5703)
Initial Extent:
XMin: 705013.6420000003
YMin: 4414568.1
XMax: 758023.2420000003
YMax: 4447875.5
Spatial Reference: 26915
(26915)
VCSWkid(5703)
LatestVCSWkid(5703)
Full Extent:
XMin: 705013.6420000003
YMin: 4414568.1
XMax: 758023.2420000003
YMax: 4447875.5
Spatial Reference: 26915
(26915)
VCSWkid(5703)
LatestVCSWkid(5703)
Pixel Size X: 1.3999999999999995
Pixel Size Y: 1.4000000000000157
Band Count: 1
Pixel Type: F32
RasterFunction Infos: {"rasterFunctionInfos": [
{
"name": "None",
"description": "Make a Raster or Raster Dataset into a Function Raster Dataset.",
"help": ""
},
{
"name": "Color Ramp",
"description": "Outputs a rendered raster.",
"help": ""
},
{
"name": "Hillshade",
"description": "Generates a grayscale model of a terrain with the sun's relative position taken into account for shading the terrain.",
"help": ""
}
]}
Mensuration Capabilities: Basic
Has Histograms: true
Has Colormap: false
Has Multi Dimensions : false
Rendering Rule:
Min Scale: 0
Max Scale: 0
Copyright Text:
Service Data Type: esriImageServiceDataTypeGeneric
Min Values: 414.38909912109375
Max Values: 672.6142578125
Mean Values: 447.78246957197166
Standard Deviation Values: 17.82040219176482
Object ID Field:
Fields:
None
Default Mosaic Method: Center
Allowed Mosaic Methods:
SortField:
SortValue: null
Mosaic Operator: First
Default Compression Quality: 75
Default Resampling Method: Bicubic
Max Record Count: null
Max Image Height: 4100
Max Image Width: 15000
Max Download Image Count: null
Max Mosaic Image Count: null
Allow Raster Function: true
Allow Copy: true
Allow Analysis: true
Allow Compute TiePoints: false
Supports Statistics: false
Supports Advanced Queries: false
Use StandardizedQueries: true
Raster Type Infos:
Name: Raster Dataset
Description: Supports all ArcGIS Raster Datasets
Help:
Has Raster Attribute Table: false
Edit Fields Info: null
Ownership Based AccessControl For Rasters: null
Child Resources:
Info
Histograms
Statistics
Key Properties
Legend
Raster Function Infos
Supported Operations:
Export Image
Identify
Measure
Compute Histograms
Compute Statistics Histograms
Get Samples
Compute Class Statistics
Query Boundary
Compute Pixel Location
Compute Angles
Validate
Project