View In:
ArcGIS JavaScript
ArcGIS Online Map Viewer
ArcGIS Earth
ArcMap
View Footprint In:
ArcGIS Online Map Viewer
Service Description: Product: These lidar data are processed Classified LAS 1.4 files, formatted to 10097 individual 2000 foot x 2000 foot tiles; used to create intensity images, 3D breaklines and hydro-flattened DEMs as necessary. Geographic Extent: Grundy, Kendall, and DeKalb County, Illinois, covering approximately 1,388 square miles. Grundy, Kendall, and DeKalb Counties are one area of interest (AOI) from a lidar survey that was collected over two (2) areas of interest in Illinois identified as LaSalle and Expansion Counties. LaSalle and Expansion Counties cover a total of approximately 2,563 square miles. Dataset Description: Grundy, Kendall, and DeKalb Counties, Illinois 2017 Lidar project called for the Planning, Acquisition, processing and derivative products of lidar data to be collected at a nominal pulse spacing (NPS) of 0.7 meter. Project specifications are based on the U.S. Geological Survey National Geospatial Program Base Lidar Specification, Version 1.2; Quality Level 2. The data was developed based on a horizontal projection/datum of NAD83 (2011), State Plane Coordinate System Illinois East (FIPS 1201), US Survey Feet and vertical datum of NAVD88 (GEOID12B), US Survey Feet. Lidar data was delivered as flightline-extent unclassified LAS swaths, as processed Classified LAS 1.4 files, formatted to 10097 individual 2000 foot x 2000 foot tiles, as tiled Intensity Imagery, and as tiled bare earth DEMs; all tiled to the same 2000 foot x 2000 foot schema. Ground Conditions: Lidar was collected in November 2017, due to an isolated anomaly found in the the lidar data in LaSalle County one re-flight was flown in April 2018, while no snow was on the ground and rivers were at or below normal levels. A Low Confidence polygon was use to circumscribe an area where lidar was reflected by particulates in smoke stack emission. Photons were unable to penetrate through the emissions for collection of ground surface within the polygon. The emission cloud obscures approximately 3.72 acres of ground surface. Tiles in which the emission cloud occurred are 99101727 and 99301727. In order to post process the lidar data to meet task order specifications and meet ASPRS vertical accuracy guidelines, GRW Aerial Surveys, Inc. established a total of 53 ground control points of which 50 were used to calibrate the lidar to known ground locations established throughout the LaSalle and Expansion Counties project areas. An additional 157 independent accuracy checkpoints, 89 in Bare Earth and Urban landcovers (89 NVA points), 68 in tall Grass/tall weeds/crops, Brush lands/short trees, Forested categories (68 VVA points), were used to assess the vertical accuracy of the data of the entire project area. These checkpoints were not used to calibrate or post process the data.
Name: elevation/IL_Grundy_DSM_2018
Description:
Single Fused Map Cache: false
Extent:
XMin: 911842.3301833338
YMin: 1617629.92856367
XMax: 1009750.9336060598
YMax: 1746936.0841288406
Spatial Reference: PROJCS["NAD_1983_2011_Illinois_East_ftUS",GEOGCS["GCS_NAD83_2011",DATUM["D_NAD83_National_Spatial_Reference_System_2011",SPHEROID["GRS_1980",6378137.0,298.257222101]],PRIMEM["Greenwich",0.0],UNIT["Degree",0.0174532925199433]],PROJECTION["Transverse_Mercator"],PARAMETER["false_easting",984250.0],PARAMETER["false_northing",0.0],PARAMETER["central_meridian",-88.3333333333333],PARAMETER["scale_factor",0.999975],PARAMETER["latitude_of_origin",36.6666666666667],UNIT["Foot_US",0.3048006096012192]],VERTCS["NAVD_1988_Foot_US",VDATUM["North American Vertical Datum 1988"],PARAMETER["Vertical_Shift",0.0],PARAMETER["Direction",1.0],UNIT["US survey foot",0.3048006096012192]]
Initial Extent:
XMin: 911842.3301833338
YMin: 1617629.92856367
XMax: 1009750.9336060598
YMax: 1746936.0841288406
Spatial Reference: PROJCS["NAD_1983_2011_Illinois_East_ftUS",GEOGCS["GCS_NAD83_2011",DATUM["D_NAD83_National_Spatial_Reference_System_2011",SPHEROID["GRS_1980",6378137.0,298.257222101]],PRIMEM["Greenwich",0.0],UNIT["Degree",0.0174532925199433]],PROJECTION["Transverse_Mercator"],PARAMETER["false_easting",984250.0],PARAMETER["false_northing",0.0],PARAMETER["central_meridian",-88.3333333333333],PARAMETER["scale_factor",0.999975],PARAMETER["latitude_of_origin",36.6666666666667],UNIT["Foot_US",0.3048006096012192]],VERTCS["NAVD_1988_Foot_US",VDATUM["North American Vertical Datum 1988"],PARAMETER["Vertical_Shift",0.0],PARAMETER["Direction",1.0],UNIT["US survey foot",0.3048006096012192]]
Full Extent:
XMin: 911842.3301833338
YMin: 1617629.92856367
XMax: 1009750.9336060598
YMax: 1746936.0841288406
Spatial Reference: PROJCS["NAD_1983_2011_Illinois_East_ftUS",GEOGCS["GCS_NAD83_2011",DATUM["D_NAD83_National_Spatial_Reference_System_2011",SPHEROID["GRS_1980",6378137.0,298.257222101]],PRIMEM["Greenwich",0.0],UNIT["Degree",0.0174532925199433]],PROJECTION["Transverse_Mercator"],PARAMETER["false_easting",984250.0],PARAMETER["false_northing",0.0],PARAMETER["central_meridian",-88.3333333333333],PARAMETER["scale_factor",0.999975],PARAMETER["latitude_of_origin",36.6666666666667],UNIT["Foot_US",0.3048006096012192]],VERTCS["NAVD_1988_Foot_US",VDATUM["North American Vertical Datum 1988"],PARAMETER["Vertical_Shift",0.0],PARAMETER["Direction",1.0],UNIT["US survey foot",0.3048006096012192]]
Pixel Size X: 1.999971472224
Pixel Size Y: 1.9999714722240012
Band Count: 1
Pixel Type: F32
RasterFunction Infos: {"rasterFunctionInfos": [
{
"name": "None",
"description": "Make a Raster or Raster Dataset into a Function Raster Dataset.",
"help": ""
},
{
"name": "Color Ramp",
"description": "Outputs a rendered raster.",
"help": ""
},
{
"name": "Hillshade",
"description": "Generates a grayscale model of a terrain with the sun's relative position taken into account for shading the terrain.",
"help": ""
}
]}
Mensuration Capabilities: Basic
Has Histograms: false
Has Colormap: false
Has Multi Dimensions : false
Rendering Rule:
Min Scale: 0
Max Scale: 0
Copyright Text: NRCS agricultural conservation, FEMA, Illinois State Geological Survey
Service Data Type: esriImageServiceDataTypeGeneric
Min Values: N/A
Max Values: N/A
Mean Values: N/A
Standard Deviation Values: N/A
Object ID Field:
Fields:
None
Default Mosaic Method: Center
Allowed Mosaic Methods:
SortField:
SortValue: null
Mosaic Operator: First
Default Compression Quality: 75
Default Resampling Method: Bilinear
Max Record Count: null
Max Image Height: 4100
Max Image Width: 15000
Max Download Image Count: null
Max Mosaic Image Count: null
Allow Raster Function: true
Allow Copy: true
Allow Analysis: true
Allow Compute TiePoints: false
Supports Statistics: false
Supports Advanced Queries: false
Use StandardizedQueries: true
Raster Type Infos:
Name: Raster Dataset
Description: Supports all ArcGIS Raster Datasets
Help:
Has Raster Attribute Table: false
Edit Fields Info: null
Ownership Based AccessControl For Rasters: null
Child Resources:
Info
Statistics
Key Properties
Legend
Raster Function Infos
Supported Operations:
Export Image
Identify
Measure
Compute Histograms
Compute Statistics Histograms
Get Samples
Compute Class Statistics
Query Boundary
Compute Pixel Location
Compute Angles
Validate
Project