View In:
ArcGIS JavaScript
ArcGIS Online Map Viewer
ArcGIS Earth
ArcMap
View Footprint In:
ArcGIS Online Map Viewer
Service Description: elevation/IL_McHenry_DTM_2022
Name: elevation/IL_McHenry_DTM_2022
Description:
Single Fused Map Cache: false
Extent:
XMin: 879898.2498660795
YMin: 1994896.0115477368
XMax: 1022600.2498660795
YMax: 2125100.011547737
Spatial Reference: PROJCS["NAD_1983_2011_Illinois_East_ftUS",GEOGCS["GCS_NAD83_2011",DATUM["D_NAD83_National_Spatial_Reference_System_2011",SPHEROID["GRS_1980",6378137.0,298.257222101]],PRIMEM["Greenwich",0.0],UNIT["Degree",0.0174532925199433]],PROJECTION["Transverse_Mercator"],PARAMETER["false_easting",984250.0],PARAMETER["false_northing",0.0],PARAMETER["central_meridian",-88.3333333333333],PARAMETER["scale_factor",0.999975],PARAMETER["latitude_of_origin",36.6666666666667],UNIT["Foot_US",0.3048006096012192]],VERTCS["NAVD88 height (ftUS)",VDATUM["North American Vertical Datum 1988"],PARAMETER["Vertical_Shift",0.0],PARAMETER["Direction",1.0],UNIT["US survey foot",0.3048006096012192]]
Initial Extent:
XMin: 879898.2498660795
YMin: 1994896.0115477368
XMax: 1022600.2498660795
YMax: 2125100.011547737
Spatial Reference: PROJCS["NAD_1983_2011_Illinois_East_ftUS",GEOGCS["GCS_NAD83_2011",DATUM["D_NAD83_National_Spatial_Reference_System_2011",SPHEROID["GRS_1980",6378137.0,298.257222101]],PRIMEM["Greenwich",0.0],UNIT["Degree",0.0174532925199433]],PROJECTION["Transverse_Mercator"],PARAMETER["false_easting",984250.0],PARAMETER["false_northing",0.0],PARAMETER["central_meridian",-88.3333333333333],PARAMETER["scale_factor",0.999975],PARAMETER["latitude_of_origin",36.6666666666667],UNIT["Foot_US",0.3048006096012192]],VERTCS["NAVD88 height (ftUS)",VDATUM["North American Vertical Datum 1988"],PARAMETER["Vertical_Shift",0.0],PARAMETER["Direction",1.0],UNIT["US survey foot",0.3048006096012192]]
Full Extent:
XMin: 879898.2498660795
YMin: 1994896.0115477368
XMax: 1022600.2498660795
YMax: 2125100.011547737
Spatial Reference: PROJCS["NAD_1983_2011_Illinois_East_ftUS",GEOGCS["GCS_NAD83_2011",DATUM["D_NAD83_National_Spatial_Reference_System_2011",SPHEROID["GRS_1980",6378137.0,298.257222101]],PRIMEM["Greenwich",0.0],UNIT["Degree",0.0174532925199433]],PROJECTION["Transverse_Mercator"],PARAMETER["false_easting",984250.0],PARAMETER["false_northing",0.0],PARAMETER["central_meridian",-88.3333333333333],PARAMETER["scale_factor",0.999975],PARAMETER["latitude_of_origin",36.6666666666667],UNIT["Foot_US",0.3048006096012192]],VERTCS["NAVD88 height (ftUS)",VDATUM["North American Vertical Datum 1988"],PARAMETER["Vertical_Shift",0.0],PARAMETER["Direction",1.0],UNIT["US survey foot",0.3048006096012192]]
Pixel Size X: 1.0
Pixel Size Y: 1.0
Band Count: 1
Pixel Type: F32
RasterFunction Infos: {"rasterFunctionInfos": [
{
"name": "None",
"description": "Make a Raster or Raster Dataset into a Function Raster Dataset.",
"help": ""
},
{
"name": "Color Ramp",
"description": "Outputs a rendered raster.",
"help": ""
},
{
"name": "Hillshade",
"description": "Generates a grayscale model of a terrain with the sun's relative position taken into account for shading the terrain.",
"help": ""
}
]}
Mensuration Capabilities: Basic
Has Histograms: false
Has Colormap: false
Has Multi Dimensions : false
Rendering Rule:
Min Scale: 0
Max Scale: 0
Copyright Text:
Service Data Type: esriImageServiceDataTypeGeneric
Min Values: 567.6439819335938
Max Values: 1191.4652099609375
Mean Values: 870.3956304380264
Standard Deviation Values: 68.05245815128366
Object ID Field:
Fields:
None
Default Mosaic Method: Center
Allowed Mosaic Methods:
SortField:
SortValue: null
Mosaic Operator: First
Default Compression Quality: 75
Default Resampling Method: Bicubic
Max Record Count: null
Max Image Height: 4100
Max Image Width: 15000
Max Download Image Count: null
Max Mosaic Image Count: null
Allow Raster Function: true
Allow Copy: true
Allow Analysis: true
Allow Compute TiePoints: false
Supports Statistics: false
Supports Advanced Queries: false
Use StandardizedQueries: true
Raster Type Infos:
Name: Raster Dataset
Description: Supports all ArcGIS Raster Datasets
Help:
Has Raster Attribute Table: false
Edit Fields Info: null
Ownership Based AccessControl For Rasters: null
Child Resources:
Info
Statistics
Key Properties
Legend
Raster Function Infos
Supported Operations:
Export Image
Identify
Measure
Compute Histograms
Compute Statistics Histograms
Get Samples
Compute Class Statistics
Query Boundary
Compute Pixel Location
Compute Angles
Validate
Project