View In:
ArcGIS JavaScript
ArcGIS Online Map Viewer
ArcGIS Earth
ArcMap
View Footprint In:
ArcGIS Online Map Viewer
Service Description: elevation/IL_Piatt_DEM_2011
Name: elevation/IL_Piatt_DEM_2011
Description:
Single Fused Map Cache: false
Extent:
XMin: 350134.8721244646
YMin: 4404697.423600003
XMax: 376302.6721244646
YMax: 4461487.423600003
Spatial Reference: 26916
(26916)
VCSWkid(5703)
LatestVCSWkid(5703)
Initial Extent:
XMin: 350134.8721244646
YMin: 4404697.423600003
XMax: 376302.6721244646
YMax: 4461487.423600003
Spatial Reference: 26916
(26916)
VCSWkid(5703)
LatestVCSWkid(5703)
Full Extent:
XMin: 350134.8721244646
YMin: 4404697.423600003
XMax: 376302.6721244646
YMax: 4461487.423600003
Spatial Reference: 26916
(26916)
VCSWkid(5703)
LatestVCSWkid(5703)
Pixel Size X: 0.5999999999999998
Pixel Size Y: 0.6
Band Count: 1
Pixel Type: F32
RasterFunction Infos: {"rasterFunctionInfos": [
{
"name": "None",
"description": "Make a Raster or Raster Dataset into a Function Raster Dataset.",
"help": ""
},
{
"name": "Color Ramp",
"description": "Outputs a rendered raster.",
"help": ""
},
{
"name": "Hillshade",
"description": "Generates a grayscale model of a terrain with the sun's relative position taken into account for shading the terrain.",
"help": ""
}
]}
Mensuration Capabilities: Basic
Has Histograms: true
Has Colormap: false
Has Multi Dimensions : false
Rendering Rule:
Min Scale: 0
Max Scale: 0
Copyright Text:
Service Data Type: esriImageServiceDataTypeGeneric
Min Values: 616.953125
Max Values: 811.316650390625
Mean Values: 697.8176148093294
Standard Deviation Values: 26.248587521407025
Object ID Field:
Fields:
None
Default Mosaic Method: Center
Allowed Mosaic Methods:
SortField:
SortValue: null
Mosaic Operator: First
Default Compression Quality: 75
Default Resampling Method: Bicubic
Max Record Count: null
Max Image Height: 4100
Max Image Width: 15000
Max Download Image Count: null
Max Mosaic Image Count: null
Allow Raster Function: true
Allow Copy: true
Allow Analysis: true
Allow Compute TiePoints: false
Supports Statistics: false
Supports Advanced Queries: false
Use StandardizedQueries: true
Raster Type Infos:
Name: Raster Dataset
Description: Supports all ArcGIS Raster Datasets
Help:
Has Raster Attribute Table: false
Edit Fields Info: null
Ownership Based AccessControl For Rasters: null
Child Resources:
Info
Histograms
Statistics
Key Properties
Legend
Raster Function Infos
Supported Operations:
Export Image
Identify
Measure
Compute Histograms
Compute Statistics Histograms
Get Samples
Compute Class Statistics
Query Boundary
Compute Pixel Location
Compute Angles
Validate
Project