View In:
ArcGIS JavaScript
ArcGIS Online Map Viewer
ArcGIS Earth
ArcMap
View Footprint In:
ArcGIS Online Map Viewer
Service Description: elevation/IL_Piatt_DSM_2011
Name: elevation/IL_Piatt_DSM_2011
Description:
Single Fused Map Cache: false
Extent:
XMin: 349283.34463692876
YMin: 4404307.075031081
XMax: 377153.34463692876
YMax: 4461881.275031081
Spatial Reference: 26916
(26916)
Initial Extent:
XMin: 349283.34463692876
YMin: 4404307.075031081
XMax: 377153.34463692876
YMax: 4461881.275031081
Spatial Reference: 26916
(26916)
Full Extent:
XMin: 349283.34463692876
YMin: 4404307.075031081
XMax: 377153.34463692876
YMax: 4461881.275031081
Spatial Reference: 26916
(26916)
Pixel Size X: 0.6
Pixel Size Y: 0.600000000000002
Band Count: 1
Pixel Type: F32
RasterFunction Infos: {"rasterFunctionInfos": [
{
"name": "None",
"description": "Make a Raster or Raster Dataset into a Function Raster Dataset.",
"help": ""
},
{
"name": "Color Ramp",
"description": "Outputs a rendered raster.",
"help": ""
},
{
"name": "Hillshade",
"description": "Generates a grayscale model of a terrain with the sun's relative position taken into account for shading the terrain.",
"help": ""
}
]}
Mensuration Capabilities: Basic
Has Histograms: false
Has Colormap: false
Has Multi Dimensions : false
Rendering Rule:
Min Scale: 0
Max Scale: 0
Copyright Text:
Service Data Type: esriImageServiceDataTypeGeneric
Min Values: 609.9141845703125
Max Values: 991.7769775390625
Mean Values: 698.2761029101638
Standard Deviation Values: 26.003360631232276
Object ID Field:
Fields:
None
Default Mosaic Method: Center
Allowed Mosaic Methods:
SortField:
SortValue: null
Mosaic Operator: First
Default Compression Quality: 75
Default Resampling Method: Bicubic
Max Record Count: null
Max Image Height: 4100
Max Image Width: 15000
Max Download Image Count: null
Max Mosaic Image Count: null
Allow Raster Function: true
Allow Copy: true
Allow Analysis: true
Allow Compute TiePoints: false
Supports Statistics: false
Supports Advanced Queries: false
Use StandardizedQueries: true
Raster Type Infos:
Name: Raster Dataset
Description: Supports all ArcGIS Raster Datasets
Help:
Has Raster Attribute Table: false
Edit Fields Info: null
Ownership Based AccessControl For Rasters: null
Child Resources:
Info
Statistics
Key Properties
Legend
Raster Function Infos
Supported Operations:
Export Image
Identify
Measure
Compute Histograms
Compute Statistics Histograms
Get Samples
Compute Class Statistics
Query Boundary
Compute Pixel Location
Compute Angles
Validate
Project