View In:
ArcGIS JavaScript
ArcGIS Online Map Viewer
ArcGIS Earth
ArcMap
View Footprint In:
ArcGIS Online Map Viewer
Service Description: elevation/IL_Pope_DTM_2014
Name: elevation/IL_Pope_DTM_2014
Description:
Single Fused Map Cache: false
Extent:
XMin: 872052.4999145791
YMin: 136000.00001648813
XMax: 972054.9999145791
YMax: 344000.00001648813
Spatial Reference: PROJCS["GRS_1980_Transverse_Mercator",GEOGCS["GCS_GRS_1980",DATUM["D_GRS_1980",SPHEROID["GRS_1980",6378137.0,298.257222101]],PRIMEM["Greenwich",0.0],UNIT["Degree",0.0174532925199433]],PROJECTION["Transverse_Mercator"],PARAMETER["False_Easting",984250.0],PARAMETER["False_Northing",0.0],PARAMETER["Central_Meridian",-88.33333333333333],PARAMETER["Scale_Factor",0.999975],PARAMETER["Latitude_Of_Origin",36.66666666666666],UNIT["Foot_US",0.3048006096012192]],VERTCS["NAVD_1988",VDATUM["North_American_Vertical_Datum_1988"],PARAMETER["Vertical_Shift",0.0],PARAMETER["Direction",1.0],UNIT["Foot_US",0.3048006096012192]]
Initial Extent:
XMin: 872052.4999145791
YMin: 136000.00001648813
XMax: 972054.9999145791
YMax: 344000.00001648813
Spatial Reference: PROJCS["GRS_1980_Transverse_Mercator",GEOGCS["GCS_GRS_1980",DATUM["D_GRS_1980",SPHEROID["GRS_1980",6378137.0,298.257222101]],PRIMEM["Greenwich",0.0],UNIT["Degree",0.0174532925199433]],PROJECTION["Transverse_Mercator"],PARAMETER["False_Easting",984250.0],PARAMETER["False_Northing",0.0],PARAMETER["Central_Meridian",-88.33333333333333],PARAMETER["Scale_Factor",0.999975],PARAMETER["Latitude_Of_Origin",36.66666666666666],UNIT["Foot_US",0.3048006096012192]],VERTCS["NAVD_1988",VDATUM["North_American_Vertical_Datum_1988"],PARAMETER["Vertical_Shift",0.0],PARAMETER["Direction",1.0],UNIT["Foot_US",0.3048006096012192]]
Full Extent:
XMin: 872052.4999145791
YMin: 136000.00001648813
XMax: 972054.9999145791
YMax: 344000.00001648813
Spatial Reference: PROJCS["GRS_1980_Transverse_Mercator",GEOGCS["GCS_GRS_1980",DATUM["D_GRS_1980",SPHEROID["GRS_1980",6378137.0,298.257222101]],PRIMEM["Greenwich",0.0],UNIT["Degree",0.0174532925199433]],PROJECTION["Transverse_Mercator"],PARAMETER["False_Easting",984250.0],PARAMETER["False_Northing",0.0],PARAMETER["Central_Meridian",-88.33333333333333],PARAMETER["Scale_Factor",0.999975],PARAMETER["Latitude_Of_Origin",36.66666666666666],UNIT["Foot_US",0.3048006096012192]],VERTCS["NAVD_1988",VDATUM["North_American_Vertical_Datum_1988"],PARAMETER["Vertical_Shift",0.0],PARAMETER["Direction",1.0],UNIT["Foot_US",0.3048006096012192]]
Pixel Size X: 2.5
Pixel Size Y: 2.5
Band Count: 1
Pixel Type: F32
RasterFunction Infos: {"rasterFunctionInfos": [
{
"name": "None",
"description": "Make a Raster or Raster Dataset into a Function Raster Dataset.",
"help": ""
},
{
"name": "Color Ramp",
"description": "Outputs a rendered raster.",
"help": ""
},
{
"name": "Hillshade",
"description": "Generates a grayscale model of a terrain with the sun's relative position taken into account for shading the terrain.",
"help": ""
}
]}
Mensuration Capabilities: Basic
Has Histograms: false
Has Colormap: false
Has Multi Dimensions : false
Rendering Rule:
Min Scale: 0
Max Scale: 0
Copyright Text:
Service Data Type: esriImageServiceDataTypeGeneric
Min Values: -20.75015640258789
Max Values: 1065.2301025390625
Mean Values: 486.2258108032844
Standard Deviation Values: 125.89713942219451
Object ID Field:
Fields:
None
Default Mosaic Method: Center
Allowed Mosaic Methods:
SortField:
SortValue: null
Mosaic Operator: First
Default Compression Quality: 75
Default Resampling Method: Bilinear
Max Record Count: null
Max Image Height: 4100
Max Image Width: 15000
Max Download Image Count: null
Max Mosaic Image Count: null
Allow Raster Function: true
Allow Copy: true
Allow Analysis: true
Allow Compute TiePoints: false
Supports Statistics: false
Supports Advanced Queries: false
Use StandardizedQueries: true
Raster Type Infos:
Name: Raster Dataset
Description: Supports all ArcGIS Raster Datasets
Help:
Has Raster Attribute Table: false
Edit Fields Info: null
Ownership Based AccessControl For Rasters: null
Child Resources:
Info
Statistics
Key Properties
Legend
Raster Function Infos
Supported Operations:
Export Image
Identify
Measure
Compute Histograms
Compute Statistics Histograms
Get Samples
Compute Class Statistics
Query Boundary
Compute Pixel Location
Compute Angles
Validate
Project