View In:
ArcGIS JavaScript
ArcGIS Online Map Viewer
ArcGIS Earth
ArcMap
View Footprint In:
ArcGIS Online Map Viewer
Service Description: elevation/IL_Saline_DSM_2011
Name: elevation/IL_Saline_DSM_2011
Description:
Single Fused Map Cache: false
Extent:
XMin: 873902.351911634
YMin: 338066.3337084525
XMax: 974276.8230782928
YMax: 453709.8032084435
Spatial Reference: 102671
(3435)
Initial Extent:
XMin: 873902.351911634
YMin: 338066.3337084525
XMax: 974276.8230782928
YMax: 453709.8032084435
Spatial Reference: 102671
(3435)
Full Extent:
XMin: 873902.351911634
YMin: 338066.3337084525
XMax: 974276.8230782928
YMax: 453709.8032084435
Spatial Reference: 102671
(3435)
Pixel Size X: 4.265083333332999
Pixel Size Y: 4.265083333333001
Band Count: 1
Pixel Type: F32
RasterFunction Infos: {"rasterFunctionInfos": [
{
"name": "None",
"description": "Make a Raster or Raster Dataset into a Function Raster Dataset.",
"help": ""
},
{
"name": "Color Ramp",
"description": "Outputs a rendered raster.",
"help": ""
},
{
"name": "Hillshade",
"description": "Generates a grayscale model of a terrain with the sun's relative position taken into account for shading the terrain.",
"help": ""
}
]}
Mensuration Capabilities: Basic
Has Histograms: false
Has Colormap: false
Has Multi Dimensions : false
Rendering Rule:
Min Scale: 0
Max Scale: 0
Copyright Text:
Service Data Type: esriImageServiceDataTypeGeneric
Min Values: 224.4622039794922
Max Values: 1061.9256591796875
Mean Values: 423.41686973573206
Standard Deviation Values: 73.57353615293846
Object ID Field:
Fields:
None
Default Mosaic Method: Center
Allowed Mosaic Methods:
SortField:
SortValue: null
Mosaic Operator: First
Default Compression Quality: 75
Default Resampling Method: Bilinear
Max Record Count: null
Max Image Height: 4100
Max Image Width: 15000
Max Download Image Count: null
Max Mosaic Image Count: null
Allow Raster Function: true
Allow Copy: true
Allow Analysis: true
Allow Compute TiePoints: false
Supports Statistics: false
Supports Advanced Queries: false
Use StandardizedQueries: true
Raster Type Infos:
Name: Raster Dataset
Description: Supports all ArcGIS Raster Datasets
Help:
Has Raster Attribute Table: false
Edit Fields Info: null
Ownership Based AccessControl For Rasters: null
Child Resources:
Info
Statistics
Key Properties
Legend
Raster Function Infos
Supported Operations:
Export Image
Identify
Measure
Compute Histograms
Compute Statistics Histograms
Get Samples
Compute Class Statistics
Query Boundary
Compute Pixel Location
Compute Angles
Validate
Project