View In:
ArcGIS JavaScript
ArcGIS Online Map Viewer
ArcGIS Earth
ArcMap
View Footprint In:
ArcGIS Online Map Viewer
Service Description: elevation/IL_Williamson_DSM_2011
Name: elevation/IL_Williamson_DSM_2011
Description:
Single Fused Map Cache: false
Extent:
XMin: 745175.2276605794
YMin: 336810.3998410341
XMax: 877815.0542439023
YMax: 438647.79459102615
Spatial Reference: 103037
(6455)
Initial Extent:
XMin: 745175.2276605794
YMin: 336810.3998410341
XMax: 877815.0542439023
YMax: 438647.79459102615
Spatial Reference: 103037
(6455)
Full Extent:
XMin: 745175.2276605794
YMin: 336810.3998410341
XMax: 877815.0542439023
YMax: 438647.79459102615
Spatial Reference: 103037
(6455)
Pixel Size X: 4.265083333332999
Pixel Size Y: 4.265083333333001
Band Count: 1
Pixel Type: F32
RasterFunction Infos: {"rasterFunctionInfos": [
{
"name": "None",
"description": "Make a Raster or Raster Dataset into a Function Raster Dataset.",
"help": ""
},
{
"name": "Color Ramp",
"description": "Outputs a rendered raster.",
"help": ""
},
{
"name": "Hillshade",
"description": "Generates a grayscale model of a terrain with the sun's relative position taken into account for shading the terrain.",
"help": ""
}
]}
Mensuration Capabilities: Basic
Has Histograms: false
Has Colormap: false
Has Multi Dimensions : false
Rendering Rule:
Min Scale: 0
Max Scale: 0
Copyright Text:
Service Data Type: esriImageServiceDataTypeGeneric
Min Values: 349.1881408691406
Max Values: 1560.1580810546875
Mean Values: 471.9750711158324
Standard Deviation Values: 59.42362747435296
Object ID Field:
Fields:
None
Default Mosaic Method: Center
Allowed Mosaic Methods:
SortField:
SortValue: null
Mosaic Operator: First
Default Compression Quality: 75
Default Resampling Method: Bilinear
Max Record Count: null
Max Image Height: 4100
Max Image Width: 15000
Max Download Image Count: null
Max Mosaic Image Count: null
Allow Raster Function: true
Allow Copy: true
Allow Analysis: true
Allow Compute TiePoints: false
Supports Statistics: false
Supports Advanced Queries: false
Use StandardizedQueries: true
Raster Type Infos:
Name: Raster Dataset
Description: Supports all ArcGIS Raster Datasets
Help:
Has Raster Attribute Table: false
Edit Fields Info: null
Ownership Based AccessControl For Rasters: null
Child Resources:
Info
Statistics
Key Properties
Legend
Raster Function Infos
Supported Operations:
Export Image
Identify
Measure
Compute Histograms
Compute Statistics Histograms
Get Samples
Compute Class Statistics
Query Boundary
Compute Pixel Location
Compute Angles
Validate
Project