View In:
ArcGIS JavaScript
ArcGIS Online Map Viewer
ArcGIS Earth
ArcMap
View Footprint In:
ArcGIS Online Map Viewer
Service Description: This Digital Terrain Model (DTM) data was produced all or in part from LiDAR information as of 2017. The LiDAR derived DTM covers Hancock County, Illinois and include inland streams, rivers, lakes ponds and tidal features. These data are appropriate for use in local and regional analysis. This dataset is 2.20 ppsm LiDAR point cloud data and derivative models of Hancock County, Illinois. Hancock County is approximately 863 square miles in eastern Illinois. Data was collected at a nominal pulse spacing (NPS) of 0.67 meter. Data acquisition, processing and assessment is compliant with procedures and methods stated in U.S. Geological Survey National Geospatial Program LiDAR Base Specification Version 1.2.
Digital Elevation Models (including terrain and surface models) are raster data sets created from whole LiDAR point cloud data sets (LAS files). The LAS files are the standard LiDAR file format which contains the raw point cloud data, these data are normally classified and distinguished between points on the ground, water or elevated features such as buildings, trees, towers, bridges, etc.. These LAS files are processed into elevation models to create gridded rasters. The first returns can be used to map the top reflective surface (Digital Surface Models - DSM), these normally include open terrain areas, as well as the tops of buildings, trees, towers, and other features elevated above the bare earth. The last returns are used to map the bare-earth terrain (Digital Terrain Models - DTM), these are normally produced with irregularly-spaced points rather than the uniform grid structure of a Digital Elevation Model (DEM), Digital Terrain Models will often include breaklines to help define edges of water bodies.
Name: Elevation/IL_Hancock_DTM_2017
Description:
Single Fused Map Cache: false
Extent:
XMin: 1919999.9998599961
YMin: 1283999.9999465146
XMax: 2093999.9998599961
YMax: 1449999.9999465146
Spatial Reference: PROJCS["GRS_1980_Transverse_Mercator",GEOGCS["GCS_GRS_1980",DATUM["D_GRS_1980",SPHEROID["GRS_1980",6378137.0,298.257222101]],PRIMEM["Greenwich",0.0],UNIT["Degree",0.0174532925199433]],PROJECTION["Transverse_Mercator"],PARAMETER["False_Easting",2296583.333333333],PARAMETER["False_Northing",0.0],PARAMETER["Central_Meridian",-90.16666666666667],PARAMETER["Scale_Factor",0.9999411764705882],PARAMETER["Latitude_Of_Origin",36.66666666666666],UNIT["Foot_US",0.3048006096012192]],VERTCS["NAVD88_height_(ftUS)",VDATUM["North_American_Vertical_Datum_1988"],PARAMETER["Vertical_Shift",0.0],PARAMETER["Direction",1.0],UNIT["Foot_US",0.3048006096012192]]
Initial Extent:
XMin: 1919999.9998599961
YMin: 1283999.9999465146
XMax: 2093999.9998599961
YMax: 1449999.9999465146
Spatial Reference: PROJCS["GRS_1980_Transverse_Mercator",GEOGCS["GCS_GRS_1980",DATUM["D_GRS_1980",SPHEROID["GRS_1980",6378137.0,298.257222101]],PRIMEM["Greenwich",0.0],UNIT["Degree",0.0174532925199433]],PROJECTION["Transverse_Mercator"],PARAMETER["False_Easting",2296583.333333333],PARAMETER["False_Northing",0.0],PARAMETER["Central_Meridian",-90.16666666666667],PARAMETER["Scale_Factor",0.9999411764705882],PARAMETER["Latitude_Of_Origin",36.66666666666666],UNIT["Foot_US",0.3048006096012192]],VERTCS["NAVD88_height_(ftUS)",VDATUM["North_American_Vertical_Datum_1988"],PARAMETER["Vertical_Shift",0.0],PARAMETER["Direction",1.0],UNIT["Foot_US",0.3048006096012192]]
Full Extent:
XMin: 1919999.9998599961
YMin: 1283999.9999465146
XMax: 2093999.9998599961
YMax: 1449999.9999465146
Spatial Reference: PROJCS["GRS_1980_Transverse_Mercator",GEOGCS["GCS_GRS_1980",DATUM["D_GRS_1980",SPHEROID["GRS_1980",6378137.0,298.257222101]],PRIMEM["Greenwich",0.0],UNIT["Degree",0.0174532925199433]],PROJECTION["Transverse_Mercator"],PARAMETER["False_Easting",2296583.333333333],PARAMETER["False_Northing",0.0],PARAMETER["Central_Meridian",-90.16666666666667],PARAMETER["Scale_Factor",0.9999411764705882],PARAMETER["Latitude_Of_Origin",36.66666666666666],UNIT["Foot_US",0.3048006096012192]],VERTCS["NAVD88_height_(ftUS)",VDATUM["North_American_Vertical_Datum_1988"],PARAMETER["Vertical_Shift",0.0],PARAMETER["Direction",1.0],UNIT["Foot_US",0.3048006096012192]]
Pixel Size X: 2.0
Pixel Size Y: 2.0
Band Count: 1
Pixel Type: F32
RasterFunction Infos: {"rasterFunctionInfos": [
{
"name": "None",
"description": "Make a Raster or Raster Dataset into a Function Raster Dataset.",
"help": ""
},
{
"name": "Color Ramp",
"description": "Outputs a rendered raster.",
"help": ""
},
{
"name": "Hillshade",
"description": "Generates a grayscale model of a terrain with the sun's relative position taken into account for shading the terrain.",
"help": ""
}
]}
Mensuration Capabilities: Basic
Has Histograms: false
Has Colormap: false
Has Multi Dimensions : false
Rendering Rule:
Min Scale: 0
Max Scale: 0
Copyright Text: Created by Surdex Corporation through Contract with the University of Illinois, Illinois State Geological Survey and the Prairie Research Institute
Service Data Type: esriImageServiceDataTypeGeneric
Min Values: N/A
Max Values: N/A
Mean Values: N/A
Standard Deviation Values: N/A
Object ID Field:
Fields:
None
Default Mosaic Method: Center
Allowed Mosaic Methods:
SortField:
SortValue: null
Mosaic Operator: First
Default Compression Quality: 75
Default Resampling Method: Bilinear
Max Record Count: null
Max Image Height: 4100
Max Image Width: 15000
Max Download Image Count: null
Max Mosaic Image Count: null
Allow Raster Function: true
Allow Copy: true
Allow Analysis: true
Allow Compute TiePoints: false
Supports Statistics: false
Supports Advanced Queries: false
Use StandardizedQueries: true
Raster Type Infos:
Name: Raster Dataset
Description: Supports all ArcGIS Raster Datasets
Help:
Has Raster Attribute Table: false
Edit Fields Info: null
Ownership Based AccessControl For Rasters: null
Child Resources:
Info
Statistics
Key Properties
Legend
Raster Function Infos
Supported Operations:
Export Image
Identify
Measure
Compute Histograms
Compute Statistics Histograms
Get Samples
Compute Class Statistics
Query Boundary
Compute Pixel Location
Compute Angles
Validate
Project