View In:
ArcGIS JavaScript
ArcGIS Online Map Viewer
ArcGIS Earth
ArcMap
View Footprint In:
ArcGIS Online Map Viewer
Service Description: Imagery/IL_Vermilion_1940
Name: Imagery/IL_Vermilion_1940
Description:
Single Fused Map Cache: false
Extent:
XMin: 1081839.4416362399
YMin: 1165657.700755347
XMax: 1224311.373994955
YMax: 1396661.1212475814
Spatial Reference: 103037
(6455)
Initial Extent:
XMin: 1081839.4416362399
YMin: 1165657.700755347
XMax: 1224311.373994955
YMax: 1396661.1212475814
Spatial Reference: 103037
(6455)
Full Extent:
XMin: 1081839.4416362399
YMin: 1165657.700755347
XMax: 1224311.373994955
YMax: 1396661.1212475814
Spatial Reference: 103037
(6455)
Pixel Size X: 2.2483616450000032
Pixel Size Y: 2.2483616449999944
Band Count: 1
Pixel Type: U8
RasterFunction Infos: {"rasterFunctionInfos": [{
"name": "None",
"description": "",
"help": ""
}]}
Mensuration Capabilities: Basic
Has Histograms: true
Has Colormap: false
Has Multi Dimensions : false
Rendering Rule:
Min Scale: 0
Max Scale: 0
Copyright Text:
Service Data Type: esriImageServiceDataTypeGeneric
Min Values: 0
Max Values: 255
Mean Values: 140.93764918389
Standard Deviation Values: 59.217930499021
Object ID Field:
Fields:
None
Default Mosaic Method: Center
Allowed Mosaic Methods:
SortField:
SortValue: null
Mosaic Operator: First
Default Compression Quality: 75
Default Resampling Method: Bicubic
Max Record Count: null
Max Image Height: 4100
Max Image Width: 15000
Max Download Image Count: null
Max Mosaic Image Count: null
Allow Raster Function: true
Allow Copy: true
Allow Analysis: true
Allow Compute TiePoints: false
Supports Statistics: false
Supports Advanced Queries: false
Use StandardizedQueries: true
Raster Type Infos:
Name: Raster Dataset
Description: Supports all ArcGIS Raster Datasets
Help:
Has Raster Attribute Table: false
Edit Fields Info: null
Ownership Based AccessControl For Rasters: null
Child Resources:
Info
Histograms
Statistics
Key Properties
Legend
Raster Function Infos
Supported Operations:
Export Image
Identify
Measure
Compute Histograms
Compute Statistics Histograms
Get Samples
Compute Class Statistics
Query Boundary
Compute Pixel Location
Compute Angles
Validate
Project