View In:
ArcGIS JavaScript
ArcGIS Online Map Viewer
ArcGIS Earth
ArcMap
View Footprint In:
ArcGIS Online Map Viewer
Service Description: elevation/IL_Livingston_DTM_2024
Name: elevation/IL_Livingston_DTM_2024
Description:
Single Fused Map Cache: false
Extent:
XMin: 818512.7199999988
YMin: 1437000
XMax: 1012999.7199999988
YMax: 1620196
Spatial Reference: PROJCS["NAD_1983_2011_Illinois_East_ftUS",GEOGCS["GCS_NAD83_2011",DATUM["D_NAD83_National_Spatial_Reference_System_2011",SPHEROID["GRS_1980",6378137.0,298.257222101]],PRIMEM["Greenwich",0.0],UNIT["Degree",0.0174532925199433]],PROJECTION["Transverse_Mercator"],PARAMETER["false_easting",984250.0],PARAMETER["false_northing",0.0],PARAMETER["central_meridian",-88.3333333333333],PARAMETER["scale_factor",0.999975],PARAMETER["latitude_of_origin",36.6666666666667],UNIT["Foot_US",0.3048006096012192]],VERTCS["NAVD88 height (ftUS)",VDATUM["North American Vertical Datum 1988"],PARAMETER["Vertical_Shift",0.0],PARAMETER["Direction",1.0],UNIT["US survey foot",0.3048006096012192]]
Initial Extent:
XMin: 818512.7199999988
YMin: 1437000
XMax: 1012999.7199999988
YMax: 1620196
Spatial Reference: PROJCS["NAD_1983_2011_Illinois_East_ftUS",GEOGCS["GCS_NAD83_2011",DATUM["D_NAD83_National_Spatial_Reference_System_2011",SPHEROID["GRS_1980",6378137.0,298.257222101]],PRIMEM["Greenwich",0.0],UNIT["Degree",0.0174532925199433]],PROJECTION["Transverse_Mercator"],PARAMETER["false_easting",984250.0],PARAMETER["false_northing",0.0],PARAMETER["central_meridian",-88.3333333333333],PARAMETER["scale_factor",0.999975],PARAMETER["latitude_of_origin",36.6666666666667],UNIT["Foot_US",0.3048006096012192]],VERTCS["NAVD88 height (ftUS)",VDATUM["North American Vertical Datum 1988"],PARAMETER["Vertical_Shift",0.0],PARAMETER["Direction",1.0],UNIT["US survey foot",0.3048006096012192]]
Full Extent:
XMin: 818512.7199999988
YMin: 1437000
XMax: 1012999.7199999988
YMax: 1620196
Spatial Reference: PROJCS["NAD_1983_2011_Illinois_East_ftUS",GEOGCS["GCS_NAD83_2011",DATUM["D_NAD83_National_Spatial_Reference_System_2011",SPHEROID["GRS_1980",6378137.0,298.257222101]],PRIMEM["Greenwich",0.0],UNIT["Degree",0.0174532925199433]],PROJECTION["Transverse_Mercator"],PARAMETER["false_easting",984250.0],PARAMETER["false_northing",0.0],PARAMETER["central_meridian",-88.3333333333333],PARAMETER["scale_factor",0.999975],PARAMETER["latitude_of_origin",36.6666666666667],UNIT["Foot_US",0.3048006096012192]],VERTCS["NAVD88 height (ftUS)",VDATUM["North American Vertical Datum 1988"],PARAMETER["Vertical_Shift",0.0],PARAMETER["Direction",1.0],UNIT["US survey foot",0.3048006096012192]]
Pixel Size X: 1.0
Pixel Size Y: 1.0
Band Count: 1
Pixel Type: F32
RasterFunction Infos: {"rasterFunctionInfos": [{
"name": "None",
"description": "",
"help": ""
}]}
Mensuration Capabilities: Basic
Has Histograms: true
Has Colormap: false
Has Multi Dimensions : false
Rendering Rule:
Min Scale: 0
Max Scale: 0
Copyright Text:
Service Data Type: esriImageServiceDataTypeGeneric
Min Values: 558.1348266601562
Max Values: 838.1483154296875
Mean Values: 683.6361305652447
Standard Deviation Values: 44.47585799853091
Object ID Field:
Fields:
None
Default Mosaic Method: Center
Allowed Mosaic Methods:
SortField:
SortValue: null
Mosaic Operator: First
Default Compression Quality: 75
Default Resampling Method: Bicubic
Max Record Count: null
Max Image Height: 4100
Max Image Width: 15000
Max Download Image Count: null
Max Mosaic Image Count: null
Allow Raster Function: true
Allow Copy: true
Allow Analysis: true
Allow Compute TiePoints: false
Supports Statistics: false
Supports Advanced Queries: false
Use StandardizedQueries: true
Raster Type Infos:
Name: Raster Dataset
Description: Supports all ArcGIS Raster Datasets
Help:
Has Raster Attribute Table: false
Edit Fields Info: null
Ownership Based AccessControl For Rasters: null
Child Resources:
Info
Histograms
Statistics
Key Properties
Legend
Raster Function Infos
Supported Operations:
Export Image
Identify
Measure
Compute Histograms
Compute Statistics Histograms
Get Samples
Compute Class Statistics
Query Boundary
Compute Pixel Location
Compute Angles
Validate
Project